From mboxrd@z Thu Jan 1 00:00:00 1970 Return-Path: Received: from mails.dpdk.org (mails.dpdk.org [217.70.189.124]) by inbox.dpdk.org (Postfix) with ESMTP id 1858246AD3 for ; Tue, 1 Jul 2025 19:28:43 +0200 (CEST) Received: from mails.dpdk.org (localhost [127.0.0.1]) by mails.dpdk.org (Postfix) with ESMTP id 1353140264; Tue, 1 Jul 2025 19:28:43 +0200 (CEST) Received: from mail-vk1-f225.google.com (mail-vk1-f225.google.com [209.85.221.225]) by mails.dpdk.org (Postfix) with ESMTP id 69FBB40264 for ; Tue, 1 Jul 2025 19:28:41 +0200 (CEST) Received: by mail-vk1-f225.google.com with SMTP id 71dfb90a1353d-531426c7143so1091597e0c.0 for ; Tue, 01 Jul 2025 10:28:41 -0700 (PDT) DKIM-Signature: v=1; a=rsa-sha256; c=relaxed/relaxed; d=iol.unh.edu; s=unh-iol; t=1751390921; x=1751995721; darn=dpdk.org; h=references:in-reply-to:cc:to:from:subject:message-id:date:from:to :cc:subject:date:message-id:reply-to; bh=tjJu/mT1NTxDIJR8yGjNhCbFQhcbMPYpeGpNJJTI9mA=; b=A1BjmKPp2uUQRhOp3NAZwD8Pat8WqjXXTUVNilSuZIFuFY29PeNnXC+X8pJ9v6utfV qWb/r5W1lDGnYkryn9+K6rid2KX4BhH/iU+QZU0T4P/H4/Y3F0cR/2/mF5dZ1ZIhkH12 IuxCwTwnvDmsMSo61pGwFg/DVojSuwcGBHZZA= X-Google-DKIM-Signature: v=1; a=rsa-sha256; c=relaxed/relaxed; d=1e100.net; s=20230601; t=1751390921; x=1751995721; h=references:in-reply-to:cc:to:from:subject:message-id:date :x-gm-message-state:from:to:cc:subject:date:message-id:reply-to; bh=tjJu/mT1NTxDIJR8yGjNhCbFQhcbMPYpeGpNJJTI9mA=; b=qfrHTYnTtCGqgec6Xba5qLmJQhmcMPpOCK7O6eaWdmoUF4wLJhIPsRxtvL2b874ztf bkjsRqbQPTf5yXYPFzRX044vAedc6Lxnr0Ph2jg4KbXKoae9jbXntiP/YsmvDIKb2spG rMOT5RgXVHRvKKXaQrM6DoCyCqasqidU015pqu+dd8TxiUpMGIw3CtVwgbPrg3jXYdRN tu0GD9LFkwBSDKKITi1g9b9InkArNBsy4fjlnKgEYFW4hB0eUTp30QhuKNBXu5NLd1Im Ad5zE0i+QVETbLfbZSIkzD6J+wti2eSE+3J6CzAEZivm+NSG8PoHstumwt5wTf+bNchp j7ow== X-Gm-Message-State: AOJu0Yw5ibGvrENNUyWs+Zn1mH+rz2aYtx2orP+A7/9EGgERMgo7Aqjf /9N3dFu412EoZmbEAQYUWX0Mf50DRtrhcEIz5Ku2VtbTifV6wy7TDU+hfJzbRl24xEuvyh9Cg1Q bRU0VaGbQi4lvLolSvWw00RS/lFy8oamibhGNX6uHmwgFSGVLfYrEv/9HZO9m X-Gm-Gg: ASbGncuNe1gu1m8yB1GBrgigKULaeBVW0tiOW7gJDseFs6a4bloC12N5uUC8hBdhW4H jkXQ9+dCaDyThhUgtBqSu4fjdrVYDJZhfIPww8z+Qtr52u3vIPTGsiOuR9ZARasl0HJv33rvPOi 7O/748xcIMNjWAYE/up0dssym7Wm/kxD1crVLcCj3FpBUyjWIJ02db5E7JKvDsXkjrSpUMw7SPm 2xH22kCdbf7PZVdDlSSlJZ8N9KSY01+eh4/uTdGE/+TvZfn7refZMrJp8+iphfZBM9aHMPOfYgg ng/0x09oqK/Lyfa5a8YM7OpSGmZKQXgjNIfWTlEDPslk62c= X-Google-Smtp-Source: AGHT+IH8qN7jg53/gNSndD7+s5eEmQDDarQCfnb5jquAHcOU/hnOjR46U3B5hpQCzgMxkGp3zhd4GMorL15b X-Received: by 2002:a05:6122:ca2:b0:520:64ea:c479 with SMTP id 71dfb90a1353d-5330c1348d1mr11791480e0c.10.1751390920749; Tue, 01 Jul 2025 10:28:40 -0700 (PDT) Received: from postal.iol.unh.edu (postal.iol.unh.edu. [2606:4100:3880:1234::84]) by smtp-relay.gmail.com with ESMTPS id 71dfb90a1353d-533091e1ef8sm696069e0c.9.2025.07.01.10.28.40 (version=TLS1_2 cipher=ECDHE-ECDSA-AES128-GCM-SHA256 bits=128/128); Tue, 01 Jul 2025 10:28:40 -0700 (PDT) X-Relaying-Domain: iol.unh.edu Date: Tue, 01 Jul 2025 10:28:40 -0700 (PDT) Message-ID: <68641ac8.050a0220.39fbd2.6219SMTPIN_ADDED_MISSING@mx.google.com> Received: from [172.21.0.6] (unknown [172.18.0.240]) by postal.iol.unh.edu (Postfix) with ESMTP id 6B96E604D420; Tue, 1 Jul 2025 13:28:40 -0400 (EDT) Subject: |SUCCESS| pw154902 [PATCH] net/mlx5: fix masked indirect age action From: dpdklab@iol.unh.edu To: Test Report Cc: dpdk-test-reports@iol.unh.edu In-Reply-To: <20250701103253.318225-1-dsosnowski@nvidia.com> References: <20250701103253.318225-1-dsosnowski@nvidia.com> Content-Type: text/plain X-BeenThere: test-report@dpdk.org X-Mailman-Version: 2.1.29 Precedence: list List-Id: automatic DPDK test reports List-Unsubscribe: , List-Archive: List-Post: List-Help: List-Subscribe: , Errors-To: test-report-bounces@dpdk.org Test-Label: iol-abi-testing Test-Status: SUCCESS http://dpdk.org/patch/154902 _Testing PASS_ Submitter: Dariusz Sosnowski Date: Tuesday, July 01 2025 10:32:53 DPDK git baseline: Repo:dpdk Branch: master CommitID:5c0c1a13c34aa57c6e18f9ba852a9b5807c58b72 154902 --> testing pass Upstream job id: Generic-DPDK-Compile-ABI#132573 Test environment and result as below: +-------------------------------+----------+ | Environment | abi_test | +===============================+==========+ | CentOS Stream 10 | PASS | +-------------------------------+----------+ | CentOS Stream 9 | PASS | +-------------------------------+----------+ | Debian GNU/Linux 12 | PASS | +-------------------------------+----------+ | Fedora Linux 40 | PASS | +-------------------------------+----------+ | Fedora Linux 41 | PASS | +-------------------------------+----------+ | Red Hat Enterprise Linux 8.10 | PASS | +-------------------------------+----------+ | openSUSE Leap 15.6 | PASS | +-------------------------------+----------+ | Red Hat Enterprise Linux 9.5 | PASS | +-------------------------------+----------+ | Ubuntu 22.04 | PASS | +-------------------------------+----------+ | Ubuntu 24.04 | PASS | +-------------------------------+----------+ CentOS Stream 10 Kernel: 5.15 Compiler: gcc gcc (GCC) 14.2.1 20250110 (Red Hat 14.2.1-8) CentOS Stream 9 Kernel: 5.15 Compiler: gcc gcc (GCC) 11.5.0 20240719 (Red Hat 11.5.0-7) Debian GNU/Linux 12 Kernel: 5.15 Compiler: gcc gcc (Debian 12.2.0-14+deb12u1) 12.2.0 Fedora Linux 40 Kernel: 5.15 Compiler: clang gcc (GCC) 14.2.1 20240912 (Red Hat 14.2.1-3) Fedora Linux 41 Kernel: 5.15 Compiler: clang gcc (GCC) 14.3.1 20250523 (Red Hat 14.3.1-1) Red Hat Enterprise Linux 8.10 Kernel: 5.15 Compiler: gcc gcc (GCC) 8.5.0 20210514 (Red Hat 8.5.0-22) openSUSE Leap 15.6 Kernel: 5.15 Compiler: gcc gcc (SUSE Linux) 7.5.0 Red Hat Enterprise Linux 9.5 Kernel: 5.15 Compiler: gcc gcc (GCC) 11.5.0 20240719 (Red Hat 11.5.0-2) Ubuntu 22.04 Kernel: 5.15 Compiler: gcc gcc (Ubuntu 11.4.0-1ubuntu1~22.04) 11.4.0 Ubuntu 24.04 Kernel: 5.15 Compiler: gcc gcc (Ubuntu 13.3.0-6ubuntu2~24.04) 13.3.0 To view detailed results, visit: https://lab.dpdk.org/results/dashboard/patchsets/33553/ UNH-IOL DPDK Community Lab To manage your email subscriptions, visit: https://lab.dpdk.org/results/dashboard/preferences/subscriptions/