From mboxrd@z Thu Jan 1 00:00:00 1970 Return-Path: Received: from mails.dpdk.org (mails.dpdk.org [217.70.189.124]) by inbox.dpdk.org (Postfix) with ESMTP id 266CA46AD3 for ; Tue, 1 Jul 2025 19:28:48 +0200 (CEST) Received: from mails.dpdk.org (localhost [127.0.0.1]) by mails.dpdk.org (Postfix) with ESMTP id 2113840264; Tue, 1 Jul 2025 19:28:48 +0200 (CEST) Received: from mail-pl1-f226.google.com (mail-pl1-f226.google.com [209.85.214.226]) by mails.dpdk.org (Postfix) with ESMTP id 71AE140264 for ; Tue, 1 Jul 2025 19:28:46 +0200 (CEST) Received: by mail-pl1-f226.google.com with SMTP id d9443c01a7336-2350fc2591dso56506535ad.1 for ; Tue, 01 Jul 2025 10:28:46 -0700 (PDT) DKIM-Signature: v=1; a=rsa-sha256; c=relaxed/relaxed; d=iol.unh.edu; s=unh-iol; t=1751390925; x=1751995725; darn=dpdk.org; h=references:in-reply-to:cc:to:from:subject:message-id:date:from:to :cc:subject:date:message-id:reply-to; bh=zqbJ3XhLQI7QlwVbxYgGhR6ZNuOi2/j/AgBeSlucpjE=; b=UbXa3Lq8tFZaa6j/jYqpl2mEL7U8lkhJwptKVsfZgpe+vFLOvg4zz3D1fnEm05SV6j e8BhAqTltQnPKpnl5EkpnNO7gZYMtistAXPeQ3qkoQsuUT9vsSX0w07IZEdBBIpWK/9w DenuCUqOHpj1YY91jFAwCFFGDajRaYn9f8JH8= X-Google-DKIM-Signature: v=1; a=rsa-sha256; c=relaxed/relaxed; d=1e100.net; s=20230601; t=1751390925; x=1751995725; h=references:in-reply-to:cc:to:from:subject:message-id:date :x-gm-message-state:from:to:cc:subject:date:message-id:reply-to; bh=zqbJ3XhLQI7QlwVbxYgGhR6ZNuOi2/j/AgBeSlucpjE=; b=cNI+8ENV4uRcdqVEVgEmkCzmXQBtAU2DAQG6bD/W9029t2rj9g4u5A2/GI8ZcXewI/ A23Esi2lOxoqfyYl+9uVL++UcvaA/eP4lmp2L7CrbLAp5r/IsKQl5My08eXYBR3DQAxv fS7wuWhqWihu5LTwWetgZri1JW1l9Y+vZAXnhinDX426RFCzYL/vrYJiI/9CLQlJa4pH 63rlNycLNSA+u2L2D8nyWZtMUHrGAtXOu7yBBhXE6+W8ZDUUAK6hosYcv3N/LazMXzdh bWnf+V07jlegA4DmMZYyOpI4sc/WgCAtUZZT9F7hBpl5Jsu2WIgH6jT5pepst0K7xHDb uBvA== X-Gm-Message-State: AOJu0Yx6oGVX5H1nbflw7thdvBLlPbHSkjzeDz4WX3qwbowJ84bCz85Q J4gKI2XJApnMtMX13lJ3uhfKhC8QN9HyXid+aVmKOOrrefIkaM0Jl2OUs38zsVVGRnet8Dy6/5w 8rKKuaMDqQkhDfeMsvFZ3lPJqreGBzPOaI8srkdIMLiKBNRzLBeK6d7Onq/S6 X-Gm-Gg: ASbGnctZ5GVyXChotTyihEFITBrbSFMVA2JCha8j5jcclC8p/uZvPziOrILEpXDPKu5 O4ddiFHNrl3dCSKNPRcPwZkYGlv0cgk3tYEi/DYiUIo93QtKUsh43MI+l03a/bzbzW+XxLGof03 4ALTxhpAN04XZGC6fmgKN6be87X/IqEbQMjvgY1v3UqPtaU+xFC4GDAvaDwPrSUoXPMEu2j6/zv MVR2ZDvvcavQoxlwzB1OThNEkjf5Pa1ox+MF88SY9EAYxVyvmYhIOByeZsYgLsQrwpkl/KlO1PT Wm49BLcxvhdvc7C4XdQmiQ55VKHiRy3JnhosqfBsBhFR5Ww= X-Google-Smtp-Source: AGHT+IHknjTd3S1Dh+/7yY10YMl3z6z37nzZ6eFaFsfLNF7RBfZ9LUfC3HCnkWpl/sFE+Dvm2amehi53DM2o X-Received: by 2002:a17:903:3c48:b0:234:9dce:74e3 with SMTP id d9443c01a7336-23b35488538mr73240585ad.2.1751390925549; Tue, 01 Jul 2025 10:28:45 -0700 (PDT) Received: from postal.iol.unh.edu (postal.iol.unh.edu. [2606:4100:3880:1234::84]) by smtp-relay.gmail.com with ESMTPS id d9443c01a7336-23acb2f20f0sm5789155ad.46.2025.07.01.10.28.45 (version=TLS1_2 cipher=ECDHE-ECDSA-AES128-GCM-SHA256 bits=128/128); Tue, 01 Jul 2025 10:28:45 -0700 (PDT) X-Relaying-Domain: iol.unh.edu Date: Tue, 01 Jul 2025 10:28:45 -0700 (PDT) Message-ID: <68641acd.170a0220.380eef.2849SMTPIN_ADDED_MISSING@mx.google.com> Received: from [172.21.0.7] (unknown [172.18.0.240]) by postal.iol.unh.edu (Postfix) with ESMTP id 0CF16604D420; Tue, 1 Jul 2025 13:28:45 -0400 (EDT) Subject: |SUCCESS| pw154745-154748 [PATCH] [v2,4/4] dts: add physical functio From: dpdklab@iol.unh.edu To: Test Report Cc: dpdk-test-reports@iol.unh.edu In-Reply-To: <20250626152755.197560-4-dmarx@iol.unh.edu> References: <20250626152755.197560-4-dmarx@iol.unh.edu> Content-Type: text/plain X-BeenThere: test-report@dpdk.org X-Mailman-Version: 2.1.29 Precedence: list List-Id: automatic DPDK test reports List-Unsubscribe: , List-Archive: List-Post: List-Help: List-Subscribe: , Errors-To: test-report-bounces@dpdk.org Test-Label: iol-abi-testing Test-Status: SUCCESS http://dpdk.org/patch/154748 _Testing PASS_ Submitter: Dean Marx Date: Thursday, June 26 2025 15:27:55 DPDK git baseline: Repo:dpdk Branch: master CommitID:72623d4689c4cd954324f8322080a957905b047d 154745-154748 --> testing pass Upstream job id: Generic-DPDK-Compile-ABI#132580 Test environment and result as below: +-------------------------------+----------+ | Environment | abi_test | +===============================+==========+ | CentOS Stream 10 | PASS | +-------------------------------+----------+ | Fedora Linux 40 | PASS | +-------------------------------+----------+ | Fedora Linux 41 | PASS | +-------------------------------+----------+ | openSUSE Leap 15.6 | PASS | +-------------------------------+----------+ | Red Hat Enterprise Linux 8.10 | PASS | +-------------------------------+----------+ | Red Hat Enterprise Linux 9.5 | PASS | +-------------------------------+----------+ | Ubuntu 22.04 | PASS | +-------------------------------+----------+ | Ubuntu 24.04 | PASS | +-------------------------------+----------+ | CentOS Stream 9 | PASS | +-------------------------------+----------+ | Debian GNU/Linux 12 | PASS | +-------------------------------+----------+ CentOS Stream 10 Kernel: 5.15 Compiler: gcc gcc (GCC) 14.2.1 20250110 (Red Hat 14.2.1-8) Fedora Linux 40 Kernel: 5.15 Compiler: clang gcc (GCC) 14.2.1 20240912 (Red Hat 14.2.1-3) Fedora Linux 41 Kernel: 5.15 Compiler: gcc gcc (GCC) 14.3.1 20250523 (Red Hat 14.3.1-1) openSUSE Leap 15.6 Kernel: 5.15 Compiler: gcc gcc (SUSE Linux) 7.5.0 Red Hat Enterprise Linux 8.10 Kernel: 5.15 Compiler: gcc gcc (GCC) 8.5.0 20210514 (Red Hat 8.5.0-22) Red Hat Enterprise Linux 9.5 Kernel: 5.15 Compiler: gcc gcc (GCC) 11.5.0 20240719 (Red Hat 11.5.0-2) Ubuntu 22.04 Kernel: 5.15 Compiler: gcc gcc (Ubuntu 11.4.0-1ubuntu1~22.04) 11.4.0 Ubuntu 24.04 Kernel: 5.15 Compiler: gcc gcc (Ubuntu 13.3.0-6ubuntu2~24.04) 13.3.0 CentOS Stream 9 Kernel: 5.15 Compiler: gcc gcc (GCC) 11.5.0 20240719 (Red Hat 11.5.0-7) Debian GNU/Linux 12 Kernel: 5.15 Compiler: gcc gcc (Debian 12.2.0-14+deb12u1) 12.2.0 To view detailed results, visit: https://lab.dpdk.org/results/dashboard/patchsets/33514/ UNH-IOL DPDK Community Lab To manage your email subscriptions, visit: https://lab.dpdk.org/results/dashboard/preferences/subscriptions/