From mboxrd@z Thu Jan 1 00:00:00 1970 Return-Path: Received: from mails.dpdk.org (mails.dpdk.org [217.70.189.124]) by inbox.dpdk.org (Postfix) with ESMTP id 418C346AD3 for ; Tue, 1 Jul 2025 19:29:39 +0200 (CEST) Received: from mails.dpdk.org (localhost [127.0.0.1]) by mails.dpdk.org (Postfix) with ESMTP id 3B9A040264; Tue, 1 Jul 2025 19:29:39 +0200 (CEST) Received: from mail-io1-f98.google.com (mail-io1-f98.google.com [209.85.166.98]) by mails.dpdk.org (Postfix) with ESMTP id AA1B940264 for ; Tue, 1 Jul 2025 19:29:37 +0200 (CEST) Received: by mail-io1-f98.google.com with SMTP id ca18e2360f4ac-875b52a09d1so98777139f.0 for ; Tue, 01 Jul 2025 10:29:37 -0700 (PDT) DKIM-Signature: v=1; a=rsa-sha256; c=relaxed/relaxed; d=iol.unh.edu; s=unh-iol; t=1751390977; x=1751995777; darn=dpdk.org; h=references:in-reply-to:cc:to:from:subject:message-id:date:from:to :cc:subject:date:message-id:reply-to; bh=UvfZzFzwiyXLmi3NQmX/LQ12504AtrtTBAkEhchIk4k=; b=i1a7/OmV4X0eDTMKmXW/r5uoLeV8Uo2wPk+vYauUuqhDo85BeH+4r0z20XfZk9oHUD ptf1Cmq5MQxNA/rRahs1Z2rSdiRlHPpAhLi+WtCfQC0DftGA2YKm0mEJaqNoeNAOiltn RRnPjniuy6TqoQONDOvBESluLy5rSr0xjyBBc= X-Google-DKIM-Signature: v=1; a=rsa-sha256; c=relaxed/relaxed; d=1e100.net; s=20230601; t=1751390977; x=1751995777; h=references:in-reply-to:cc:to:from:subject:message-id:date :x-gm-message-state:from:to:cc:subject:date:message-id:reply-to; bh=UvfZzFzwiyXLmi3NQmX/LQ12504AtrtTBAkEhchIk4k=; b=GPkdB9iWCiiaLhBQcvXx7BxsX0qA3qmNlb5qRnXx22fsd+ZwzubLsO3LvF7D9cLGB3 pPlWkZpnYnJ+V4+1+mjcQcHmqzHp6qOiiUsuPdywR3ha3JBj90Qlzf2/v8zre7a/emhL I+iSVRR7jqDqmOwgP3qk9i7iUVH6MwCXMQyA3MlIlHfTD8JOOpCVO2JGApPPuP7lVrrE YKJbQuJB6UpbFjFRTED+qtbWYQx/W/vSiYFs5+w8qQ0wLJrmgTVmpLJ0oxU93CABnQZ3 gAVgHS2x95QzrnxLwRQnE+t1RerjjbqLnJbQgxNPNng75c02R5YhH+reKBMGsk+8OEYC c+5Q== X-Gm-Message-State: AOJu0YycFKlSleOgoegXRBvCLGY1lWZ+tFhfMnkr7e4+dd+1yiR3fujU 4QdaZdK9gtQ9tgapGwfXnLlkaD7DpQpSEm8kUTizYtz0ZANFzJdCfDnLwoYICjwr/T7eswIPU9w c82qiHkvW7IfQmnIfYq3lIuKudHTPsfKprqq2x+5xtM+2WtC6jki5DsOuSula X-Gm-Gg: ASbGncu89dl6/Fh/Zc2wWRUp5qg3W+hA3wHb9E/ugC461rsGaoAyFfmBEaUurCMbDwv 8Yll8lgBj4RK0+q+6hjGDLR9pcv3ImzLS/sLxk013eJfFdE+UARENTN+5+kct8FwzmBMWGD+S5k Mts6EmV/Z6QQVpuacDW6ld7CK1vgREElkiVC9kpGunI5uL5Zttj538N2BBg94/mccvfgGmlkM2g dcDwtk2hrXft+o3Gw+krIxSSXlZXd2dyJShYoVw4yAm0YMY7AJpm+eyAKdodTCVRj3+EwgziMBM XL+9eh7yn/P1zmIsf0FdQiyfNuonEuqrkV0rQQKr/okke2M= X-Google-Smtp-Source: AGHT+IGy1OJ0fteaHB4yt/Zb6ECv9mout8Xev0hF7oj3YHLQ8rh/7b1oOAt/9rZ/SHx8M+f044opCRDUhC8c X-Received: by 2002:a05:6602:1354:b0:873:f22:92fb with SMTP id ca18e2360f4ac-8768825b3e1mr1896328239f.1.1751390976954; Tue, 01 Jul 2025 10:29:36 -0700 (PDT) Received: from postal.iol.unh.edu (postal.iol.unh.edu. [2606:4100:3880:1234::84]) by smtp-relay.gmail.com with ESMTPS id 8926c6da1cb9f-50204a3fe85sm415972173.47.2025.07.01.10.29.36 (version=TLS1_2 cipher=ECDHE-ECDSA-AES128-GCM-SHA256 bits=128/128); Tue, 01 Jul 2025 10:29:36 -0700 (PDT) X-Relaying-Domain: iol.unh.edu Date: Tue, 01 Jul 2025 10:29:36 -0700 (PDT) Message-ID: <68641b00.050a0220.1367a1.6849SMTPIN_ADDED_MISSING@mx.google.com> Received: from [172.21.0.8] (unknown [172.18.0.240]) by postal.iol.unh.edu (Postfix) with ESMTP id 76A72604D420; Tue, 1 Jul 2025 13:29:36 -0400 (EDT) Subject: |WARNING| pw154743 [PATCH] eventdev: make flag types consistent with From: dpdklab@iol.unh.edu To: Test Report Cc: dpdk-test-reports@iol.unh.edu In-Reply-To: <20250626135238.168921-1-mattias.ronnblom@ericsson.com> References: <20250626135238.168921-1-mattias.ronnblom@ericsson.com> Content-Type: text/plain X-BeenThere: test-report@dpdk.org X-Mailman-Version: 2.1.29 Precedence: list List-Id: automatic DPDK test reports List-Unsubscribe: , List-Archive: List-Post: List-Help: List-Subscribe: , Errors-To: test-report-bounces@dpdk.org Test-Label: iol-compile-amd64-testing Test-Status: WARNING http://dpdk.org/patch/154743 _Testing issues_ Submitter: Mattias Ronnblom Date: Thursday, June 26 2025 13:52:38 DPDK git baseline: Repo:dpdk Branch: master CommitID:0e33d08eaf77f8f7cab1e238cdba97ac92266034 154743 --> testing issues Upstream job id: Generic-DPDK-Compile-Meson#404187 Test environment and result as below: +-------------------------------+--------------------+-------------------+-------------------+------------------+-------------------------+----------------------+ | Environment | dpdk_meson_compile | dpdk_msvc_compile | dpdk_compile_spdk | dpdk_compile_ovs | dpdk_llvm_clang_compile | dpdk_mingw64_compile | +===============================+====================+===================+===================+==================+=========================+======================+ | Ubuntu 20.04 | PASS | SKIPPED | SKIPPED | SKIPPED | SKIPPED | SKIPPED | +-------------------------------+--------------------+-------------------+-------------------+------------------+-------------------------+----------------------+ | FreeBSD 14.2 | PASS | SKIPPED | SKIPPED | SKIPPED | SKIPPED | SKIPPED | +-------------------------------+--------------------+-------------------+-------------------+------------------+-------------------------+----------------------+ | CentOS Stream 9 | PASS | SKIPPED | PASS | SKIPPED | SKIPPED | SKIPPED | +-------------------------------+--------------------+-------------------+-------------------+------------------+-------------------------+----------------------+ | CentOS Stream 10 | PASS | SKIPPED | SKIPPED | SKIPPED | SKIPPED | SKIPPED | +-------------------------------+--------------------+-------------------+-------------------+------------------+-------------------------+----------------------+ | Debian GNU/Linux 12 | PASS | SKIPPED | PASS | SKIPPED | SKIPPED | SKIPPED | +-------------------------------+--------------------+-------------------+-------------------+------------------+-------------------------+----------------------+ | Fedora Linux 40 | PASS | SKIPPED | PASS | SKIPPED | SKIPPED | SKIPPED | +-------------------------------+--------------------+-------------------+-------------------+------------------+-------------------------+----------------------+ | Fedora Linux 41 | PASS | SKIPPED | PASS | PASS | SKIPPED | SKIPPED | +-------------------------------+--------------------+-------------------+-------------------+------------------+-------------------------+----------------------+ | openSUSE Leap 15.6 | PASS | SKIPPED | SKIPPED | SKIPPED | SKIPPED | SKIPPED | +-------------------------------+--------------------+-------------------+-------------------+------------------+-------------------------+----------------------+ | Red Hat Enterprise Linux 8.10 | PASS | SKIPPED | SKIPPED | SKIPPED | SKIPPED | SKIPPED | +-------------------------------+--------------------+-------------------+-------------------+------------------+-------------------------+----------------------+ | Red Hat Enterprise Linux 9.5 | PASS | SKIPPED | SKIPPED | SKIPPED | SKIPPED | SKIPPED | +-------------------------------+--------------------+-------------------+-------------------+------------------+-------------------------+----------------------+ | Ubuntu 22.04 | PASS | SKIPPED | PASS | SKIPPED | SKIPPED | SKIPPED | +-------------------------------+--------------------+-------------------+-------------------+------------------+-------------------------+----------------------+ | Ubuntu 24.04 | PASS | SKIPPED | PASS | PASS | SKIPPED | SKIPPED | +-------------------------------+--------------------+-------------------+-------------------+------------------+-------------------------+----------------------+ | Alpine Linux 3.22.0 | PASS | SKIPPED | SKIPPED | SKIPPED | SKIPPED | SKIPPED | +-------------------------------+--------------------+-------------------+-------------------+------------------+-------------------------+----------------------+ | Windows Server 2022 | SKIPPED | PASS | SKIPPED | SKIPPED | PASS | PASS | +-------------------------------+--------------------+-------------------+-------------------+------------------+-------------------------+----------------------+ Ubuntu 20.04 Kernel: 4.19 Compiler: gcc gcc (Ubuntu 9.4.0-1ubuntu1~20.04.2) 9.4.0 FreeBSD 14.2 Kernel: 14.2-RELEASE Compiler: clang 18.1.6 CentOS Stream 9 Kernel: 5.15 Compiler: gcc gcc (GCC) 11.5.0 20240719 (Red Hat 11.5.0-7) CentOS Stream 10 Kernel: 5.15 Compiler: gcc gcc (GCC) 14.2.1 20250110 (Red Hat 14.2.1-8) Debian GNU/Linux 12 Kernel: 5.15 Compiler: gcc gcc (Debian 12.2.0-14+deb12u1) 12.2.0 Fedora Linux 40 Kernel: 5.15 Compiler: clang gcc (GCC) 14.2.1 20240912 (Red Hat 14.2.1-3) Fedora Linux 41 Kernel: 5.15 Compiler: clang gcc (GCC) 14.3.1 20250523 (Red Hat 14.3.1-1) openSUSE Leap 15.6 Kernel: 5.15 Compiler: gcc gcc (SUSE Linux) 7.5.0 Red Hat Enterprise Linux 8.10 Kernel: 5.15 Compiler: gcc gcc (GCC) 8.5.0 20210514 (Red Hat 8.5.0-22) Red Hat Enterprise Linux 9.5 Kernel: 5.15 Compiler: gcc gcc (GCC) 11.5.0 20240719 (Red Hat 11.5.0-2) Ubuntu 22.04 Kernel: 5.15 Compiler: gcc gcc (Ubuntu 11.4.0-1ubuntu1~22.04) 11.4.0 Ubuntu 24.04 Kernel: 5.15 Compiler: gcc gcc (Ubuntu 13.3.0-6ubuntu2~24.04) 13.3.0 Alpine Linux 3.22.0 Kernel: 5.15 Compiler: gcc gcc (Alpine 14.2.0) 14.2.0 Windows Server 2022 Kernel: 10.0.20348.2031 Compiler: clang 15.0.7, gcc 14.1.0 (MinGW), and MSVC VS 19.39.33521 To view detailed results, visit: https://lab.dpdk.org/results/dashboard/patchsets/33512/ UNH-IOL DPDK Community Lab To manage your email subscriptions, visit: https://lab.dpdk.org/results/dashboard/preferences/subscriptions/