From mboxrd@z Thu Jan 1 00:00:00 1970 Return-Path: Received: from mails.dpdk.org (mails.dpdk.org [217.70.189.124]) by inbox.dpdk.org (Postfix) with ESMTP id 564BC46AD3 for ; Tue, 1 Jul 2025 19:30:16 +0200 (CEST) Received: from mails.dpdk.org (localhost [127.0.0.1]) by mails.dpdk.org (Postfix) with ESMTP id 4F0E640264; Tue, 1 Jul 2025 19:30:16 +0200 (CEST) Received: from mail-pf1-f228.google.com (mail-pf1-f228.google.com [209.85.210.228]) by mails.dpdk.org (Postfix) with ESMTP id DA0E340264 for ; Tue, 1 Jul 2025 19:30:14 +0200 (CEST) Received: by mail-pf1-f228.google.com with SMTP id d2e1a72fcca58-74924255af4so3074636b3a.1 for ; Tue, 01 Jul 2025 10:30:14 -0700 (PDT) DKIM-Signature: v=1; a=rsa-sha256; c=relaxed/relaxed; d=iol.unh.edu; s=unh-iol; t=1751391014; x=1751995814; darn=dpdk.org; h=references:in-reply-to:cc:to:from:subject:message-id:date:from:to :cc:subject:date:message-id:reply-to; bh=UXgnGJ+LEaB7XLRLzgkickdk9ldGo9EsTL+LVxuHXQo=; b=TFfQ4FTrvrtDHbFVwKa1RU0O77iAUxTNCbEtlhSTtipTHtqMZ/6tcT2pq0Fbz24klC yYBjsYAVtCgNX8GfhK5Qn6JfgMHo+8wP2MS9WDODBRXW6Kl3ofsp3cw1i3/Yq/rMdpqr eqIEKHTOgYUHY0q+pef5Xq/neHo7HMCD/h4Bw= X-Google-DKIM-Signature: v=1; a=rsa-sha256; c=relaxed/relaxed; d=1e100.net; s=20230601; t=1751391014; x=1751995814; h=references:in-reply-to:cc:to:from:subject:message-id:date :x-gm-message-state:from:to:cc:subject:date:message-id:reply-to; bh=UXgnGJ+LEaB7XLRLzgkickdk9ldGo9EsTL+LVxuHXQo=; b=CfgDoULu6JpQd97RyMimqoq3MO1NWykI7QUYWhJ1l8edZi0vr21wCPPC82XIsv8u+N 5v2SAPhRNZ40mFHe76vtlTaBMHivVY1HPt9AR1Tu2MiNVry6q+q9BQauMxbbDooZjhoj dQXKMQU/FswvqRO5TjTteqmr/8rKtYSO/ZyRs+bZ0I4O/r5ApozTopN8xwe/Tqh5b8sR nvW4NFhvKBqJeAjlIQAuKv5wrCd2HUuHbG5D1HnspEzgfWMXjFsVA6bNzYwzDhj0Fh2x IETXUGYzz0tbBQ8T0KiLiLZH/tvn8BxEluMWy1rfhpd7pgP5zwPEnjjPZe+zfRCTvaeB JV+g== X-Gm-Message-State: AOJu0YzJ9UgF8MK+sfT8LL53Bn2M3pl3q9B+QDeP3A+sgNSVccOI/Qtm vW7EZUif89Vf71AAiTGPFH1rqYNaSgwcGSUQHRCs9JzSpflBuhDbCGTgyDrdMwZQM6rw1Z387qs C8MLa0lK0e6mNBT5rtorxDvBRuX1CLtUuSfCJDevmecVa50/jEcCnMZ1sAwGv X-Gm-Gg: ASbGncvjsLMTCSpc4hoEYv44ud1zNo/N2nN6a0HGlskHtyBJuSyKwLOfNG0kROlMYwo 256KYpU1p1CMdrvv/YPoHU1z4ZA02B784maJaEsjtJIlhC1WZofK7KHqoLm0xqCR2PqoSacBpfE vDNMuE0qCH5h3FCa8u6u90hi3vA1yxnyMe1RQr9nYxW3quE5GoVQjNqf5Mmm9Mna4W5c/bPZ5Qa fd19e9gZySxzn+YBakFUlu0C/lIAbjGyzKO61o8YNBeWhwPLGuSat+ZRvYcJLltXUcSZhywDCPx GGv/TmL+81N2IolZxFJdP6PVi3gq9o6EgeFiDmXMufx4RgM= X-Google-Smtp-Source: AGHT+IEKxNEFpcFvYWOfJPtL7lOOb7ddDwF7X0XneGmwAqJq2lXRqr32+vmFLJem0u0GQtX/K8PQBuYtQzEQ X-Received: by 2002:a05:6a00:2308:b0:736:a8db:93b4 with SMTP id d2e1a72fcca58-74af6e3f36dmr24313317b3a.2.1751391013926; Tue, 01 Jul 2025 10:30:13 -0700 (PDT) Received: from postal.iol.unh.edu (postal.iol.unh.edu. [2606:4100:3880:1234::84]) by smtp-relay.gmail.com with ESMTPS id d2e1a72fcca58-74af551a5e1sm578762b3a.22.2025.07.01.10.30.13 (version=TLS1_2 cipher=ECDHE-ECDSA-AES128-GCM-SHA256 bits=128/128); Tue, 01 Jul 2025 10:30:13 -0700 (PDT) X-Relaying-Domain: iol.unh.edu Date: Tue, 01 Jul 2025 10:30:13 -0700 (PDT) Message-ID: <68641b25.050a0220.374219.f94bSMTPIN_ADDED_MISSING@mx.google.com> Received: from [172.21.0.7] (unknown [172.18.0.240]) by postal.iol.unh.edu (Postfix) with ESMTP id 145FE604D420; Tue, 1 Jul 2025 13:30:13 -0400 (EDT) Subject: |SUCCESS| pw154902 [PATCH] net/mlx5: fix masked indirect age action From: dpdklab@iol.unh.edu To: Test Report Cc: dpdk-test-reports@iol.unh.edu In-Reply-To: <20250701103253.318225-1-dsosnowski@nvidia.com> References: <20250701103253.318225-1-dsosnowski@nvidia.com> Content-Type: text/plain X-BeenThere: test-report@dpdk.org X-Mailman-Version: 2.1.29 Precedence: list List-Id: automatic DPDK test reports List-Unsubscribe: , List-Archive: List-Post: List-Help: List-Subscribe: , Errors-To: test-report-bounces@dpdk.org Test-Label: iol-abi-testing Test-Status: SUCCESS http://dpdk.org/patch/154902 _Testing PASS_ Submitter: Dariusz Sosnowski Date: Tuesday, July 01 2025 10:32:53 DPDK git baseline: Repo:dpdk Branch: master CommitID:5c0c1a13c34aa57c6e18f9ba852a9b5807c58b72 154902 --> testing pass Upstream job id: Generic-DPDK-Compile-ABI#132578 Test environment and result as below: +-------------------------------+----------+ | Environment | abi_test | +===============================+==========+ | CentOS Stream 10 | PASS | +-------------------------------+----------+ | CentOS Stream 9 | PASS | +-------------------------------+----------+ | Debian GNU/Linux 12 | PASS | +-------------------------------+----------+ | Fedora Linux 40 | PASS | +-------------------------------+----------+ | Fedora Linux 41 | PASS | +-------------------------------+----------+ | Red Hat Enterprise Linux 8.10 | PASS | +-------------------------------+----------+ | openSUSE Leap 15.6 | PASS | +-------------------------------+----------+ | Red Hat Enterprise Linux 9.5 | PASS | +-------------------------------+----------+ | Ubuntu 22.04 | PASS | +-------------------------------+----------+ | Ubuntu 24.04 | PASS | +-------------------------------+----------+ CentOS Stream 10 Kernel: 5.15 Compiler: gcc gcc (GCC) 14.2.1 20250110 (Red Hat 14.2.1-8) CentOS Stream 9 Kernel: 5.15 Compiler: gcc gcc (GCC) 11.5.0 20240719 (Red Hat 11.5.0-7) Debian GNU/Linux 12 Kernel: 5.15 Compiler: gcc gcc (Debian 12.2.0-14+deb12u1) 12.2.0 Fedora Linux 40 Kernel: 5.15 Compiler: clang gcc (GCC) 14.2.1 20240912 (Red Hat 14.2.1-3) Fedora Linux 41 Kernel: 5.15 Compiler: clang gcc (GCC) 14.3.1 20250523 (Red Hat 14.3.1-1) Red Hat Enterprise Linux 8.10 Kernel: 5.15 Compiler: gcc gcc (GCC) 8.5.0 20210514 (Red Hat 8.5.0-22) openSUSE Leap 15.6 Kernel: 5.15 Compiler: gcc gcc (SUSE Linux) 7.5.0 Red Hat Enterprise Linux 9.5 Kernel: 5.15 Compiler: gcc gcc (GCC) 11.5.0 20240719 (Red Hat 11.5.0-2) Ubuntu 22.04 Kernel: 5.15 Compiler: gcc gcc (Ubuntu 11.4.0-1ubuntu1~22.04) 11.4.0 Ubuntu 24.04 Kernel: 5.15 Compiler: gcc gcc (Ubuntu 13.3.0-6ubuntu2~24.04) 13.3.0 To view detailed results, visit: https://lab.dpdk.org/results/dashboard/patchsets/33553/ UNH-IOL DPDK Community Lab To manage your email subscriptions, visit: https://lab.dpdk.org/results/dashboard/preferences/subscriptions/