From mboxrd@z Thu Jan 1 00:00:00 1970 Return-Path: Received: from mails.dpdk.org (mails.dpdk.org [217.70.189.124]) by inbox.dpdk.org (Postfix) with ESMTP id 64BB646AD3 for ; Tue, 1 Jul 2025 19:30:31 +0200 (CEST) Received: from mails.dpdk.org (localhost [127.0.0.1]) by mails.dpdk.org (Postfix) with ESMTP id 5F60140264; Tue, 1 Jul 2025 19:30:31 +0200 (CEST) Received: from mail-il1-f228.google.com (mail-il1-f228.google.com [209.85.166.228]) by mails.dpdk.org (Postfix) with ESMTP id 85A4640264 for ; Tue, 1 Jul 2025 19:30:29 +0200 (CEST) Received: by mail-il1-f228.google.com with SMTP id e9e14a558f8ab-3df3ce3ec91so14075445ab.2 for ; Tue, 01 Jul 2025 10:30:29 -0700 (PDT) DKIM-Signature: v=1; a=rsa-sha256; c=relaxed/relaxed; d=iol.unh.edu; s=unh-iol; t=1751391029; x=1751995829; darn=dpdk.org; h=references:in-reply-to:cc:to:from:subject:message-id:date:from:to :cc:subject:date:message-id:reply-to; bh=0gbFakA+hcIoI2LYJjU7ws+6aNlrpLpQF3KqWTa3rlo=; b=jmrwYpsxXp3/Aq03vzAE8p8JEm16fAAPwsw6Q5K0AlQBfQnAScAq3fSrPAyqgCL01N VRtkS6eb7/gAXFSn9xNs1xBbF9iSVf00OdAFJJaMbzulY9dy3bMB75zwjjZ3hk4PH7l2 iEruWdJdOCm+lMtIFQ7kI9XqF53YvK4d3J9bg= X-Google-DKIM-Signature: v=1; a=rsa-sha256; c=relaxed/relaxed; d=1e100.net; s=20230601; t=1751391029; x=1751995829; h=references:in-reply-to:cc:to:from:subject:message-id:date :x-gm-message-state:from:to:cc:subject:date:message-id:reply-to; bh=0gbFakA+hcIoI2LYJjU7ws+6aNlrpLpQF3KqWTa3rlo=; b=Zy/Xmrl1/DL7jE65GMhJBtRpQk8Kid942D9iv6dfo2CfV4So688ZKYSWw7b6O5xcDg 4l+JeiQW5etaLpf/vepWDt0u9asgY8bv9klfQM+HvTJL3bXt3ZOxH7AW+KNUJCliSW9a zFSlTiXTqPK6aNxPx5Sy+suH2uAOzbUkOggZPr5QgNkmnG3QYkg8SKkULSFulKeqfC20 cpFoEI59vMoM6xT8qBiB4Hpfgf1gIxl3WG1Y1Aapp65nmDBw3UrbPdHq42xRHOnF1cHJ rUd62S0ZyWAFA+IuxvpuJrT3hSGTZ0HYlTb4w4GG88i19LXjrxcbcl624DokQ/VuU/ve DxVA== X-Gm-Message-State: AOJu0YwkkkvWUSJmDLd6bkGRvS4B4DX5PhOIar6QbHiCkIi8Gsebe6va 5jNdE7ytfyH7Iq8f2QOLqatmVMWWLRfZh1hz/xWnFCkv6ZAosaiI2XpRqH38mRF3UcGESy58GWl FWCJmSfkpxYOYdezysjKdRYbzB5t1Wu7rZ2Le1MmEThJQ97/iCGSr0fd56K6E X-Gm-Gg: ASbGncsuOOHvMrnfgxdTzz1nEQw8u+iD/6e2oyy9B8tACbUA5u+g+vDYTUUOyLad3uJ pWQm1IQ7apamKPdk7Oz68PkFXnZKufeTVegJFhJtj/pYQ6etHTzIG7YBdKWW1IY6f8zviDMaqbN sZr2nt8l0EU2oBEM1/i6+IRTa0FEiXQYreQ0PbygNIL1hwL+S+19ngntHfUBmvrkXjWDPl6eENy VMuSHnJ4p0MC53Y8sNOqvSII1+K7ZSNKgD54xmlEmlOz/PyNNnjeDRz8Cb1U60uZfkCpGwZlL6E vaajvIEkS/o/lvuK7k/aoKi4xYB85BIfvNTGHTzQGqS5uGo= X-Google-Smtp-Source: AGHT+IGOdkkn9xsiVuOqeyMfFmZAzCupSX16hDhZ52AYTMyynKU7CnC60JmfTO1yqnIHg7UR5zm59WwprqWT X-Received: by 2002:a05:6e02:248e:b0:3df:29c5:2976 with SMTP id e9e14a558f8ab-3df4ab85a5amr187592745ab.14.1751391028777; Tue, 01 Jul 2025 10:30:28 -0700 (PDT) Received: from postal.iol.unh.edu (postal.iol.unh.edu. [2606:4100:3880:1234::84]) by smtp-relay.gmail.com with ESMTPS id 8926c6da1cb9f-50204aaf740sm397232173.69.2025.07.01.10.30.28 (version=TLS1_2 cipher=ECDHE-ECDSA-AES128-GCM-SHA256 bits=128/128); Tue, 01 Jul 2025 10:30:28 -0700 (PDT) X-Relaying-Domain: iol.unh.edu Date: Tue, 01 Jul 2025 10:30:28 -0700 (PDT) Message-ID: <68641b34.050a0220.340805.4e6fSMTPIN_ADDED_MISSING@mx.google.com> Received: from [172.21.0.16] (unknown [172.18.0.240]) by postal.iol.unh.edu (Postfix) with ESMTP id 2DC3C604D420; Tue, 1 Jul 2025 13:30:28 -0400 (EDT) Subject: |SUCCESS| pw154902 [PATCH] net/mlx5: fix masked indirect age action From: dpdklab@iol.unh.edu To: Test Report Cc: dpdk-test-reports@iol.unh.edu In-Reply-To: <20250701103253.318225-1-dsosnowski@nvidia.com> References: <20250701103253.318225-1-dsosnowski@nvidia.com> Content-Type: text/plain X-BeenThere: test-report@dpdk.org X-Mailman-Version: 2.1.29 Precedence: list List-Id: automatic DPDK test reports List-Unsubscribe: , List-Archive: List-Post: List-Help: List-Subscribe: , Errors-To: test-report-bounces@dpdk.org Test-Label: iol-unit-arm64-testing Test-Status: SUCCESS http://dpdk.org/patch/154902 _Testing PASS_ Submitter: Dariusz Sosnowski Date: Tuesday, July 01 2025 10:32:53 DPDK git baseline: Repo:dpdk Branch: master CommitID:5c0c1a13c34aa57c6e18f9ba852a9b5807c58b72 154902 --> testing pass Upstream job id: Generic-Unit-Test-DPDK#351488 Test environment and result as below: +------------------------------+----------------+--------------+------------------------------+---------------------------+ | Environment | dpdk_unit_test | lpm_autotest | cryptodev_sw_snow3g_autotest | cryptodev_sw_zuc_autotest | +==============================+================+==============+==============================+===========================+ | CentOS Stream 9 | PASS | SKIPPED | SKIPPED | SKIPPED | +------------------------------+----------------+--------------+------------------------------+---------------------------+ | CentOS Stream 10 | PASS | SKIPPED | SKIPPED | SKIPPED | +------------------------------+----------------+--------------+------------------------------+---------------------------+ | Fedora Linux 40 | PASS | SKIPPED | SKIPPED | SKIPPED | +------------------------------+----------------+--------------+------------------------------+---------------------------+ | Fedora Linux 41 | PASS | SKIPPED | SKIPPED | SKIPPED | +------------------------------+----------------+--------------+------------------------------+---------------------------+ | Debian GNU/Linux 12 | PASS | SKIPPED | SKIPPED | SKIPPED | +------------------------------+----------------+--------------+------------------------------+---------------------------+ | Red Hat Enterprise Linux 9.5 | PASS | SKIPPED | SKIPPED | SKIPPED | +------------------------------+----------------+--------------+------------------------------+---------------------------+ | Ubuntu 20.04 | PASS | PASS | SKIPPED | SKIPPED | +------------------------------+----------------+--------------+------------------------------+---------------------------+ | Ubuntu 22.04 | PASS | SKIPPED | SKIPPED | SKIPPED | +------------------------------+----------------+--------------+------------------------------+---------------------------+ | Ubuntu 24.04 | PASS | SKIPPED | SKIPPED | SKIPPED | +------------------------------+----------------+--------------+------------------------------+---------------------------+ | Debian 12 (arm) | SKIPPED | SKIPPED | PASS | PASS | +------------------------------+----------------+--------------+------------------------------+---------------------------+ CentOS Stream 9 Kernel: 5.4 Compiler: gcc gcc (GCC) 11.5.0 20240719 (Red Hat 11.5.0-7) CentOS Stream 10 Kernel: 5.4 Compiler: gcc gcc (GCC) 14.2.1 20250110 (Red Hat 14.2.1-8) Fedora Linux 40 Kernel: 5.4 Compiler: clang gcc (GCC) 14.2.1 20240912 (Red Hat 14.2.1-3) Fedora Linux 41 Kernel: 5.4 Compiler: gcc gcc (GCC) 14.3.1 20250523 (Red Hat 14.3.1-1) Debian GNU/Linux 12 Kernel: 5.4 Compiler: gcc gcc (Debian 12.2.0-14+deb12u1) 12.2.0 Red Hat Enterprise Linux 9.5 Kernel: 5.4 Compiler: gcc gcc (GCC) 11.5.0 20240719 (Red Hat 11.5.0-2) Ubuntu 20.04 Kernel: 5.4 Compiler: gcc gcc (Ubuntu 9.4.0-1ubuntu1~20.04.2) 9.4.0 Ubuntu 22.04 Kernel: 5.4 Compiler: gcc gcc (Ubuntu 11.4.0-1ubuntu1~22.04) 11.4.0 Ubuntu 24.04 Kernel: 5.4 Compiler: gcc gcc (Ubuntu 13.3.0-6ubuntu2~24.04) 13.3.0 Debian 12 (arm) Kernel: Depends on container host Compiler: gcc (Debian 12.2.0-14) 12.2.0 To view detailed results, visit: https://lab.dpdk.org/results/dashboard/patchsets/33553/ UNH-IOL DPDK Community Lab To manage your email subscriptions, visit: https://lab.dpdk.org/results/dashboard/preferences/subscriptions/