From mboxrd@z Thu Jan 1 00:00:00 1970 Return-Path: Received: from mails.dpdk.org (mails.dpdk.org [217.70.189.124]) by inbox.dpdk.org (Postfix) with ESMTP id 4BEAB46AD4 for ; Tue, 1 Jul 2025 20:03:22 +0200 (CEST) Received: from mails.dpdk.org (localhost [127.0.0.1]) by mails.dpdk.org (Postfix) with ESMTP id 40BA140264; Tue, 1 Jul 2025 20:03:22 +0200 (CEST) Received: from mail-il1-f228.google.com (mail-il1-f228.google.com [209.85.166.228]) by mails.dpdk.org (Postfix) with ESMTP id C900240264 for ; Tue, 1 Jul 2025 20:03:20 +0200 (CEST) Received: by mail-il1-f228.google.com with SMTP id e9e14a558f8ab-3df2ccbb895so28997745ab.3 for ; Tue, 01 Jul 2025 11:03:20 -0700 (PDT) DKIM-Signature: v=1; a=rsa-sha256; c=relaxed/relaxed; d=iol.unh.edu; s=unh-iol; t=1751393000; x=1751997800; darn=dpdk.org; h=references:in-reply-to:cc:to:from:subject:message-id:date:from:to :cc:subject:date:message-id:reply-to; bh=4t3mzz4KJR7BbMDkC5OdWEmsQgCr53FE0JplTKtCTgg=; b=LAhqga7rLWL/im9Jn3XyUy0ialjrhIxSRiRXD2b349wVEJqyrgJikl6NhcvJGrh+U2 wW7nl2yOS7GKCBKHvqxmVsKInVLE78y0Qeq3XkYLN87P7h3CwCbKubo1+ih3vB8+cfIX 6bA/+WooPLmi/zcqvLwAxr3dYZx+Rscdej0Uo= X-Google-DKIM-Signature: v=1; a=rsa-sha256; c=relaxed/relaxed; d=1e100.net; s=20230601; t=1751393000; x=1751997800; h=references:in-reply-to:cc:to:from:subject:message-id:date :x-gm-message-state:from:to:cc:subject:date:message-id:reply-to; bh=4t3mzz4KJR7BbMDkC5OdWEmsQgCr53FE0JplTKtCTgg=; b=iJCoup0Rgc98duS/wvELsuu58Al0TuR/ahxWFz6lZDrSHm2S/CKdGpdhcGjIynOsRc 6mi9N79ExSm/OIiRxD1NB5LBXeap9WbNbBqxkQhN57SrKCMKYu26t5WBQuD1cwQxUWOn K3emgd2maensnGcTm7AsaBS8QsaSh8Z04wcUhQSFP4fM8LbmW/TWrpm8bsJAzzkF/1OW 70Q/GeYNHLXlnZ2AxWPEj6cYuYl8DYjfpBz07rODKwOrjakKDLpNxfEvk9lLHPiqm7VG hyc5+p7sAiHMUCW15iWyyVFBp28pmDvEFEsSvN2RdJbDSXgYpv+RZyFhWKLrrGRcC7Db v9gA== X-Gm-Message-State: AOJu0Ywpeh6+Cxg+E2yP/7MlP+Xb14VGE0OvPGfDw9YfWlk/ramvf261 eom67OBL/kbbTHSqwTWnYggRQfMcjBjQCGJimf9XbkqsLxO7IF8pk66aGiopX852tEZZ5r+pHDQ gPGuoo8wM4kTzGKJcKUb/IR5njVsXPrNRs9bpGLgLRDDoqgKQ9F11Hjzzpq9f X-Gm-Gg: ASbGnctbTTsOyNtMdLfGU9t+2uMHH4VkXy21A4emGC2DedimaRioxQsGXl73W6TBneS KLevTfIX6tN3oUcrDNIK4Fm0247ZsMfDSp13WjM9vcO80k7sEagEsbTEwDSM1OsYZI9NqCoS4nF ChpZEJJLNESNzFh43n1erSsgdacuamLhkH5TVe3jr49tMBenMOzL4JwS+5tm6bASS4nqYqZBvJp pPDqtUCv58cZZVBWm2pj+1MOurSXllXOk/tQBOtnmEed3kpQ/8pEZO5m3+f1p4iZ4WQ9AnNyTUo XfXxMBzBkPLoyqkWYpP1vsIwt5p2L4Wssfjwst6TXI5xL6w= X-Google-Smtp-Source: AGHT+IEAGrous3elbspOZqNcoLgAQ48SZhmx8TD/SqWDnBWVHyafs7D7GUrWV/yO7WC+JipRD/CYGx8jzcfc X-Received: by 2002:a05:6e02:1c2a:b0:3dd:b523:7abe with SMTP id e9e14a558f8ab-3df4abafbe6mr235830045ab.18.1751393000114; Tue, 01 Jul 2025 11:03:20 -0700 (PDT) Received: from postal.iol.unh.edu (postal.iol.unh.edu. [2606:4100:3880:1234::84]) by smtp-relay.gmail.com with ESMTPS id e9e14a558f8ab-3df49ff8be1sm6366345ab.3.2025.07.01.11.03.20 (version=TLS1_2 cipher=ECDHE-ECDSA-AES128-GCM-SHA256 bits=128/128); Tue, 01 Jul 2025 11:03:20 -0700 (PDT) X-Relaying-Domain: iol.unh.edu Date: Tue, 01 Jul 2025 11:03:20 -0700 (PDT) Message-ID: <686422e8.050a0220.156458.2b89SMTPIN_ADDED_MISSING@mx.google.com> Received: from [172.21.0.6] (unknown [172.18.0.240]) by postal.iol.unh.edu (Postfix) with ESMTP id 9EE6A604D420; Tue, 1 Jul 2025 14:03:19 -0400 (EDT) Subject: |SUCCESS| pw154889-154890 [PATCH] [v2,6/6] net/hns3: VF support mult From: dpdklab@iol.unh.edu To: Test Report Cc: dpdk-test-reports@iol.unh.edu In-Reply-To: <20250701064512.3868175-7-huangdengdui@huawei.com> References: <20250701064512.3868175-7-huangdengdui@huawei.com> Content-Type: text/plain X-BeenThere: test-report@dpdk.org X-Mailman-Version: 2.1.29 Precedence: list List-Id: automatic DPDK test reports List-Unsubscribe: , List-Archive: List-Post: List-Help: List-Subscribe: , Errors-To: test-report-bounces@dpdk.org Test-Label: iol-unit-amd64-testing Test-Status: SUCCESS http://dpdk.org/patch/154890 _Testing PASS_ Submitter: Dengdui Huang Date: Tuesday, July 01 2025 06:45:12 DPDK git baseline: Repo:dpdk Branch: master CommitID:77864da82f25a9e1e43c14b2cba68c2049a3ee3e 154889-154890 --> testing pass Upstream job id: Generic-VM-Unit-Test-DPDK#29624 Test environment and result as below: +-------------------------------+----------------+ | Environment | dpdk_unit_test | +===============================+================+ | CentOS Stream 9 | PASS | +-------------------------------+----------------+ | CentOS Stream 10 | PASS | +-------------------------------+----------------+ | Debian GNU/Linux 12 | PASS | +-------------------------------+----------------+ | Fedora Linux 40 | PASS | +-------------------------------+----------------+ | Fedora Linux 41 | PASS | +-------------------------------+----------------+ | Red Hat Enterprise Linux 8.10 | PASS | +-------------------------------+----------------+ | Red Hat Enterprise Linux 9.5 | PASS | +-------------------------------+----------------+ | Ubuntu 20.04 | PASS | +-------------------------------+----------------+ | Ubuntu 22.04 | PASS | +-------------------------------+----------------+ | Ubuntu 24.04 | PASS | +-------------------------------+----------------+ | Windows Server 2022 | PASS | +-------------------------------+----------------+ CentOS Stream 9 Kernel: 5.15 Compiler: gcc gcc (GCC) 11.5.0 20240719 (Red Hat 11.5.0-7) CentOS Stream 10 Kernel: 5.15 Compiler: gcc gcc (GCC) 14.2.1 20250110 (Red Hat 14.2.1-8) Debian GNU/Linux 12 Kernel: 5.15 Compiler: gcc gcc (Debian 12.2.0-14+deb12u1) 12.2.0 Fedora Linux 40 Kernel: 5.15 Compiler: clang gcc (GCC) 14.2.1 20240912 (Red Hat 14.2.1-3) Fedora Linux 41 Kernel: 5.15 Compiler: gcc gcc (GCC) 14.3.1 20250523 (Red Hat 14.3.1-1) Red Hat Enterprise Linux 8.10 Kernel: 5.15 Compiler: gcc gcc (GCC) 8.5.0 20210514 (Red Hat 8.5.0-22) Red Hat Enterprise Linux 9.5 Kernel: 5.15 Compiler: gcc gcc (GCC) 11.5.0 20240719 (Red Hat 11.5.0-2) Ubuntu 20.04 Kernel: 5.15 Compiler: gcc gcc (Ubuntu 9.4.0-1ubuntu1~20.04.2) 9.4.0 Ubuntu 22.04 Kernel: 5.15 Compiler: gcc gcc (Ubuntu 11.4.0-1ubuntu1~22.04) 11.4.0 Ubuntu 24.04 Kernel: 5.15 Compiler: gcc gcc (Ubuntu 13.3.0-6ubuntu2~24.04) 13.3.0 Windows Server 2022 Kernel: 10.0.20348.2031 Compiler: clang 15.0.7, gcc 14.1.0 (MinGW), and MSVC VS 19.39.33521 To view detailed results, visit: https://lab.dpdk.org/results/dashboard/patchsets/33550/ UNH-IOL DPDK Community Lab To manage your email subscriptions, visit: https://lab.dpdk.org/results/dashboard/preferences/subscriptions/