From mboxrd@z Thu Jan 1 00:00:00 1970 Return-Path: Received: from mails.dpdk.org (mails.dpdk.org [217.70.189.124]) by inbox.dpdk.org (Postfix) with ESMTP id 7B6FA46AD4 for ; Tue, 1 Jul 2025 20:35:02 +0200 (CEST) Received: from mails.dpdk.org (localhost [127.0.0.1]) by mails.dpdk.org (Postfix) with ESMTP id 75B3440298; Tue, 1 Jul 2025 20:35:02 +0200 (CEST) Received: from mail-pl1-f226.google.com (mail-pl1-f226.google.com [209.85.214.226]) by mails.dpdk.org (Postfix) with ESMTP id 5228A40298 for ; Tue, 1 Jul 2025 20:35:01 +0200 (CEST) Received: by mail-pl1-f226.google.com with SMTP id d9443c01a7336-236192f8770so38641145ad.0 for ; Tue, 01 Jul 2025 11:35:01 -0700 (PDT) DKIM-Signature: v=1; a=rsa-sha256; c=relaxed/relaxed; d=iol.unh.edu; s=unh-iol; t=1751394900; x=1751999700; darn=dpdk.org; h=references:in-reply-to:cc:to:from:subject:message-id:date:from:to :cc:subject:date:message-id:reply-to; bh=tqQ+4vjjqCgi5xdlfWA9pFJ7CqFDP97Us6WXYz9+nTM=; b=LtwZvTxGbbSlp1cl1G3ZFqwWlF34Jvvff8p2VnO8AlMXuAKKsPKBe91Pk8154X/ifP YdIpldO27hHfc0osWUsNl75TjoLhNBM46aLrRCPJIREgOTW8KBSXd61mqFlJbgqx46KT Kqh6m4XjRXxwB+vpn1GqCwGWPktqrnt1HhlOo= X-Google-DKIM-Signature: v=1; a=rsa-sha256; c=relaxed/relaxed; d=1e100.net; s=20230601; t=1751394900; x=1751999700; h=references:in-reply-to:cc:to:from:subject:message-id:date :x-gm-message-state:from:to:cc:subject:date:message-id:reply-to; bh=tqQ+4vjjqCgi5xdlfWA9pFJ7CqFDP97Us6WXYz9+nTM=; b=lllUJ4t0xnE+DvcniqUsTcROweNvzGf/YZTnQLge4ZzHiDw96PzL3cHxi5H2c90wcX INZ+xqFZ0HUjSzUpDmQkxZ0kCLZkYURHZC7Q1w3l+LZr21ti2tTIia4keUmyoOPyhJNp LRGjClyhFGFQD0Vt9O3jNMeEjuq1qFDtflYv6t/fUNgvWhDGJ0/iDYpJZE/KV0bWvIS7 O7lps/b5UUzrg6Yu5iSAUO8diCHLuLFwwSC/IfwiRdeJVXdCqaIsnNyTQbs18nIdAHfe pET/s6nDL/fcsj0MU7HwDAoMqcsiyOVSqKET7avgCVzK8MC3IRRkEQ+pVOw2X6P9ykjV YJlQ== X-Gm-Message-State: AOJu0Yw77gDjNRPFwdhNj5GN804Tc6ag9U/1jw4YcY9kw2uD4rELOe05 0GIEETMpWsgnHcjLvyGGkprRKFXUNtBZlaEqo2hAs1wqdZ1Z2ArmLMKclDywQOaS02JXnyMLM+o TR7uMmAsiYBj55ZA35WGZp75A9ZOUgwjV1xRfJjtg3jPC X-Gm-Gg: ASbGncvnpHbt7J62ZJRO5Fwui3TJJo+i3MEa2WitLa+DIeV+u/SD8XmEwQWl27xM11W lwaYiIOHE9ecWca46lglUND7i7fvEDXyRGA36wXS9jvGRaJxOLMjpJbIhaj8IKka7eHPE7P9dJU 09UU9NRjkO5hrxp8ktv1oTBLZhF6K+d84IOeo+k7a6D3m7JXTjmN8z/2FJAWV61lfsh2fLwYROr 4UsG68jYjfdGOMtrhK6MFPICc8cDk5zQgoMMM3a5FK5c7PU7Cd03CyYkrfZV1dpdwOK/0W44JFN HxdVp2SKsyc5L2mJNKgn9DY2UolWOHIRynTpGNE8+rFGL8VLnGzTE9edBCh1vujsyqYmAQ== X-Google-Smtp-Source: AGHT+IG906kPtPEuUqvvT0B+9/c4sRV6qSI22/5mx0aD7cs+R/ryCJWRhP+qKvOw2mSpF0pRG9UwTg1xkzCr X-Received: by 2002:a17:902:da48:b0:235:e94b:62dd with SMTP id d9443c01a7336-23b355469f9mr78158425ad.12.1751394900409; Tue, 01 Jul 2025 11:35:00 -0700 (PDT) Received: from postal.iol.unh.edu (postal.iol.unh.edu. [132.177.123.84]) by smtp-relay.gmail.com with ESMTPS id d9443c01a7336-23acb34f02csm5831305ad.71.2025.07.01.11.35.00 (version=TLS1_2 cipher=ECDHE-ECDSA-AES128-GCM-SHA256 bits=128/128); Tue, 01 Jul 2025 11:35:00 -0700 (PDT) X-Relaying-Domain: iol.unh.edu Date: Tue, 01 Jul 2025 11:35:00 -0700 (PDT) Message-ID: <68642a54.170a0220.46a0d.ff86SMTPIN_ADDED_MISSING@mx.google.com> Received: from [172.21.0.7] (unknown [172.18.0.240]) by postal.iol.unh.edu (Postfix) with ESMTP id DE221604D420; Tue, 1 Jul 2025 14:34:59 -0400 (EDT) Subject: |SUCCESS| pw154889-154890 [PATCH] [v2,6/6] net/hns3: VF support mult From: dpdklab@iol.unh.edu To: Test Report Cc: dpdk-test-reports@iol.unh.edu In-Reply-To: <20250701064512.3868175-7-huangdengdui@huawei.com> References: <20250701064512.3868175-7-huangdengdui@huawei.com> Content-Type: text/plain X-BeenThere: test-report@dpdk.org X-Mailman-Version: 2.1.29 Precedence: list List-Id: automatic DPDK test reports List-Unsubscribe: , List-Archive: List-Post: List-Help: List-Subscribe: , Errors-To: test-report-bounces@dpdk.org Test-Label: iol-unit-arm64-testing Test-Status: SUCCESS http://dpdk.org/patch/154890 _Testing PASS_ Submitter: Dengdui Huang Date: Tuesday, July 01 2025 06:45:12 DPDK git baseline: Repo:dpdk Branch: master CommitID:77864da82f25a9e1e43c14b2cba68c2049a3ee3e 154889-154890 --> testing pass Upstream job id: Aarch32-Unit-Test#6770 Test environment and result as below: +------------------------------+----------------+---------------------------+------------------------------+--------------+ | Environment | dpdk_unit_test | cryptodev_sw_zuc_autotest | cryptodev_sw_snow3g_autotest | lpm_autotest | +==============================+================+===========================+==============================+==============+ | CentOS Stream 9 | PASS | SKIPPED | SKIPPED | SKIPPED | +------------------------------+----------------+---------------------------+------------------------------+--------------+ | CentOS Stream 10 | PASS | SKIPPED | SKIPPED | SKIPPED | +------------------------------+----------------+---------------------------+------------------------------+--------------+ | Debian GNU/Linux 12 | PASS | SKIPPED | SKIPPED | SKIPPED | +------------------------------+----------------+---------------------------+------------------------------+--------------+ | Fedora Linux 40 | PASS | SKIPPED | SKIPPED | SKIPPED | +------------------------------+----------------+---------------------------+------------------------------+--------------+ | Fedora Linux 41 | PASS | SKIPPED | SKIPPED | SKIPPED | +------------------------------+----------------+---------------------------+------------------------------+--------------+ | Red Hat Enterprise Linux 9.5 | PASS | SKIPPED | SKIPPED | SKIPPED | +------------------------------+----------------+---------------------------+------------------------------+--------------+ | Ubuntu 20.04 | PASS | SKIPPED | SKIPPED | PASS | +------------------------------+----------------+---------------------------+------------------------------+--------------+ | Ubuntu 22.04 | PASS | SKIPPED | SKIPPED | SKIPPED | +------------------------------+----------------+---------------------------+------------------------------+--------------+ | Ubuntu 24.04 | PASS | SKIPPED | SKIPPED | SKIPPED | +------------------------------+----------------+---------------------------+------------------------------+--------------+ | Debian 12 (arm) | SKIPPED | PASS | PASS | SKIPPED | +------------------------------+----------------+---------------------------+------------------------------+--------------+ CentOS Stream 9 Kernel: 5.4 Compiler: gcc gcc (GCC) 11.5.0 20240719 (Red Hat 11.5.0-7) CentOS Stream 10 Kernel: 5.4 Compiler: gcc gcc (GCC) 14.2.1 20250110 (Red Hat 14.2.1-8) Debian GNU/Linux 12 Kernel: 5.4 Compiler: gcc gcc (Debian 12.2.0-14+deb12u1) 12.2.0 Fedora Linux 40 Kernel: 5.4 Compiler: clang gcc (GCC) 14.2.1 20240912 (Red Hat 14.2.1-3) Fedora Linux 41 Kernel: 5.4 Compiler: clang gcc (GCC) 14.3.1 20250523 (Red Hat 14.3.1-1) Red Hat Enterprise Linux 9.5 Kernel: 5.4 Compiler: gcc gcc (GCC) 11.5.0 20240719 (Red Hat 11.5.0-2) Ubuntu 20.04 Kernel: 5.4 Compiler: gcc gcc (Ubuntu 9.4.0-1ubuntu1~20.04.2) 9.4.0 Ubuntu 22.04 Kernel: 5.4 Compiler: gcc gcc (Ubuntu 11.4.0-1ubuntu1~22.04) 11.4.0 Ubuntu 24.04 Kernel: 5.4 Compiler: gcc gcc (Ubuntu 13.3.0-6ubuntu2~24.04) 13.3.0 Debian 12 (arm) Kernel: Depends on container host Compiler: gcc (Debian 12.2.0-14) 12.2.0 To view detailed results, visit: https://lab.dpdk.org/results/dashboard/patchsets/33550/ UNH-IOL DPDK Community Lab To manage your email subscriptions, visit: https://lab.dpdk.org/results/dashboard/preferences/subscriptions/