From mboxrd@z Thu Jan 1 00:00:00 1970 Return-Path: Received: from mails.dpdk.org (mails.dpdk.org [217.70.189.124]) by inbox.dpdk.org (Postfix) with ESMTP id 35DE046AD4 for ; Tue, 1 Jul 2025 20:40:33 +0200 (CEST) Received: from mails.dpdk.org (localhost [127.0.0.1]) by mails.dpdk.org (Postfix) with ESMTP id 0E0D340298; Tue, 1 Jul 2025 20:40:33 +0200 (CEST) Received: from mail-oa1-f97.google.com (mail-oa1-f97.google.com [209.85.160.97]) by mails.dpdk.org (Postfix) with ESMTP id BE94540298 for ; Tue, 1 Jul 2025 20:40:31 +0200 (CEST) Received: by mail-oa1-f97.google.com with SMTP id 586e51a60fabf-2eaf96c7579so2394125fac.3 for ; Tue, 01 Jul 2025 11:40:31 -0700 (PDT) DKIM-Signature: v=1; a=rsa-sha256; c=relaxed/relaxed; d=iol.unh.edu; s=unh-iol; t=1751395231; x=1752000031; darn=dpdk.org; h=references:in-reply-to:cc:to:from:subject:message-id:date:from:to :cc:subject:date:message-id:reply-to; bh=3a9tDTLWViEYyeZqohAXw47NFiRCukejJ8TcBo2HgBE=; b=EnppX49/DSgaTVz8i5ghQx5EiUA9ChGjjPWSu8sHQHDPu6LXptNuTMFvjXDm+lcu5q aMpVwBLdKRF1q+VJgfIZ2nmWf4U3c32x76ypiZ1WBUYUVsYEa6iphl7Z1sDxMYba4Fvu gDjwIEhTfYSx3ADwaVFHUqDsuf8pQyYVZAKoE= X-Google-DKIM-Signature: v=1; a=rsa-sha256; c=relaxed/relaxed; d=1e100.net; s=20230601; t=1751395231; x=1752000031; h=references:in-reply-to:cc:to:from:subject:message-id:date :x-gm-message-state:from:to:cc:subject:date:message-id:reply-to; bh=3a9tDTLWViEYyeZqohAXw47NFiRCukejJ8TcBo2HgBE=; b=Z5eCTHAQkiW2QSKwtZh4n0mBg7LoBDJUF7oAGFqG27Q248URj+9/RHGRTmwbjt3gUk 4HBaDoVeQsEQrg7QmcVzn51GrzeC2VvXbvqqrFFFY9A0NDOt88OVlKeu/dWdq3nS+5Qd wswWl548H002dHAsa1BCBMwjby335DxbdYPU2jsH2kUsVPGCZJO6jEHwwf/PV/90jKMU vOienvZXmUOTjBDDhPgrYxY0wpSGl5o26XyL1jbBMiDkiaNEhzdJ45FJKcSmXR7KG6Gc VLE39zzn4yoVrOH252BPXj2llnc+DgNcFaaDzFTZFNu0A62unX4rLh8AxE6RdjavsDf3 hAQg== X-Gm-Message-State: AOJu0YxPzyPUbLkfnirqwFr4fgLKFSzEuLmMT6ZrazuLZ//xBDwEP3Wv Scs6Z5xit5hKCZpzSdf9nvg+WWYHRUKH7GrqdraW+BUZS0l7O0Wpf07gfAisxQbsP5obkf70To3 nYkjEMp1PuFvxorhj+hg1zWFM3Qd5IDoS1VPrqZgGlexr X-Gm-Gg: ASbGncugS9jgn3bvw4Nf7tOXMg0RzIs/LbbXzwDciQs3e335rLvP1IBY04ZjiWw1JsV uQiXIoRW8vLlKCg7LTLRdEkFomIJXdJzq3ws0LnVLgCB8qhxDPh/0BiPXBG8BGuzb0vj71zyXkp TQkDHQWK48fmn7wEECQ+7BGrZMFoKW/cZC1ezoEo+GVM8xTWsoC52homVAG6kYC1n15lCgivsYi WVNTxnl5WHCIwzrvGKdfBUsjZ0GwVj+PF2R8PDyBjYfsSm2xzIhVN5PZYhOJETZCbo/oXdTv3pR R/eaQp7nigpX7Bd5KyBSSpopPzTZzQrxO9Np4KeJd0mzSEjmsH8ketFxJhC2a3Rsleed7Q== X-Google-Smtp-Source: AGHT+IEQ/smWrL0+bUcrLH/zGSvN1aXaVXQG2SucCTPIJ0sNQ77XjUnGTzFNpN1BMmcO9oS6DPoG2UlU8EbG X-Received: by 2002:a05:6870:e808:b0:2e9:ea4a:8782 with SMTP id 586e51a60fabf-2efed454ae1mr13726555fac.7.1751395230862; Tue, 01 Jul 2025 11:40:30 -0700 (PDT) Received: from postal.iol.unh.edu (postal.iol.unh.edu. [132.177.123.84]) by smtp-relay.gmail.com with ESMTPS id 586e51a60fabf-2efd4d9327csm733912fac.5.2025.07.01.11.40.30 (version=TLS1_2 cipher=ECDHE-ECDSA-AES128-GCM-SHA256 bits=128/128); Tue, 01 Jul 2025 11:40:30 -0700 (PDT) X-Relaying-Domain: iol.unh.edu Date: Tue, 01 Jul 2025 11:40:30 -0700 (PDT) Message-ID: <68642b9e.050a0220.3a7e87.7f7eSMTPIN_ADDED_MISSING@mx.google.com> Received: from [172.21.0.5] (unknown [172.18.0.240]) by postal.iol.unh.edu (Postfix) with ESMTP id 5CE43604D420; Tue, 1 Jul 2025 14:40:30 -0400 (EDT) Subject: |SUCCESS| pw154902 [PATCH] net/mlx5: fix masked indirect age action From: dpdklab@iol.unh.edu To: Test Report Cc: dpdk-test-reports@iol.unh.edu In-Reply-To: <20250701103253.318225-1-dsosnowski@nvidia.com> References: <20250701103253.318225-1-dsosnowski@nvidia.com> Content-Type: text/plain X-BeenThere: test-report@dpdk.org X-Mailman-Version: 2.1.29 Precedence: list List-Id: automatic DPDK test reports List-Unsubscribe: , List-Archive: List-Post: List-Help: List-Subscribe: , Errors-To: test-report-bounces@dpdk.org Test-Label: iol-unit-amd64-testing Test-Status: SUCCESS http://dpdk.org/patch/154902 _Testing PASS_ Submitter: Dariusz Sosnowski Date: Tuesday, July 01 2025 10:32:53 DPDK git baseline: Repo:dpdk Branch: master CommitID:5c0c1a13c34aa57c6e18f9ba852a9b5807c58b72 154902 --> testing pass Upstream job id: Generic-VM-Unit-Test-DPDK#29625 Test environment and result as below: +-------------------------------+----------------+ | Environment | dpdk_unit_test | +===============================+================+ | CentOS Stream 9 | PASS | +-------------------------------+----------------+ | CentOS Stream 10 | PASS | +-------------------------------+----------------+ | Debian GNU/Linux 12 | PASS | +-------------------------------+----------------+ | Fedora Linux 40 | PASS | +-------------------------------+----------------+ | Fedora Linux 41 | PASS | +-------------------------------+----------------+ | Ubuntu 20.04 | PASS | +-------------------------------+----------------+ | Ubuntu 22.04 | PASS | +-------------------------------+----------------+ | Red Hat Enterprise Linux 8.10 | PASS | +-------------------------------+----------------+ | Red Hat Enterprise Linux 9.5 | PASS | +-------------------------------+----------------+ | Ubuntu 24.04 | PASS | +-------------------------------+----------------+ | Windows Server 2022 | PASS | +-------------------------------+----------------+ CentOS Stream 9 Kernel: 5.15 Compiler: gcc gcc (GCC) 11.5.0 20240719 (Red Hat 11.5.0-7) CentOS Stream 10 Kernel: 5.15 Compiler: gcc gcc (GCC) 14.2.1 20250110 (Red Hat 14.2.1-8) Debian GNU/Linux 12 Kernel: 5.15 Compiler: gcc gcc (Debian 12.2.0-14+deb12u1) 12.2.0 Fedora Linux 40 Kernel: 5.15 Compiler: clang gcc (GCC) 14.2.1 20240912 (Red Hat 14.2.1-3) Fedora Linux 41 Kernel: 5.15 Compiler: gcc gcc (GCC) 14.3.1 20250523 (Red Hat 14.3.1-1) Ubuntu 20.04 Kernel: 5.15 Compiler: gcc gcc (Ubuntu 9.4.0-1ubuntu1~20.04.2) 9.4.0 Ubuntu 22.04 Kernel: 5.15 Compiler: gcc gcc (Ubuntu 11.4.0-1ubuntu1~22.04) 11.4.0 Red Hat Enterprise Linux 8.10 Kernel: 5.15 Compiler: gcc gcc (GCC) 8.5.0 20210514 (Red Hat 8.5.0-22) Red Hat Enterprise Linux 9.5 Kernel: 5.15 Compiler: gcc gcc (GCC) 11.5.0 20240719 (Red Hat 11.5.0-2) Ubuntu 24.04 Kernel: 5.15 Compiler: gcc gcc (Ubuntu 13.3.0-6ubuntu2~24.04) 13.3.0 Windows Server 2022 Kernel: 10.0.20348.2031 Compiler: clang 15.0.7, gcc 14.1.0 (MinGW), and MSVC VS 19.39.33521 To view detailed results, visit: https://lab.dpdk.org/results/dashboard/patchsets/33553/ UNH-IOL DPDK Community Lab To manage your email subscriptions, visit: https://lab.dpdk.org/results/dashboard/preferences/subscriptions/