From mboxrd@z Thu Jan 1 00:00:00 1970 Return-Path: Received: from mails.dpdk.org (mails.dpdk.org [217.70.189.124]) by inbox.dpdk.org (Postfix) with ESMTP id 2D6BB46AD4 for ; Tue, 1 Jul 2025 20:41:12 +0200 (CEST) Received: from mails.dpdk.org (localhost [127.0.0.1]) by mails.dpdk.org (Postfix) with ESMTP id 2709740298; Tue, 1 Jul 2025 20:41:12 +0200 (CEST) Received: from mail-pl1-f227.google.com (mail-pl1-f227.google.com [209.85.214.227]) by mails.dpdk.org (Postfix) with ESMTP id 6AB3140298 for ; Tue, 1 Jul 2025 20:41:10 +0200 (CEST) Received: by mail-pl1-f227.google.com with SMTP id d9443c01a7336-2352400344aso56841215ad.2 for ; Tue, 01 Jul 2025 11:41:10 -0700 (PDT) DKIM-Signature: v=1; a=rsa-sha256; c=relaxed/relaxed; d=iol.unh.edu; s=unh-iol; t=1751395269; x=1752000069; darn=dpdk.org; h=references:in-reply-to:cc:to:from:subject:message-id:date:from:to :cc:subject:date:message-id:reply-to; bh=/FZLJwSG82kXMgQGtiGZjiTFRUA8kVIHw2Z5B98z18w=; b=UJJG/9CCOCr3zF5HyXAGLh7ksitw25BtSIN+QIQwQI6xBbd46aMWiDTVNP+P9MfVLE 5Mn2EtV3x92LXTmLaTTcHf7RB94PJ5KlooUHYbW97o5VcWWrRXkdO1ZuPBNZTYzV2y1p 2iWxaoPNp71J4X1S4iT3KtwWMAUpQxJdSQEjY= X-Google-DKIM-Signature: v=1; a=rsa-sha256; c=relaxed/relaxed; d=1e100.net; s=20230601; t=1751395269; x=1752000069; h=references:in-reply-to:cc:to:from:subject:message-id:date :x-gm-message-state:from:to:cc:subject:date:message-id:reply-to; bh=/FZLJwSG82kXMgQGtiGZjiTFRUA8kVIHw2Z5B98z18w=; b=E7VOaAvXMwGylcN3Tjvx/bYjSnsF8LkAOlg/G/NYvc8y0lp7tJgDCu/RQcPoA2VzAk 3SyHQ2rx8VuBDnp5mdMlg7KiWBH/ZBxqDYZ9GK997OwjeJGRJsYcTdn7zvYGcUdaogdi ilRa8vKfGB9UEhzCyoBgI874BaDdSj5YY0Z+MHpmEs5JwzO01ru2V5dQU6HgOItwpFC1 guGsQamEByZBD48z086rxM4g9HYG475UQicOZZPHXMZZFXmfiyHyTn3fAt+rS7a9uIBW +fw7O5CPF2ohfMmWx7J8kuTCh6zTly5wKlnbkDnJDk7wtdodBfPGgQTY1TefO7sNa6pA oNPg== X-Gm-Message-State: AOJu0Yxeqs/D3b5JhKt1uXyZHWyShJCSBSDqjZNSmTPkdWhihYCyzkL2 YaCZ7nMZXAe/CzxEjXlEsxEEjC6qKuIcYfAliEZSsVDcpbE3oXZkD28mLvulAMM4YUxTaFzAzUP Q5zLRjYMojffSVCd5xThYXphPVWgEg3hdNUKIBVAevRwc X-Gm-Gg: ASbGncuTeo+nV8DmPw8iqkWl+Q/WhqfyLOo5S/r9XqCGobR5KYAkS8/3g7c9GFP3beq Y+mTOkd2612J/tNiiwqv6swVVHP81cru4LRyKGdbd1hmnH0yQcnAnn2lGNe0Rl+pL6NxY3s3niz nNZG1Wxx7ZKBWeWLqbg1Aoh2socdycGs5Ob8kyUnZiKzvKEEEl9y+sQEpyXF515uejf2LMskPot GKjRpjD9JKvdkOLmDSGSzRpMb9i0Bo1Jm24zCLpwLjNg5OhMmGk5HIr7R9qmPGaQiXnF4wjVTW+ ObhTi/+EMN/jZ0Qg5g9FdlweN+ZqGSx1ixF40P4IcUg9bcq1rKnUqe8rw9RSsvm268BVmA== X-Google-Smtp-Source: AGHT+IHvOp+b2Q2SJFAnMxs5znVpR8RXRBrc9hRyUWfKSm5D/4JW+kxqhRyBmjrXws9tDjgNqlpyYMzap+Nm X-Received: by 2002:a17:902:c946:b0:235:dd54:bce1 with SMTP id d9443c01a7336-23ac3afd183mr278492275ad.15.1751395269424; Tue, 01 Jul 2025 11:41:09 -0700 (PDT) Received: from postal.iol.unh.edu (postal.iol.unh.edu. [132.177.123.84]) by smtp-relay.gmail.com with ESMTPS id d9443c01a7336-23acb2f1d88sm5937165ad.36.2025.07.01.11.41.09 (version=TLS1_2 cipher=ECDHE-ECDSA-AES128-GCM-SHA256 bits=128/128); Tue, 01 Jul 2025 11:41:09 -0700 (PDT) X-Relaying-Domain: iol.unh.edu Date: Tue, 01 Jul 2025 11:41:09 -0700 (PDT) Message-ID: <68642bc5.170a0220.1cfbee.10b3SMTPIN_ADDED_MISSING@mx.google.com> Received: from [172.21.0.5] (unknown [172.18.0.240]) by postal.iol.unh.edu (Postfix) with ESMTP id 7055F604D420; Tue, 1 Jul 2025 14:41:08 -0400 (EDT) Subject: |SUCCESS| pw154881-154886 [PATCH] [v7,6/6] net/dpaa2: enable softwar From: dpdklab@iol.unh.edu To: Test Report Cc: dpdk-test-reports@iol.unh.edu In-Reply-To: <20250701042917.3000355-7-g.singh@nxp.com> References: <20250701042917.3000355-7-g.singh@nxp.com> Content-Type: text/plain X-BeenThere: test-report@dpdk.org X-Mailman-Version: 2.1.29 Precedence: list List-Id: automatic DPDK test reports List-Unsubscribe: , List-Archive: List-Post: List-Help: List-Subscribe: , Errors-To: test-report-bounces@dpdk.org Test-Label: iol-compile-arm64-testing Test-Status: SUCCESS http://dpdk.org/patch/154886 _Testing PASS_ Submitter: Gagandeep Singh Date: Tuesday, July 01 2025 04:29:17 DPDK git baseline: Repo:dpdk Branch: master CommitID:77864da82f25a9e1e43c14b2cba68c2049a3ee3e 154881-154886 --> testing pass Upstream job id: Generic-DPDK-Compile-Meson#404217 Test environment and result as below: +------------------------------+--------------------+ | Environment | dpdk_meson_compile | +==============================+====================+ | Red Hat Enterprise Linux 9.5 | PASS | +------------------------------+--------------------+ | Ubuntu 20.04 | PASS | +------------------------------+--------------------+ | Debian GNU/Linux 12 | PASS | +------------------------------+--------------------+ | Fedora Linux 40 | PASS | +------------------------------+--------------------+ | Fedora Linux 41 | PASS | +------------------------------+--------------------+ | Ubuntu 22.04 | PASS | +------------------------------+--------------------+ | Ubuntu 24.04 | PASS | +------------------------------+--------------------+ | CentOS Stream 9 | PASS | +------------------------------+--------------------+ | CentOS Stream 10 | PASS | +------------------------------+--------------------+ Red Hat Enterprise Linux 9.5 Kernel: 5.4 Compiler: gcc gcc (GCC) 11.5.0 20240719 (Red Hat 11.5.0-2) Ubuntu 20.04 Kernel: 5.15 Compiler: aarch64-linux-gnu-gcc gcc (Ubuntu 9.4.0-1ubuntu1~20.04.2) 9.4.0 Debian GNU/Linux 12 Kernel: 5.4 Compiler: gcc gcc (Debian 12.2.0-14+deb12u1) 12.2.0 Fedora Linux 40 Kernel: 5.4 Compiler: gcc gcc (GCC) 14.2.1 20240912 (Red Hat 14.2.1-3) Fedora Linux 41 Kernel: 5.4 Compiler: clang gcc (GCC) 14.3.1 20250523 (Red Hat 14.3.1-1) Ubuntu 22.04 Kernel: 5.4 Compiler: gcc gcc (Ubuntu 11.4.0-1ubuntu1~22.04) 11.4.0 Ubuntu 24.04 Kernel: 5.4 Compiler: gcc gcc (Ubuntu 13.3.0-6ubuntu2~24.04) 13.3.0 CentOS Stream 9 Kernel: 5.4 Compiler: gcc gcc (GCC) 11.5.0 20240719 (Red Hat 11.5.0-7) CentOS Stream 10 Kernel: 5.4 Compiler: gcc gcc (GCC) 14.2.1 20250110 (Red Hat 14.2.1-8) To view detailed results, visit: https://lab.dpdk.org/results/dashboard/patchsets/33549/ UNH-IOL DPDK Community Lab To manage your email subscriptions, visit: https://lab.dpdk.org/results/dashboard/preferences/subscriptions/