From mboxrd@z Thu Jan 1 00:00:00 1970 Return-Path: Received: from mails.dpdk.org (mails.dpdk.org [217.70.189.124]) by inbox.dpdk.org (Postfix) with ESMTP id 4D47546AD4 for ; Tue, 1 Jul 2025 20:52:38 +0200 (CEST) Received: from mails.dpdk.org (localhost [127.0.0.1]) by mails.dpdk.org (Postfix) with ESMTP id 46FE840298; Tue, 1 Jul 2025 20:52:38 +0200 (CEST) Received: from mail-pl1-f225.google.com (mail-pl1-f225.google.com [209.85.214.225]) by mails.dpdk.org (Postfix) with ESMTP id 43F5040298 for ; Tue, 1 Jul 2025 20:52:37 +0200 (CEST) Received: by mail-pl1-f225.google.com with SMTP id d9443c01a7336-2363616a1a6so31021985ad.3 for ; Tue, 01 Jul 2025 11:52:37 -0700 (PDT) DKIM-Signature: v=1; a=rsa-sha256; c=relaxed/relaxed; d=iol.unh.edu; s=unh-iol; t=1751395956; x=1752000756; darn=dpdk.org; h=references:in-reply-to:cc:to:from:subject:message-id:date:from:to :cc:subject:date:message-id:reply-to; bh=g0MBTKsinLWBtatlyQJWh00IPvYVwmrL4cZjbtE35Lo=; b=DxXHBj7ZoGb0C57fVddJ1fXjl5FYmJG+1KdU+6JAixFQV/TJMLhrnisJhu2NKMIwfn UKMYAusNC9PyBpqdofee+aMVf9ODZzZAlyE9zED82fQEEyrPthjdFwwxK40puQut5BrJ IRadGBMHkzCkp9rJhB1rxIB9JjxWJw0V3MNAs= X-Google-DKIM-Signature: v=1; a=rsa-sha256; c=relaxed/relaxed; d=1e100.net; s=20230601; t=1751395956; x=1752000756; h=references:in-reply-to:cc:to:from:subject:message-id:date :x-gm-message-state:from:to:cc:subject:date:message-id:reply-to; bh=g0MBTKsinLWBtatlyQJWh00IPvYVwmrL4cZjbtE35Lo=; b=Kgm41mPvVTy2dWAkGCx1N3PnOaEFflhzFgOQS0Ll/UZlF5atgqpfwgBVpy6koayEVS Y9UK+b0VgS6JoiG70j4cpLKPrI9BaXwUOLp1OBwljsrRZo3ZYRyGCsfg9toQczfCyxZ6 dlLyJp7L5r1BCSgg1AYwj+8L+VNugdCJsCK7xgjDv8hn9W0qsDbXZltBCIPgQOiVnLPP RKm3uVf+/+e8UcV09qSj+IuzLschM5npumRz7WV8rTja01ftBAiBt0sGyBRBCoteLAa0 Um/bG6KrYjoCBpGtpAB2uAYNOhUEhETrnyIuKWiwaoJfulJCzO3+Tuugw2M47NJuWXZv 0SGg== X-Gm-Message-State: AOJu0YxiknP8cxb6qolkLZT2xfbAboLbyeCOOdN2SDgUUCoOpF+0YLbw JsONBuPgD7mzt+3rYqHp4U5Z6lZfS3m8Oy/YBwT7Vilg8byr3VyUdooKOEjoxgKigrIjvBfYLjv ebjiO/AnaZKDqrt+0vcnfmRNx5BBTS6uICvJdhwhJN540R3J9pkzuGc9p3sfL X-Gm-Gg: ASbGnctfzJsK270OMl6VUu+XwbFZRDNq2+3F0t7+8DCaEHX53ypUEJazK5ydxP9jeaC 109TWWWalfA+GRHpKuNbnYJ1CB28aNGX+MRykeo1Io/9CNKJaLgw+IDQh5v9ejvNLpngswZreXF T2p6AcLq9H4dJj8/dn6l0vLBq7InJ/oVa+opDOtX0yQIQ3OYs0ox1lWoRJ40wSBDRKqAFS5kvig 62duveI7LFXhYVh4HoxUo5/E1VrQtrMXEOuKRnyeON1Vmf06GX+dE1AO+xbx+NXbtU6xDCspRBw ppdH8QuUAtBk6PnWFk8QLdXs2pu3emNaBV9yDkAoA6GgIO8= X-Google-Smtp-Source: AGHT+IE1pIxkiQWsqpwlgkR8oyTqF3lgHpm+WNZT5bMzqCj/n4xw52Lpjw2cU6Bt0Lp+fVBDq8FiSsyFys6x X-Received: by 2002:a17:903:32c1:b0:235:e71e:a37b with SMTP id d9443c01a7336-23ac4633ccbmr312290905ad.34.1751395956403; Tue, 01 Jul 2025 11:52:36 -0700 (PDT) Received: from postal.iol.unh.edu (postal.iol.unh.edu. [2606:4100:3880:1234::84]) by smtp-relay.gmail.com with ESMTPS id d9443c01a7336-23acb2e1a73sm5755985ad.19.2025.07.01.11.52.36 (version=TLS1_2 cipher=ECDHE-ECDSA-AES128-GCM-SHA256 bits=128/128); Tue, 01 Jul 2025 11:52:36 -0700 (PDT) X-Relaying-Domain: iol.unh.edu Date: Tue, 01 Jul 2025 11:52:36 -0700 (PDT) Message-ID: <68642e74.170a0220.38a4d4.f562SMTPIN_ADDED_MISSING@mx.google.com> Received: from [172.21.0.5] (unknown [172.18.0.240]) by postal.iol.unh.edu (Postfix) with ESMTP id DB92D604D420; Tue, 1 Jul 2025 14:52:35 -0400 (EDT) Subject: |SUCCESS| pw154863-154879 [PATCH] [V4,18/18] drivers/net: add hinic3 From: dpdklab@iol.unh.edu To: Test Report Cc: dpdk-test-reports@iol.unh.edu In-Reply-To: <20250701014223.2440-19-wff_light@vip.163.com> References: <20250701014223.2440-19-wff_light@vip.163.com> Content-Type: text/plain X-BeenThere: test-report@dpdk.org X-Mailman-Version: 2.1.29 Precedence: list List-Id: automatic DPDK test reports List-Unsubscribe: , List-Archive: List-Post: List-Help: List-Subscribe: , Errors-To: test-report-bounces@dpdk.org Test-Label: iol-compile-arm64-testing Test-Status: SUCCESS http://dpdk.org/patch/154879 _Testing PASS_ Submitter: Feifei Wang Date: Tuesday, July 01 2025 01:42:09 DPDK git baseline: Repo:dpdk Branch: master CommitID:77864da82f25a9e1e43c14b2cba68c2049a3ee3e 154863-154879 --> testing pass Upstream job id: Generic-DPDK-Compile-Meson#404216 Test environment and result as below: +------------------------------+--------------------+ | Environment | dpdk_meson_compile | +==============================+====================+ | Red Hat Enterprise Linux 9.5 | PASS | +------------------------------+--------------------+ | Ubuntu 20.04 | PASS | +------------------------------+--------------------+ | Debian GNU/Linux 12 | PASS | +------------------------------+--------------------+ | Fedora Linux 40 | PASS | +------------------------------+--------------------+ | Fedora Linux 41 | PASS | +------------------------------+--------------------+ | Ubuntu 22.04 | PASS | +------------------------------+--------------------+ | Ubuntu 24.04 | PASS | +------------------------------+--------------------+ | CentOS Stream 9 | PASS | +------------------------------+--------------------+ | CentOS Stream 10 | PASS | +------------------------------+--------------------+ Red Hat Enterprise Linux 9.5 Kernel: 5.4 Compiler: gcc gcc (GCC) 11.5.0 20240719 (Red Hat 11.5.0-2) Ubuntu 20.04 Kernel: 5.15 Compiler: aarch64-linux-gnu-gcc gcc (Ubuntu 9.4.0-1ubuntu1~20.04.2) 9.4.0 Debian GNU/Linux 12 Kernel: 5.4 Compiler: gcc gcc (Debian 12.2.0-14+deb12u1) 12.2.0 Fedora Linux 40 Kernel: 5.4 Compiler: gcc gcc (GCC) 14.2.1 20240912 (Red Hat 14.2.1-3) Fedora Linux 41 Kernel: 5.4 Compiler: clang gcc (GCC) 14.3.1 20250523 (Red Hat 14.3.1-1) Ubuntu 22.04 Kernel: 5.4 Compiler: gcc gcc (Ubuntu 11.4.0-1ubuntu1~22.04) 11.4.0 Ubuntu 24.04 Kernel: 5.4 Compiler: gcc gcc (Ubuntu 13.3.0-6ubuntu2~24.04) 13.3.0 CentOS Stream 9 Kernel: 5.4 Compiler: gcc gcc (GCC) 11.5.0 20240719 (Red Hat 11.5.0-7) CentOS Stream 10 Kernel: 5.4 Compiler: gcc gcc (GCC) 14.2.1 20250110 (Red Hat 14.2.1-8) To view detailed results, visit: https://lab.dpdk.org/results/dashboard/patchsets/33548/ UNH-IOL DPDK Community Lab To manage your email subscriptions, visit: https://lab.dpdk.org/results/dashboard/preferences/subscriptions/