From mboxrd@z Thu Jan 1 00:00:00 1970 Return-Path: Received: from mails.dpdk.org (mails.dpdk.org [217.70.189.124]) by inbox.dpdk.org (Postfix) with ESMTP id 11C6146AD4 for ; Tue, 1 Jul 2025 20:58:56 +0200 (CEST) Received: from mails.dpdk.org (localhost [127.0.0.1]) by mails.dpdk.org (Postfix) with ESMTP id F04D2402A3; Tue, 1 Jul 2025 20:58:55 +0200 (CEST) Received: from mail-pj1-f97.google.com (mail-pj1-f97.google.com [209.85.216.97]) by mails.dpdk.org (Postfix) with ESMTP id 45A40402A3 for ; Tue, 1 Jul 2025 20:58:55 +0200 (CEST) Received: by mail-pj1-f97.google.com with SMTP id 98e67ed59e1d1-313a001d781so2680788a91.3 for ; Tue, 01 Jul 2025 11:58:55 -0700 (PDT) DKIM-Signature: v=1; a=rsa-sha256; c=relaxed/relaxed; d=iol.unh.edu; s=unh-iol; t=1751396334; x=1752001134; darn=dpdk.org; h=references:in-reply-to:cc:to:from:subject:message-id:date:from:to :cc:subject:date:message-id:reply-to; bh=Jm0dKZciK03mY16pbw2vQFNiMc3YYhBn+D/IGR0yzHg=; b=ViKJNf+YUInF+QyuckdjSoBYNLRF1ffLli1DiHO/94TkucNcupHWCtQksFl4qMKVKf WFWeytddqZ4VIdC1Gj9wYv5sIYivnpa2Sj4r8+u2nxj8JOou3fCpnwF5sEt1+aeRbLPK wbVEad1osZ6HQQpCoKaCdj1NObx62aDK5YPPc= X-Google-DKIM-Signature: v=1; a=rsa-sha256; c=relaxed/relaxed; d=1e100.net; s=20230601; t=1751396334; x=1752001134; h=references:in-reply-to:cc:to:from:subject:message-id:date :x-gm-message-state:from:to:cc:subject:date:message-id:reply-to; bh=Jm0dKZciK03mY16pbw2vQFNiMc3YYhBn+D/IGR0yzHg=; b=PEhJkNhLoJQdnrBrhCiOGuI0dVZ3xUThnc0Mg++QzzFm3KYi0ZLQhp1obhCZx2ZOEr HY7qOl0hvDW3vkIvDoXcjrzmAvHU26RDO2gJjLA1d3gnavPh89xuQwyhOxoFTIgIjcqp OdC13FTxqy72KonvlHfnJtcsW3ItOedG2hzIpNDhpsd5TcNw/2a/z+q3vDEy0mUxXt1a kgAA7xYgqsDbeglF7lhvRYb8NGKIpsq0dzswuDsMaBzI1gS4uFDVaiy7xfK9NaUD8spt hFnFNGW1emTOMpuDPI31R6QVYlVwsgnSz7ltp4jsjZrJx23z9m07y6H0y8w96qfYd83n J/DQ== X-Gm-Message-State: AOJu0YzRloM6Thp+Pt6/Hhf9xI6lVpT0BoH5Q8MePsFeq45yMeWdeNEL luJ5OeFr5S0oZ5bTW/WIlkyqmEc/UrmrIaJ6pRPognyZXo6aYGC+TSFtLstM/4mwgd8C0FzMdLO txXvietEtdU0h82Dv0QwZFjzfAEBbYZrhS7Q8WIT97AwDloIe2fMXPH8nAD6e X-Gm-Gg: ASbGncsBXlSQ7d3JXUlmG5qD5uouIBgsaFdVJrmQKBl7akbEwVXEMC5TyDxHC0yBgeH tzicPEV7O5j5GU9crI1mceeN35GRW8pDjKDB8anE/kGIwmspKnhx+3/IMM8WbPW88/qt2UhSf43 G+NHiRU/V4kCcdiqM/vG+MHmYp4Q1GiVMXmEWFg1axMJ5Ad8+NvqDUkAgdBNd46u1f2htZf1trk N54X7w1CcTR+MhIiWBuJvg0AYF0DqJpDPegd41PDlLwA4wQE+lrnGiLfJEnb8zNIDQeDKvQZv2I 4lbhTo1mWgApw9hKYGsTTGr//vkOoUfjwJVansesA1pRZ30= X-Google-Smtp-Source: AGHT+IEYA7ivkHMgIMyZSOh/5KxKWL4JJenSBU0dLq4iKVT99Gg40O4kzDmkiNNiSr9cCyqH4MeFmRiQH9GS X-Received: by 2002:a17:90b:3c87:b0:311:c939:c851 with SMTP id 98e67ed59e1d1-31a90b27899mr221097a91.4.1751396334394; Tue, 01 Jul 2025 11:58:54 -0700 (PDT) Received: from postal.iol.unh.edu (postal.iol.unh.edu. [2606:4100:3880:1234::84]) by smtp-relay.gmail.com with ESMTPS id 98e67ed59e1d1-315f54b732csm1030297a91.11.2025.07.01.11.58.54 (version=TLS1_2 cipher=ECDHE-ECDSA-AES128-GCM-SHA256 bits=128/128); Tue, 01 Jul 2025 11:58:54 -0700 (PDT) X-Relaying-Domain: iol.unh.edu Date: Tue, 01 Jul 2025 11:58:54 -0700 (PDT) Message-ID: <68642fee.170a0220.3f81.8c4eSMTPIN_ADDED_MISSING@mx.google.com> Received: from [172.21.0.5] (unknown [172.18.0.240]) by postal.iol.unh.edu (Postfix) with ESMTP id A916D604D420; Tue, 1 Jul 2025 14:58:53 -0400 (EDT) Subject: |SUCCESS| pw154903 [PATCH] ci: check C++ headers with clang From: dpdklab@iol.unh.edu To: Test Report Cc: dpdk-test-reports@iol.unh.edu In-Reply-To: <20250701113146.1268492-1-david.marchand@redhat.com> References: <20250701113146.1268492-1-david.marchand@redhat.com> Content-Type: text/plain X-BeenThere: test-report@dpdk.org X-Mailman-Version: 2.1.29 Precedence: list List-Id: automatic DPDK test reports List-Unsubscribe: , List-Archive: List-Post: List-Help: List-Subscribe: , Errors-To: test-report-bounces@dpdk.org Test-Label: iol-compile-amd64-testing Test-Status: SUCCESS http://dpdk.org/patch/154903 _Testing PASS_ Submitter: David Marchand Date: Tuesday, July 01 2025 11:31:46 DPDK git baseline: Repo:dpdk Branch: master CommitID:20460dcffd08a4680f881c39916ae783ee830374 154903 --> testing pass Upstream job id: Windows-Compile-DPDK-VS#6222 Test environment and result as below: +---------------------+--------------------+-------------------+ | Environment | dpdk_meson_compile | dpdk_msvc_compile | +=====================+====================+===================+ | Ubuntu 20.04 | PASS | SKIPPED | +---------------------+--------------------+-------------------+ | FreeBSD 14.2 | PASS | SKIPPED | +---------------------+--------------------+-------------------+ | Windows Server 2022 | SKIPPED | PASS | +---------------------+--------------------+-------------------+ Ubuntu 20.04 Kernel: 4.19 Compiler: gcc gcc (Ubuntu 9.4.0-1ubuntu1~20.04.2) 9.4.0 FreeBSD 14.2 Kernel: 14.2-RELEASE Compiler: clang 18.1.6 Windows Server 2022 Kernel: 10.0.20348.2031 Compiler: clang 15.0.7, gcc 14.1.0 (MinGW), and MSVC VS 19.39.33521 To view detailed results, visit: https://lab.dpdk.org/results/dashboard/patchsets/33554/ UNH-IOL DPDK Community Lab To manage your email subscriptions, visit: https://lab.dpdk.org/results/dashboard/preferences/subscriptions/