From mboxrd@z Thu Jan 1 00:00:00 1970 Return-Path: Received: from mails.dpdk.org (mails.dpdk.org [217.70.189.124]) by inbox.dpdk.org (Postfix) with ESMTP id 3035F46AD4 for ; Tue, 1 Jul 2025 21:00:14 +0200 (CEST) Received: from mails.dpdk.org (localhost [127.0.0.1]) by mails.dpdk.org (Postfix) with ESMTP id 2A51C40298; Tue, 1 Jul 2025 21:00:14 +0200 (CEST) Received: from mail-pf1-f226.google.com (mail-pf1-f226.google.com [209.85.210.226]) by mails.dpdk.org (Postfix) with ESMTP id 676EA40298 for ; Tue, 1 Jul 2025 21:00:13 +0200 (CEST) Received: by mail-pf1-f226.google.com with SMTP id d2e1a72fcca58-748e63d4b05so2425738b3a.2 for ; Tue, 01 Jul 2025 12:00:13 -0700 (PDT) DKIM-Signature: v=1; a=rsa-sha256; c=relaxed/relaxed; d=iol.unh.edu; s=unh-iol; t=1751396412; x=1752001212; darn=dpdk.org; h=references:in-reply-to:cc:to:from:subject:message-id:date:from:to :cc:subject:date:message-id:reply-to; bh=+ZJOo3Ue45Swf6vMs/vgiPlbQsiYjiGPIrKf2AI/z20=; b=gZAbUllbdQfi4GId8MjGSeQctqzifd/3kZ2zbQQnEoEB717QZpJ+cV5PbneA+9lUxW PSvTeNC4BAJjchW5EAckcKE5uoi1m7OGExhz1T0NH1o7g/S0TZFvPyGOMIf2TNR/6Hnt 4WQO5bBJnLYAU9VJ0IhVF4l4PD0BvqnLuZ3mk= X-Google-DKIM-Signature: v=1; a=rsa-sha256; c=relaxed/relaxed; d=1e100.net; s=20230601; t=1751396412; x=1752001212; h=references:in-reply-to:cc:to:from:subject:message-id:date :x-gm-message-state:from:to:cc:subject:date:message-id:reply-to; bh=+ZJOo3Ue45Swf6vMs/vgiPlbQsiYjiGPIrKf2AI/z20=; b=HnRNd+JY0FDTw21SxFgamkSNBDtSB2rFVNwpVaZrHzK6pgHWAWpBi2pfw+i5XaxcTp LQCyuuMHJ9XbhfcPFnmExAJs+tqHakeVEbVFB5Oa3U5XZAMuTEPavVJFSgHz7cS63u2R qgTX1FkIhehG+dOfzRaHBu3+HjO/uOWjKIrjuB7eWKyEV+wTBclwi2vRdK9IwuKqeCi0 MIv2Mca0389wunKa1xrfUxD1KibIW2mEGcX+QJYRFwu2aEHGL2Ps54Ba/ellfeYFJiq9 8J7b6nH5Cu45GiY7Cqxp6PDWGpTIXNF5emXun24saG0VBEEQUzL/fr2n0kEj2PWw4XKD kNNw== X-Gm-Message-State: AOJu0YzxV3wqyNKLYjduRdwjQVPoonxROmAN9sJkpgNDRKzaxSpPEoH9 ghMA+XrRWuU43Ozsg/31vpwhKfYfuGxP5vZplCbh9J4+K1KcI80BRCsj1gHB8KNuRLrNQawnoFj fX8ma/rHZON+NriCYiHWBmo9LaC7cFOqqFznddQrPu3rjqbM1ZtmFRoMiAQ9s X-Gm-Gg: ASbGncvglMw4UGbneFMiBNf2OiQPc+aGBfYRdxoT2OxmhdRjsV4xUgcso2MWrqcn4ES BO4XQy5kPX8zMZ0ppe++5aOuNsXwlINpK5UcIDM8RFAsYEcO7+n8wssJdE6M3w/MIyaSJDV/W07 1TnMcoa0giIIWvY/0a9XqvAVPMiLI2H2yaIU1Vmx7a9dfDz5uifAu4TMA35OOkTN+h+cIHFZAgz oD40VISqwZQGAd0fXapfEzDvl77vgRIxMEsujhC73S1Z3NytuFV/6elFwsx/gvQNL7ntLYTSuTS HOZSeaI8ffikj85NR5A48kSOxNcixGYU+C/SbAvjRdqTYqU= X-Google-Smtp-Source: AGHT+IHBC0Yjzb8nzkmZ7aMKI6JVtPUyUulKKjwwjriLgLnAyeH3CFHdaH1xLFG+fzvjI0Y4+mA2U3RI7/U6 X-Received: by 2002:a05:6a21:339b:b0:204:432e:5fa4 with SMTP id adf61e73a8af0-222d7e99ba9mr396852637.23.1751396412059; Tue, 01 Jul 2025 12:00:12 -0700 (PDT) Received: from postal.iol.unh.edu (postal.iol.unh.edu. [2606:4100:3880:1234::84]) by smtp-relay.gmail.com with ESMTPS id 41be03b00d2f7-b34e30172e1sm216340a12.2.2025.07.01.12.00.11 (version=TLS1_2 cipher=ECDHE-ECDSA-AES128-GCM-SHA256 bits=128/128); Tue, 01 Jul 2025 12:00:12 -0700 (PDT) X-Relaying-Domain: iol.unh.edu Date: Tue, 01 Jul 2025 12:00:12 -0700 (PDT) Message-ID: <6864303c.050a0220.28e343.bcd6SMTPIN_ADDED_MISSING@mx.google.com> Received: from [172.21.0.6] (unknown [172.18.0.240]) by postal.iol.unh.edu (Postfix) with ESMTP id 40C55604D420; Tue, 1 Jul 2025 15:00:11 -0400 (EDT) Subject: |SUCCESS| pw154902 [PATCH] net/mlx5: fix masked indirect age action From: dpdklab@iol.unh.edu To: Test Report Cc: dpdk-test-reports@iol.unh.edu In-Reply-To: <20250701103253.318225-1-dsosnowski@nvidia.com> References: <20250701103253.318225-1-dsosnowski@nvidia.com> Content-Type: text/plain X-BeenThere: test-report@dpdk.org X-Mailman-Version: 2.1.29 Precedence: list List-Id: automatic DPDK test reports List-Unsubscribe: , List-Archive: List-Post: List-Help: List-Subscribe: , Errors-To: test-report-bounces@dpdk.org Test-Label: iol-unit-amd64-testing Test-Status: SUCCESS http://dpdk.org/patch/154902 _Testing PASS_ Submitter: Dariusz Sosnowski Date: Tuesday, July 01 2025 10:32:53 DPDK git baseline: Repo:dpdk Branch: master CommitID:5c0c1a13c34aa57c6e18f9ba852a9b5807c58b72 154902 --> testing pass Upstream job id: Generic-VM-Unit-Test-DPDK#29626 Test environment and result as below: +-------------------------------+----------------+ | Environment | dpdk_unit_test | +===============================+================+ | CentOS Stream 9 | PASS | +-------------------------------+----------------+ | CentOS Stream 10 | PASS | +-------------------------------+----------------+ | Debian GNU/Linux 12 | PASS | +-------------------------------+----------------+ | Fedora Linux 40 | PASS | +-------------------------------+----------------+ | Fedora Linux 41 | PASS | +-------------------------------+----------------+ | Ubuntu 20.04 | PASS | +-------------------------------+----------------+ | Ubuntu 22.04 | PASS | +-------------------------------+----------------+ | Red Hat Enterprise Linux 8.10 | PASS | +-------------------------------+----------------+ | Red Hat Enterprise Linux 9.5 | PASS | +-------------------------------+----------------+ | Ubuntu 24.04 | PASS | +-------------------------------+----------------+ | Windows Server 2022 | PASS | +-------------------------------+----------------+ CentOS Stream 9 Kernel: 5.15 Compiler: gcc gcc (GCC) 11.5.0 20240719 (Red Hat 11.5.0-7) CentOS Stream 10 Kernel: 5.15 Compiler: gcc gcc (GCC) 14.2.1 20250110 (Red Hat 14.2.1-8) Debian GNU/Linux 12 Kernel: 5.15 Compiler: gcc gcc (Debian 12.2.0-14+deb12u1) 12.2.0 Fedora Linux 40 Kernel: 5.15 Compiler: clang gcc (GCC) 14.2.1 20240912 (Red Hat 14.2.1-3) Fedora Linux 41 Kernel: 5.15 Compiler: gcc gcc (GCC) 14.3.1 20250523 (Red Hat 14.3.1-1) Ubuntu 20.04 Kernel: 5.15 Compiler: gcc gcc (Ubuntu 9.4.0-1ubuntu1~20.04.2) 9.4.0 Ubuntu 22.04 Kernel: 5.15 Compiler: gcc gcc (Ubuntu 11.4.0-1ubuntu1~22.04) 11.4.0 Red Hat Enterprise Linux 8.10 Kernel: 5.15 Compiler: gcc gcc (GCC) 8.5.0 20210514 (Red Hat 8.5.0-22) Red Hat Enterprise Linux 9.5 Kernel: 5.15 Compiler: gcc gcc (GCC) 11.5.0 20240719 (Red Hat 11.5.0-2) Ubuntu 24.04 Kernel: 5.15 Compiler: gcc gcc (Ubuntu 13.3.0-6ubuntu2~24.04) 13.3.0 Windows Server 2022 Kernel: 10.0.20348.2031 Compiler: clang 15.0.7, gcc 14.1.0 (MinGW), and MSVC VS 19.39.33521 To view detailed results, visit: https://lab.dpdk.org/results/dashboard/patchsets/33553/ UNH-IOL DPDK Community Lab To manage your email subscriptions, visit: https://lab.dpdk.org/results/dashboard/preferences/subscriptions/