From mboxrd@z Thu Jan 1 00:00:00 1970 Return-Path: Received: from mails.dpdk.org (mails.dpdk.org [217.70.189.124]) by inbox.dpdk.org (Postfix) with ESMTP id C90DC46AC4 for ; Tue, 1 Jul 2025 21:18:22 +0200 (CEST) Received: from mails.dpdk.org (localhost [127.0.0.1]) by mails.dpdk.org (Postfix) with ESMTP id AF94D40298; Tue, 1 Jul 2025 21:18:22 +0200 (CEST) Received: from mail-il1-f226.google.com (mail-il1-f226.google.com [209.85.166.226]) by mails.dpdk.org (Postfix) with ESMTP id 4203840298 for ; Tue, 1 Jul 2025 21:18:21 +0200 (CEST) Received: by mail-il1-f226.google.com with SMTP id e9e14a558f8ab-3df2ccbb895so29693425ab.3 for ; Tue, 01 Jul 2025 12:18:21 -0700 (PDT) DKIM-Signature: v=1; a=rsa-sha256; c=relaxed/relaxed; d=iol.unh.edu; s=unh-iol; t=1751397500; x=1752002300; darn=dpdk.org; h=references:in-reply-to:cc:to:from:subject:message-id:date:from:to :cc:subject:date:message-id:reply-to; bh=GHGeksC77I4zujUvQBz8QTHydln564ecaOdMtEEjrDM=; b=hWE4Hi0kXYJcmuKnsTLBY8DintYT1MSMmX8JfHmO7Wq2/GFKAh46ehDmI0WV8uVReF 8RYpaK5NolwxnPpCtOFwrM3WQ57aQgPxoX4A9bb7Tdj+q47upWW76+81WAMNfyarYspI 2O2hF0Urwg0Vuz5YXZav9+HU9z4W/jD3b1FHE= X-Google-DKIM-Signature: v=1; a=rsa-sha256; c=relaxed/relaxed; d=1e100.net; s=20230601; t=1751397500; x=1752002300; h=references:in-reply-to:cc:to:from:subject:message-id:date :x-gm-message-state:from:to:cc:subject:date:message-id:reply-to; bh=GHGeksC77I4zujUvQBz8QTHydln564ecaOdMtEEjrDM=; b=Xcw8dn7KEoWA2F3Kw17wAuLQumO8zQAayOLhTO5x17eW237p8CYBd38LPmPXhRRSiY /x2f5JaoqehER9SZaxGWyper9xIp6Pbe686uDZByqIa2KzdwZyufSXDOBvSaUD/2ASKu n81IzLE83jKfZx7Jwq0bPFMdriXglG7O6ZyN8Lq53kcCkBDcXIsLcsuWgbc9w76dMX2I FxGESzqyq1PxbKWcXyEPE/npXc+/y7QYA1A+tKvS2ebRqoul1Oqt0WJO7Cg/Cqt0hKKs zlQg0LF0Dgwp6R4xxu8x0f/xycHAkT3UyTVUijMZz5m9pQEes0XSiHH5UDqdkEvoc/1v PXjA== X-Gm-Message-State: AOJu0YynCFSWN46gUBImkS+mGrhv8qixisOeEj9FMj/pJ2Bv1aX/0h+/ riLZPtAgerkXdgnv8/TEwf8EF3XMZcRMlPg+FF/xzBuw1OA3EbkBweiBI5ejGu2KHYh+c/yvtod YnMCcwEwHwqsp/pvbBZeicTu43gpMcDvzhWGMHlmThPaQ X-Gm-Gg: ASbGncsoI5hLzrvWJeVZXTh0ANkSX0/cij2v8BdIq4KJH7AaCKpb9bA6Y027bqt1Vhb 5/74KeGD3ZEgHzpyrDusJuEJPy3vgQEEfvUsIk7y4gHimSw9k4ku8EsaQTT6BMMWgFKl10Qnk77 I5/P9NXwYU6d7mpwPNMobsJTUwCfUb0tWbKGGilOo/iCc/R4SMgAYRZxLP9YU2pgW4/SGUkEpkM QMKwNKGBeS+Iu0ws0DaLxfbvmyVDoPNRV2JE9/9+O8z70O5Q9Mj3x14PUQFBupxbJW8X6FODhIe /lgFfJpt5exSywgcYzJX21y4MbKqRRrzgMxLlfl5NkEj0UXPWxGX3192qzuvAB8xg1fZVQ== X-Google-Smtp-Source: AGHT+IHoVPcLf15aR3uoEa0r2GhsqPxYxNPCK0LglrQqmkurRpjdiPcrLhhyStef1hR8tjkWUj6J7ln4W29u X-Received: by 2002:a05:6e02:1947:b0:3e0:51bb:6e42 with SMTP id e9e14a558f8ab-3e05496b966mr2183355ab.6.1751397498942; Tue, 01 Jul 2025 12:18:18 -0700 (PDT) Received: from postal.iol.unh.edu (postal.iol.unh.edu. [132.177.123.84]) by smtp-relay.gmail.com with ESMTPS id e9e14a558f8ab-3df4a0bc533sm5890755ab.49.2025.07.01.12.18.18 (version=TLS1_2 cipher=ECDHE-ECDSA-AES128-GCM-SHA256 bits=128/128); Tue, 01 Jul 2025 12:18:18 -0700 (PDT) X-Relaying-Domain: iol.unh.edu Date: Tue, 01 Jul 2025 12:18:18 -0700 (PDT) Message-ID: <6864347a.050a0220.25acbe.f95aSMTPIN_ADDED_MISSING@mx.google.com> Received: from [172.21.0.6] (unknown [172.18.0.240]) by postal.iol.unh.edu (Postfix) with ESMTP id 8FC75604D420; Tue, 1 Jul 2025 15:18:18 -0400 (EDT) Subject: |SUCCESS| pw154785 [PATCH] net/ice: fix inconsistency in Rx queue VL From: dpdklab@iol.unh.edu To: Test Report Cc: dpdk-test-reports@iol.unh.edu In-Reply-To: <20250627135201.1393662-1-bruce.richardson@intel.com> References: <20250627135201.1393662-1-bruce.richardson@intel.com> Content-Type: text/plain X-BeenThere: test-report@dpdk.org X-Mailman-Version: 2.1.29 Precedence: list List-Id: automatic DPDK test reports List-Unsubscribe: , List-Archive: List-Post: List-Help: List-Subscribe: , Errors-To: test-report-bounces@dpdk.org Test-Label: iol-abi-testing Test-Status: SUCCESS http://dpdk.org/patch/154785 _Testing PASS_ Submitter: Bruce Richardson Date: Friday, June 27 2025 13:52:01 DPDK git baseline: Repo:dpdk Branch: master CommitID:63a975a32763288ef7063adae6eb9e6b59506c70 154785 --> testing pass Upstream job id: Generic-DPDK-Compile-ABI#132582 Test environment and result as below: +-------------------------------+----------+ | Environment | abi_test | +===============================+==========+ | CentOS Stream 9 | PASS | +-------------------------------+----------+ | CentOS Stream 10 | PASS | +-------------------------------+----------+ | Debian GNU/Linux 12 | PASS | +-------------------------------+----------+ | Fedora Linux 41 | PASS | +-------------------------------+----------+ | Fedora Linux 40 | PASS | +-------------------------------+----------+ | openSUSE Leap 15.6 | PASS | +-------------------------------+----------+ | Red Hat Enterprise Linux 8.10 | PASS | +-------------------------------+----------+ | Red Hat Enterprise Linux 9.5 | PASS | +-------------------------------+----------+ | Ubuntu 22.04 | PASS | +-------------------------------+----------+ | Ubuntu 24.04 | PASS | +-------------------------------+----------+ CentOS Stream 9 Kernel: 5.15 Compiler: gcc gcc (GCC) 11.5.0 20240719 (Red Hat 11.5.0-7) CentOS Stream 10 Kernel: 5.15 Compiler: gcc gcc (GCC) 14.2.1 20250110 (Red Hat 14.2.1-8) Debian GNU/Linux 12 Kernel: 5.15 Compiler: gcc gcc (Debian 12.2.0-14+deb12u1) 12.2.0 Fedora Linux 41 Kernel: 5.15 Compiler: clang gcc (GCC) 14.3.1 20250523 (Red Hat 14.3.1-1) Fedora Linux 40 Kernel: 5.15 Compiler: clang gcc (GCC) 14.2.1 20240912 (Red Hat 14.2.1-3) openSUSE Leap 15.6 Kernel: 5.15 Compiler: gcc gcc (SUSE Linux) 7.5.0 Red Hat Enterprise Linux 8.10 Kernel: 5.15 Compiler: gcc gcc (GCC) 8.5.0 20210514 (Red Hat 8.5.0-22) Red Hat Enterprise Linux 9.5 Kernel: 5.15 Compiler: gcc gcc (GCC) 11.5.0 20240719 (Red Hat 11.5.0-2) Ubuntu 22.04 Kernel: 5.15 Compiler: gcc gcc (Ubuntu 11.4.0-1ubuntu1~22.04) 11.4.0 Ubuntu 24.04 Kernel: 5.15 Compiler: gcc gcc (Ubuntu 13.3.0-6ubuntu2~24.04) 13.3.0 To view detailed results, visit: https://lab.dpdk.org/results/dashboard/patchsets/33525/ UNH-IOL DPDK Community Lab To manage your email subscriptions, visit: https://lab.dpdk.org/results/dashboard/preferences/subscriptions/