From mboxrd@z Thu Jan 1 00:00:00 1970 Return-Path: Received: from mails.dpdk.org (mails.dpdk.org [217.70.189.124]) by inbox.dpdk.org (Postfix) with ESMTP id 3427546AD4 for ; Tue, 1 Jul 2025 21:21:54 +0200 (CEST) Received: from mails.dpdk.org (localhost [127.0.0.1]) by mails.dpdk.org (Postfix) with ESMTP id 0F4DB40298; Tue, 1 Jul 2025 21:21:54 +0200 (CEST) Received: from mail-yb1-f228.google.com (mail-yb1-f228.google.com [209.85.219.228]) by mails.dpdk.org (Postfix) with ESMTP id D0D9940298 for ; Tue, 1 Jul 2025 21:21:52 +0200 (CEST) Received: by mail-yb1-f228.google.com with SMTP id 3f1490d57ef6-e75668006b9so3547826276.3 for ; Tue, 01 Jul 2025 12:21:52 -0700 (PDT) DKIM-Signature: v=1; a=rsa-sha256; c=relaxed/relaxed; d=iol.unh.edu; s=unh-iol; t=1751397712; x=1752002512; darn=dpdk.org; h=references:in-reply-to:cc:to:from:subject:message-id:date:from:to :cc:subject:date:message-id:reply-to; bh=lST73jQizzm8TSHcSpQPTPnTx15T53pvo7s39QZYnng=; b=j0lVrDFa96teX1VINTk9ZpLnITrtzaLWWHSsMhVShGvWwPAIc2gJ4BkKDg4yxHkc+G mp3ESqeiEE1/pQQZLbq8WaS9iPGBSUmWjsSXP3WMXLDRhylM3UED+q//TxbttXMpka+K HeJWzcuQkJghHkL3b9jM19nfI4qRb/vZPkQ4w= X-Google-DKIM-Signature: v=1; a=rsa-sha256; c=relaxed/relaxed; d=1e100.net; s=20230601; t=1751397712; x=1752002512; h=references:in-reply-to:cc:to:from:subject:message-id:date :x-gm-message-state:from:to:cc:subject:date:message-id:reply-to; bh=lST73jQizzm8TSHcSpQPTPnTx15T53pvo7s39QZYnng=; b=QXtqPmX2Xdwf0xXl5VaLk3XMvx6TT1vn9aejiUuFJ4uoDCv1FRXDoEpJwEDjyK2vTG 1+9RGebyWPzP4kjdFsntc60MghyXmMwRzoUMB0XIeVbsHuek3IczZgh48FaONV7Vs63x 0q/H1qF8vRA+7rdjjDgbP3/lEBqzMubMJbEkd8xVozz9TbxKE1mcOPsrnb+iktZg7ohg sDqIU/F8SM9pHE871p+29hjlDhhnluNXJmuJewMK3MOv8Hz8+EMzLZI0blkyJNQehsnt Kj/bf6glyo3myuUZ0N3ExrpWk+XugDi06TRgdl8/OlWTf7w6bu77st5r5jHTt00l6BQV mxiw== X-Gm-Message-State: AOJu0YxDL1iUx7NFmqst2qjlo8NKe3vx0r2H6tiQUkR23oQSZ2irvge1 V4ho0UxUoVquEq1uEGMU21a4yNOaqZJRhS0f7rRur1omUymwCYZA/f1w4/R5ZzV33i3Dr9XEww3 97LPzBR5L84zeYSSsIV2Q3s8DknlO5KABDfsFFLTNgZxniTdMJnnd9iD6AcGg X-Gm-Gg: ASbGncuUifUA59ZvKYt77JQ8Uaz+/Xf52HECbxoYis80g80gm2AKqHnpxHz7Rw8xGq1 UpVK0htHlE9ochEij1xFnBgAInoL1fV+Pq6bxGjPoCWuGY8fhW6HyoOWMuLlnkspPN8xV++svDH yC+16NIk2t8SRoHeric0qQ7vQAAYd5dHTt8T4NCHTMc+ikqyYDk4QcuaOjkmULHaCKbj6ufgo0v CVPLous93C1+Mvtgoj+lEzCMlIg2bY1D4gUHFvxvxV1ISsGMSRzCJ1ozrk67HhN7Mamxc073lSJ 2KzY5SvnL+lUy50GnzODp2ZpmvEm7sUfUn45fPOZsQPW4TM= X-Google-Smtp-Source: AGHT+IEtooWeyOiSMwWmwvMC2RHi4MFCcDtAcgeAYfFDPavgGZ0rKqoCJCbCVD6Jse3YFxVF/bQNbuxQby18 X-Received: by 2002:a05:6902:100b:b0:e81:f864:133a with SMTP id 3f1490d57ef6-e897e12d4dfmr67473276.7.1751397712011; Tue, 01 Jul 2025 12:21:52 -0700 (PDT) Received: from postal.iol.unh.edu (postal.iol.unh.edu. [2606:4100:3880:1234::84]) by smtp-relay.gmail.com with ESMTPS id 3f1490d57ef6-e87a6bf7387sm534178276.18.2025.07.01.12.21.51 (version=TLS1_2 cipher=ECDHE-ECDSA-AES128-GCM-SHA256 bits=128/128); Tue, 01 Jul 2025 12:21:52 -0700 (PDT) X-Relaying-Domain: iol.unh.edu Date: Tue, 01 Jul 2025 12:21:52 -0700 (PDT) Message-ID: <68643550.250a0220.42a45.cd6bSMTPIN_ADDED_MISSING@mx.google.com> Received: from [172.21.0.5] (unknown [172.18.0.240]) by postal.iol.unh.edu (Postfix) with ESMTP id AC0EA6050A62; Tue, 1 Jul 2025 15:21:51 -0400 (EDT) Subject: |SUCCESS| pw154913 [PATCH] test/event: disable vector adapter test From: dpdklab@iol.unh.edu To: Test Report Cc: dpdk-test-reports@iol.unh.edu In-Reply-To: <20250701131524.2493132-1-thomas@monjalon.net> References: <20250701131524.2493132-1-thomas@monjalon.net> Content-Type: text/plain X-BeenThere: test-report@dpdk.org X-Mailman-Version: 2.1.29 Precedence: list List-Id: automatic DPDK test reports List-Unsubscribe: , List-Archive: List-Post: List-Help: List-Subscribe: , Errors-To: test-report-bounces@dpdk.org Test-Label: iol-compile-amd64-testing Test-Status: SUCCESS http://dpdk.org/patch/154913 _Testing PASS_ Submitter: Thomas Monjalon Date: Tuesday, July 01 2025 13:15:24 DPDK git baseline: Repo:dpdk Branch: master CommitID:20460dcffd08a4680f881c39916ae783ee830374 154913 --> testing pass Upstream job id: Windows-Compile-DPDK-VS#6223 Test environment and result as below: +---------------------+--------------------+-------------------+ | Environment | dpdk_meson_compile | dpdk_msvc_compile | +=====================+====================+===================+ | Ubuntu 20.04 | PASS | SKIPPED | +---------------------+--------------------+-------------------+ | FreeBSD 14.2 | PASS | SKIPPED | +---------------------+--------------------+-------------------+ | Windows Server 2022 | SKIPPED | PASS | +---------------------+--------------------+-------------------+ Ubuntu 20.04 Kernel: 4.19 Compiler: gcc gcc (Ubuntu 9.4.0-1ubuntu1~20.04.2) 9.4.0 FreeBSD 14.2 Kernel: 14.2-RELEASE Compiler: clang 18.1.6 Windows Server 2022 Kernel: 10.0.20348.2031 Compiler: clang 15.0.7, gcc 14.1.0 (MinGW), and MSVC VS 19.39.33521 To view detailed results, visit: https://lab.dpdk.org/results/dashboard/patchsets/33556/ UNH-IOL DPDK Community Lab To manage your email subscriptions, visit: https://lab.dpdk.org/results/dashboard/preferences/subscriptions/