From mboxrd@z Thu Jan 1 00:00:00 1970 Return-Path: Received: from mails.dpdk.org (mails.dpdk.org [217.70.189.124]) by inbox.dpdk.org (Postfix) with ESMTP id A6D7A46AD4 for ; Tue, 1 Jul 2025 21:26:24 +0200 (CEST) Received: from mails.dpdk.org (localhost [127.0.0.1]) by mails.dpdk.org (Postfix) with ESMTP id 8000F40298; Tue, 1 Jul 2025 21:26:24 +0200 (CEST) Received: from mail-oa1-f100.google.com (mail-oa1-f100.google.com [209.85.160.100]) by mails.dpdk.org (Postfix) with ESMTP id 4D62240298 for ; Tue, 1 Jul 2025 21:26:23 +0200 (CEST) Received: by mail-oa1-f100.google.com with SMTP id 586e51a60fabf-2f3dab2a2a9so419888fac.2 for ; Tue, 01 Jul 2025 12:26:23 -0700 (PDT) DKIM-Signature: v=1; a=rsa-sha256; c=relaxed/relaxed; d=iol.unh.edu; s=unh-iol; t=1751397982; x=1752002782; darn=dpdk.org; h=references:in-reply-to:cc:to:from:subject:message-id:date:from:to :cc:subject:date:message-id:reply-to; bh=7Ft3atQf5EWh5p4q7NwpiKeTNIKqSqUstdU5sbRARS0=; b=Cxh4yhKbaeHjP/wRNf7K/EsW5o+GGJAiykcD4VCorjDYhNnPSce+z+azEC4zza5iWi ZsAkiwV9lRpg+3rPgiZ7oWlOMse/epLjqKoPB0mMlTqP20XBuV51re5Jxby6Ow7Ze8Xy 3fZV/tcMA7ZHyjitKDa4qSorqRDwxCWtrXkN8= X-Google-DKIM-Signature: v=1; a=rsa-sha256; c=relaxed/relaxed; d=1e100.net; s=20230601; t=1751397982; x=1752002782; h=references:in-reply-to:cc:to:from:subject:message-id:date :x-gm-message-state:from:to:cc:subject:date:message-id:reply-to; bh=7Ft3atQf5EWh5p4q7NwpiKeTNIKqSqUstdU5sbRARS0=; b=Rf/5NncoHs9VXOnuVj4x36ROdIMpyKPEOAERup9Fp8hSooysHrvmObDyl+zDb/SE1s Z8JVmuiGNmqwyNIl1NpHk/cwlW4WULwvOk6QyBuNEpLJGYKEhGspLJGNGqdY+NF26DEr uPFFJ2al3D/ZQWGKJVyGYhHinaopbTFjcGOfQcjXUg/6X7+IbYpIZ5Dz93e3X6qzi8Nw pvHZkeS9bhNgYq2S+XO8v5nIDR5gGdV6tn/Y0C3vqwIQSRNk7CtIuZIwkkf6QtG+T+N1 3Xd2FcDYSv96YcpPNWLO2Ilat8NIxPvcoXGgzXQ1FBshCvmyargf5p5gPJCO62u50KFi yzcw== X-Gm-Message-State: AOJu0Yw+0p0M8mRc49yh4r2Enkg5xTCUmknDZWp6zAl8VfKTTVQ1vYTj Hr4rD0toOlGtq9UQjJxI8iCOXooqWrZT1doaq8XaMGZ+wIvQI+s682d6gWyHC1M6Q8OrDZ9SwZG nlO+TMIxQWTQaXdrpxN36RMz5RZscY/0oEMXJRSTP03l14uquMhXKMzOlxVL/ X-Gm-Gg: ASbGnct3G7G5koCIlqFil42QwvRbrVyAkQr+ahOTbLE7lrOOpm6Z5fCB5lM96JZuzTm KWoFb9MfFZBBPDn0lwJ0CyN7zyT+Bg7ACmofEb+p6rXBTCSpOPWGgGXG/J1HCVu2ZnZaW7rqwzM 3n/vG3GX/ekBMFyETZrm0tO5MEJ5no78VsTb4bgSLqku57Wcx2cjBL2pTasDBY+5KhLO3bn58gr pSChVWJhNbEphbekinlD4MW021bQwQtjy7vtqEhxRBBCV8A3KTmT4nlFPgYAwYYmGID1JY0TCjp QHIpIRVoduRfeJOKPlsPCO+rLqkQ4NxZn318gbLOshtaqFc= X-Google-Smtp-Source: AGHT+IFQqlrhAvltORU4MM/7/4tRE5GG2Im5XO38mCzEVI/trJz2uscd9CACr8PFanA9dObf4lMxVpHLBQ2w X-Received: by 2002:a05:6871:cd07:b0:2c1:e9a3:3ab3 with SMTP id 586e51a60fabf-2f5a8b819b7mr15498fac.33.1751397982425; Tue, 01 Jul 2025 12:26:22 -0700 (PDT) Received: from postal.iol.unh.edu (postal.iol.unh.edu. [2606:4100:3880:1234::84]) by smtp-relay.gmail.com with ESMTPS id 586e51a60fabf-2efd4fecfffsm694968fac.30.2025.07.01.12.26.22 (version=TLS1_2 cipher=ECDHE-ECDSA-AES128-GCM-SHA256 bits=128/128); Tue, 01 Jul 2025 12:26:22 -0700 (PDT) X-Relaying-Domain: iol.unh.edu Date: Tue, 01 Jul 2025 12:26:22 -0700 (PDT) Message-ID: <6864365e.050a0220.32a095.5051SMTPIN_ADDED_MISSING@mx.google.com> Received: from [172.21.0.5] (unknown [172.18.0.240]) by postal.iol.unh.edu (Postfix) with ESMTP id E0DAF6050A62; Tue, 1 Jul 2025 15:26:21 -0400 (EDT) Subject: |WARNING| pw154902 [PATCH] net/mlx5: fix masked indirect age action From: dpdklab@iol.unh.edu To: Test Report Cc: dpdk-test-reports@iol.unh.edu In-Reply-To: <20250701103253.318225-1-dsosnowski@nvidia.com> References: <20250701103253.318225-1-dsosnowski@nvidia.com> Content-Type: text/plain X-BeenThere: test-report@dpdk.org X-Mailman-Version: 2.1.29 Precedence: list List-Id: automatic DPDK test reports List-Unsubscribe: , List-Archive: List-Post: List-Help: List-Subscribe: , Errors-To: test-report-bounces@dpdk.org Test-Label: iol-compile-amd64-testing Test-Status: WARNING http://dpdk.org/patch/154902 _Testing issues_ Submitter: Dariusz Sosnowski Date: Tuesday, July 01 2025 10:32:53 DPDK git baseline: Repo:dpdk Branch: master CommitID:5c0c1a13c34aa57c6e18f9ba852a9b5807c58b72 154902 --> testing issues Upstream job id: Generic-DPDK-Compile-Meson#404198 Test environment and result as below: +-------------------------------+--------------------+-------------------+------------------+-------------------+-------------------------+----------------------+ | Environment | dpdk_meson_compile | dpdk_compile_spdk | dpdk_compile_ovs | dpdk_msvc_compile | dpdk_llvm_clang_compile | dpdk_mingw64_compile | +===============================+====================+===================+==================+===================+=========================+======================+ | CentOS Stream 9 | PASS | PASS | SKIPPED | SKIPPED | SKIPPED | SKIPPED | +-------------------------------+--------------------+-------------------+------------------+-------------------+-------------------------+----------------------+ | Fedora Linux 40 | PASS | PASS | SKIPPED | SKIPPED | SKIPPED | SKIPPED | +-------------------------------+--------------------+-------------------+------------------+-------------------+-------------------------+----------------------+ | CentOS Stream 10 | PASS | SKIPPED | SKIPPED | SKIPPED | SKIPPED | SKIPPED | +-------------------------------+--------------------+-------------------+------------------+-------------------+-------------------------+----------------------+ | Debian GNU/Linux 12 | PASS | PASS | SKIPPED | SKIPPED | SKIPPED | SKIPPED | +-------------------------------+--------------------+-------------------+------------------+-------------------+-------------------------+----------------------+ | openSUSE Leap 15.6 | PASS | SKIPPED | SKIPPED | SKIPPED | SKIPPED | SKIPPED | +-------------------------------+--------------------+-------------------+------------------+-------------------+-------------------------+----------------------+ | Red Hat Enterprise Linux 9.5 | PASS | SKIPPED | SKIPPED | SKIPPED | SKIPPED | SKIPPED | +-------------------------------+--------------------+-------------------+------------------+-------------------+-------------------------+----------------------+ | Fedora Linux 41 | PASS | WARN | PASS | SKIPPED | SKIPPED | SKIPPED | +-------------------------------+--------------------+-------------------+------------------+-------------------+-------------------------+----------------------+ | Ubuntu 20.04 | PASS | SKIPPED | SKIPPED | SKIPPED | SKIPPED | SKIPPED | +-------------------------------+--------------------+-------------------+------------------+-------------------+-------------------------+----------------------+ | Ubuntu 22.04 | PASS | PASS | SKIPPED | SKIPPED | SKIPPED | SKIPPED | +-------------------------------+--------------------+-------------------+------------------+-------------------+-------------------------+----------------------+ | Ubuntu 24.04 | PASS | PASS | PASS | SKIPPED | SKIPPED | SKIPPED | +-------------------------------+--------------------+-------------------+------------------+-------------------+-------------------------+----------------------+ | Alpine Linux 3.22.0 | PASS | SKIPPED | SKIPPED | SKIPPED | SKIPPED | SKIPPED | +-------------------------------+--------------------+-------------------+------------------+-------------------+-------------------------+----------------------+ | FreeBSD 14.2 | PASS | SKIPPED | SKIPPED | SKIPPED | SKIPPED | SKIPPED | +-------------------------------+--------------------+-------------------+------------------+-------------------+-------------------------+----------------------+ | Red Hat Enterprise Linux 8.10 | PASS | SKIPPED | SKIPPED | SKIPPED | SKIPPED | SKIPPED | +-------------------------------+--------------------+-------------------+------------------+-------------------+-------------------------+----------------------+ | Windows Server 2022 | SKIPPED | SKIPPED | SKIPPED | PASS | PASS | PASS | +-------------------------------+--------------------+-------------------+------------------+-------------------+-------------------------+----------------------+ ==== 20 line log output for Fedora Linux 41 (dpdk_compile_spdk): ==== --- Failed to get log output --- ==== End log output ==== CentOS Stream 9 Kernel: 5.15 Compiler: gcc gcc (GCC) 11.5.0 20240719 (Red Hat 11.5.0-7) Fedora Linux 40 Kernel: 5.15 Compiler: clang gcc (GCC) 14.2.1 20240912 (Red Hat 14.2.1-3) CentOS Stream 10 Kernel: 5.15 Compiler: gcc gcc (GCC) 14.2.1 20250110 (Red Hat 14.2.1-8) Debian GNU/Linux 12 Kernel: 5.15 Compiler: gcc gcc (Debian 12.2.0-14+deb12u1) 12.2.0 openSUSE Leap 15.6 Kernel: 5.15 Compiler: gcc gcc (SUSE Linux) 7.5.0 Red Hat Enterprise Linux 9.5 Kernel: 5.15 Compiler: gcc gcc (GCC) 11.5.0 20240719 (Red Hat 11.5.0-2) Fedora Linux 41 Kernel: 5.15 Compiler: gcc gcc (GCC) 14.3.1 20250523 (Red Hat 14.3.1-1) Ubuntu 20.04 Kernel: 5.15 Compiler: gcc gcc (Ubuntu 9.4.0-1ubuntu1~20.04.2) 9.4.0 Ubuntu 22.04 Kernel: 5.15 Compiler: gcc gcc (Ubuntu 11.4.0-1ubuntu1~22.04) 11.4.0 Ubuntu 24.04 Kernel: 5.15 Compiler: gcc gcc (Ubuntu 13.3.0-6ubuntu2~24.04) 13.3.0 Alpine Linux 3.22.0 Kernel: 5.15 Compiler: gcc gcc (Alpine 14.2.0) 14.2.0 FreeBSD 14.2 Kernel: 14.2-RELEASE Compiler: clang 18.1.6 Red Hat Enterprise Linux 8.10 Kernel: 5.15 Compiler: gcc gcc (GCC) 8.5.0 20210514 (Red Hat 8.5.0-22) Windows Server 2022 Kernel: 10.0.20348.2031 Compiler: clang 15.0.7, gcc 14.1.0 (MinGW), and MSVC VS 19.39.33521 To view detailed results, visit: https://lab.dpdk.org/results/dashboard/patchsets/33553/ UNH-IOL DPDK Community Lab To manage your email subscriptions, visit: https://lab.dpdk.org/results/dashboard/preferences/subscriptions/