From mboxrd@z Thu Jan 1 00:00:00 1970 Return-Path: Received: from mails.dpdk.org (mails.dpdk.org [217.70.189.124]) by inbox.dpdk.org (Postfix) with ESMTP id 0B49046AD4 for ; Tue, 1 Jul 2025 21:30:12 +0200 (CEST) Received: from mails.dpdk.org (localhost [127.0.0.1]) by mails.dpdk.org (Postfix) with ESMTP id DA21240298; Tue, 1 Jul 2025 21:30:11 +0200 (CEST) Received: from mail-qt1-f228.google.com (mail-qt1-f228.google.com [209.85.160.228]) by mails.dpdk.org (Postfix) with ESMTP id 427C540298 for ; Tue, 1 Jul 2025 21:30:10 +0200 (CEST) Received: by mail-qt1-f228.google.com with SMTP id d75a77b69052e-4a44b3526e6so79794341cf.0 for ; Tue, 01 Jul 2025 12:30:10 -0700 (PDT) DKIM-Signature: v=1; a=rsa-sha256; c=relaxed/relaxed; d=iol.unh.edu; s=unh-iol; t=1751398209; x=1752003009; darn=dpdk.org; h=references:in-reply-to:cc:to:from:subject:message-id:date:from:to :cc:subject:date:message-id:reply-to; bh=YInvVHjKE2GRdsWyXtXYcsYMpp3r/Ii1cZpp15rCB54=; b=ekcXfv8XVumXovtZsHks6pnXlqGXOesoCDdkcZtYA696ZmvgimqUjje/14Y1cmm6P/ GB+HnZXYbspp162IbOQDEWydjjoGF0xLoeb9ISKdjb7OjiqMWW8DQtf836pO+2Xhbzn8 5/bdGD3yL05HBLsqP6Bf0Df5ywYzfnMWrMDP0= X-Google-DKIM-Signature: v=1; a=rsa-sha256; c=relaxed/relaxed; d=1e100.net; s=20230601; t=1751398209; x=1752003009; h=references:in-reply-to:cc:to:from:subject:message-id:date :x-gm-message-state:from:to:cc:subject:date:message-id:reply-to; bh=YInvVHjKE2GRdsWyXtXYcsYMpp3r/Ii1cZpp15rCB54=; b=LacEJ4UraLsmt2MT911A4Qv5s4XpW9mhq9OTPZ728mqLt3znraTprfN4AzXsr1EAPN vJOT6VfMsUjfKU19bp1nngUqsFd+NU9y97hAaQHbey0N1pLNt0FbjwH1/OU9B30gioOf 0mZ+XM1PlXXYr6hZgU4T5V9sONG9Mj8/bCGTHMRigLoHvPBdC7dOlbFJ6zyMVEhu0WbZ ySSIrSHckxwhPUYNiMqZV067gLJ89kUhA91aT5ztS95fn+hSpweGtsegMYnbFrZ+yODP lmf4deMcc4Rc6h9ic7y6btDXSm3x9kFqFQwMfr9Whe7xWDF4pPE9ZkgELKmN9ExXNd8V jnjw== X-Gm-Message-State: AOJu0YxeJ6F7h+UKOuqN9OpJaoEwntLy4FBQOA0n4XJbfeErqhYnkhh7 qkolDf/w0EvLuQABD0kVunYtlgasTQ6Ai8d9sDeHwlWjvJ9GhoBywMPTsvAGbIqmTfiim5veOfb amfmb4gZjSVPdJUHs/rP/lQmpOa333KeDyx4qmyJAXXeFhLv+20pSz6RHq5Cb X-Gm-Gg: ASbGnct8ZV6N5IpDt1WMPDbvaMcC26YrlGyz7m8TwMW38q7GoqCvO7Vb1hMUkre0lkN fro5G1rDNZRQCU7Pv180987MlEhyMl+4Abtr6WETWl2VcpbFJxUvUf0lIJVM3Nohzb5qfmrywAg 4ob7VZCKYO4ovti646D1AIylnloqIWCzt6NvhhYtCSG9KQZ/ko84Wpa0ud8Jzf9B3ORsMplf6Qy KOEKPh8tUpVtTWhCk9Sh0LbeqOoJxHVCGKpa9ReEOEJeEKi4xyp0cW/5SBehuX3RtXIErYpmDCy wZj6NhL4JVbkVNNf8PkHkzZRRmYZkefpzhWIlyehc0dVhng= X-Google-Smtp-Source: AGHT+IGUtiDYtvC/m0LOOXCcrLIxebFUzqaCr5JtGY4lUVCr1PhWe0OKhzZ1xKJvJ/07qEgNZaXPas6KJJrW X-Received: by 2002:a05:6214:234e:b0:6fd:75ef:3dc3 with SMTP id 6a1803df08f44-70002ee7e82mr317718396d6.28.1751398209350; Tue, 01 Jul 2025 12:30:09 -0700 (PDT) Received: from postal.iol.unh.edu (postal.iol.unh.edu. [2606:4100:3880:1234::84]) by smtp-relay.gmail.com with ESMTPS id 6a1803df08f44-6fd77290b4fsm6589156d6.48.2025.07.01.12.30.09 (version=TLS1_2 cipher=ECDHE-ECDSA-AES128-GCM-SHA256 bits=128/128); Tue, 01 Jul 2025 12:30:09 -0700 (PDT) X-Relaying-Domain: iol.unh.edu Date: Tue, 01 Jul 2025 12:30:09 -0700 (PDT) Message-ID: <68643741.050a0220.2a0aa8.2abfSMTPIN_ADDED_MISSING@mx.google.com> Received: from [172.21.0.5] (unknown [172.18.0.240]) by postal.iol.unh.edu (Postfix) with ESMTP id 12F5F6050A62; Tue, 1 Jul 2025 15:30:09 -0400 (EDT) Subject: |SUCCESS| pw154905-154912 [PATCH] [v5,9/9] bus/dpaa: optimize qman e From: dpdklab@iol.unh.edu To: Test Report Cc: dpdk-test-reports@iol.unh.edu In-Reply-To: <20250701113707.2793004-10-vanshika.shukla@nxp.com> References: <20250701113707.2793004-10-vanshika.shukla@nxp.com> Content-Type: text/plain X-BeenThere: test-report@dpdk.org X-Mailman-Version: 2.1.29 Precedence: list List-Id: automatic DPDK test reports List-Unsubscribe: , List-Archive: List-Post: List-Help: List-Subscribe: , Errors-To: test-report-bounces@dpdk.org Test-Label: iol-unit-amd64-testing Test-Status: SUCCESS http://dpdk.org/patch/154912 _Testing PASS_ Submitter: Vanshika Shukla Date: Tuesday, July 01 2025 11:37:07 DPDK git baseline: Repo:dpdk Branch: master CommitID:3e081a0c03a5cb71555dba06a920d57e75dd09c9 154905-154912 --> testing pass Upstream job id: Generic-VM-Unit-Test-DPDK#29627 Test environment and result as below: +-------------------------------+----------------+ | Environment | dpdk_unit_test | +===============================+================+ | Fedora Linux 40 | PASS | +-------------------------------+----------------+ | CentOS Stream 9 | PASS | +-------------------------------+----------------+ | CentOS Stream 10 | PASS | +-------------------------------+----------------+ | Red Hat Enterprise Linux 8.10 | PASS | +-------------------------------+----------------+ | Fedora Linux 41 | PASS | +-------------------------------+----------------+ | Red Hat Enterprise Linux 9.5 | PASS | +-------------------------------+----------------+ | Ubuntu 22.04 | PASS | +-------------------------------+----------------+ | Ubuntu 20.04 | PASS | +-------------------------------+----------------+ | Debian GNU/Linux 12 | PASS | +-------------------------------+----------------+ | Ubuntu 24.04 | PASS | +-------------------------------+----------------+ | Windows Server 2022 | PASS | +-------------------------------+----------------+ Fedora Linux 40 Kernel: 5.15 Compiler: gcc gcc (GCC) 14.2.1 20240912 (Red Hat 14.2.1-3) CentOS Stream 9 Kernel: 5.15 Compiler: gcc gcc (GCC) 11.5.0 20240719 (Red Hat 11.5.0-7) CentOS Stream 10 Kernel: 5.15 Compiler: gcc gcc (GCC) 14.2.1 20250110 (Red Hat 14.2.1-8) Red Hat Enterprise Linux 8.10 Kernel: 5.15 Compiler: gcc gcc (GCC) 8.5.0 20210514 (Red Hat 8.5.0-22) Fedora Linux 41 Kernel: 5.15 Compiler: gcc gcc (GCC) 14.3.1 20250523 (Red Hat 14.3.1-1) Red Hat Enterprise Linux 9.5 Kernel: 5.15 Compiler: gcc gcc (GCC) 11.5.0 20240719 (Red Hat 11.5.0-2) Ubuntu 22.04 Kernel: 5.15 Compiler: gcc gcc (Ubuntu 11.4.0-1ubuntu1~22.04) 11.4.0 Ubuntu 20.04 Kernel: 5.15 Compiler: gcc gcc (Ubuntu 9.4.0-1ubuntu1~20.04.2) 9.4.0 Debian GNU/Linux 12 Kernel: 5.15 Compiler: gcc gcc (Debian 12.2.0-14+deb12u1) 12.2.0 Ubuntu 24.04 Kernel: 5.15 Compiler: gcc gcc (Ubuntu 13.3.0-6ubuntu2~24.04) 13.3.0 Windows Server 2022 Kernel: 10.0.20348.2031 Compiler: clang 15.0.7, gcc 14.1.0 (MinGW), and MSVC VS 19.39.33521 To view detailed results, visit: https://lab.dpdk.org/results/dashboard/patchsets/33555/ UNH-IOL DPDK Community Lab To manage your email subscriptions, visit: https://lab.dpdk.org/results/dashboard/preferences/subscriptions/