From mboxrd@z Thu Jan 1 00:00:00 1970 Return-Path: Received: from mails.dpdk.org (mails.dpdk.org [217.70.189.124]) by inbox.dpdk.org (Postfix) with ESMTP id 1F27346AD6 for ; Tue, 1 Jul 2025 21:42:16 +0200 (CEST) Received: from mails.dpdk.org (localhost [127.0.0.1]) by mails.dpdk.org (Postfix) with ESMTP id 1682F40298; Tue, 1 Jul 2025 21:42:16 +0200 (CEST) Received: from mail-il1-f226.google.com (mail-il1-f226.google.com [209.85.166.226]) by mails.dpdk.org (Postfix) with ESMTP id B454940298 for ; Tue, 1 Jul 2025 21:42:14 +0200 (CEST) Received: by mail-il1-f226.google.com with SMTP id e9e14a558f8ab-3df2f937370so19788165ab.3 for ; Tue, 01 Jul 2025 12:42:14 -0700 (PDT) DKIM-Signature: v=1; a=rsa-sha256; c=relaxed/relaxed; d=iol.unh.edu; s=unh-iol; t=1751398934; x=1752003734; darn=dpdk.org; h=references:in-reply-to:cc:to:from:subject:message-id:date:from:to :cc:subject:date:message-id:reply-to; bh=+5jzpgp1OPysrbbMDFXs6EKeKtAWWhYl5/GSKUg6dkY=; b=cEegX+6u5ZDj2o6W0X7WCwWHrSFNmu7PYzXRCoadOK7DmIluxl7inI3D8o7zyn7oRo NlEVQY/sfjAs8NIug+Uep/KqPwkW8ZSPDHtP4blB7cpoC4K3e0BcVxcdZSBEndZlm+jj r6JV+JKR2+UtVLKeumuiAyNLEX11UjbKLHCNA= X-Google-DKIM-Signature: v=1; a=rsa-sha256; c=relaxed/relaxed; d=1e100.net; s=20230601; t=1751398934; x=1752003734; h=references:in-reply-to:cc:to:from:subject:message-id:date :x-gm-message-state:from:to:cc:subject:date:message-id:reply-to; bh=+5jzpgp1OPysrbbMDFXs6EKeKtAWWhYl5/GSKUg6dkY=; b=snYZWDFI8aOSY0v6z087yglGrnvr7F4rOTHc44ruXzR0GEgfo9SgXVCZ12xHgZpja2 LE6Bq9vVfi/ipwUinqRNV2wYRmvmD29QUiLjzlKJFbPDYk8/x100v+Nxt5h7eVeecTmy MQGYG+sd0y1yVbyKbnknw1Mg+r+dctGeyRAoSvI68mm4Cho/BKPgWUjMBlmHsr/SZq/7 q/gxs8IvMmdvwU0eNap8DJ0HkdfgoS+XBL97VrSAJ4L0ZgDqDn4HxjI/F6pF+YOetkcC PfEt8CWTK9BoO/SgsP7WbeKPVtpS1xv95hu57Dqt7zzxYfAj7nnSMvM8eT5v5F/cmByh urfw== X-Gm-Message-State: AOJu0YwobBgkxTAHcpSOHvs4LNZ67DqNUe4OEJ7VAa+RR/BhptU0OHCH IzCBLCfqa8BaOycDakb+cRLdY33p/QCniQ27FW56lEz7fYCriwDNJw8uUzumpg7+9ifdzR0Q4kv sFVoX4qwjBfRrhuw6jcwnUMWWsC7m3/PzHNrm8uY63LWJ X-Gm-Gg: ASbGncvo5hN6DdUh+I3A17RRHkumb0OYdp3gXoS1tDUOVyezR6Kky1aTfX15Zp3NfLf e3Hoy3zmSyqi+bSL7OJnUN9ZtYahKXNb8HltRinXsyVayjQ3vM9tz50ruiOkfKFNvy3LaBtSlG1 kOu+5BsbX/tXQ2v0eZO2BHZjDZlfcIMuA8huHkZ7rq/g2V6CkGj8Ho6FTioXDTTyVZ/Vt0sCiul v73hoNOPlV2Y/26ZuHy8RjxxzsmBgbKiUG/k/mfq/OBe5Mw992I1Yi8Ev5aGmpi9zbOBroGcteL wPe5D+/YuEJ+e7L+mZ6maVAeFK6TKT9mMo5+fFcXiKmHPf+RQL6NK5j0GeWP1GkUlzcBqw== X-Google-Smtp-Source: AGHT+IFuQpW7MkE2el9JGZ/Z9+CZZM6OJn6zo2/5VZ9DFfrS5rwfHbkq5h/5saIesbtFQ7Bue51LRkyBxUOl X-Received: by 2002:a05:6e02:3805:b0:3dc:8423:5440 with SMTP id e9e14a558f8ab-3e05485c170mr4670235ab.0.1751398933962; Tue, 01 Jul 2025 12:42:13 -0700 (PDT) Received: from postal.iol.unh.edu (postal.iol.unh.edu. [132.177.123.84]) by smtp-relay.gmail.com with ESMTPS id 8926c6da1cb9f-502048580d9sm429265173.7.2025.07.01.12.42.13 (version=TLS1_2 cipher=ECDHE-ECDSA-AES128-GCM-SHA256 bits=128/128); Tue, 01 Jul 2025 12:42:13 -0700 (PDT) X-Relaying-Domain: iol.unh.edu Date: Tue, 01 Jul 2025 12:42:13 -0700 (PDT) Message-ID: <68643a15.050a0220.15bb2.74ffSMTPIN_ADDED_MISSING@mx.google.com> Received: from [172.21.0.7] (unknown [172.18.0.240]) by postal.iol.unh.edu (Postfix) with ESMTP id 97FD66050A62; Tue, 1 Jul 2025 15:42:13 -0400 (EDT) Subject: |SUCCESS| pw154905-154912 [PATCH] [v5,9/9] bus/dpaa: optimize qman e From: dpdklab@iol.unh.edu To: Test Report Cc: dpdk-test-reports@iol.unh.edu In-Reply-To: <20250701113707.2793004-10-vanshika.shukla@nxp.com> References: <20250701113707.2793004-10-vanshika.shukla@nxp.com> Content-Type: text/plain X-BeenThere: test-report@dpdk.org X-Mailman-Version: 2.1.29 Precedence: list List-Id: automatic DPDK test reports List-Unsubscribe: , List-Archive: List-Post: List-Help: List-Subscribe: , Errors-To: test-report-bounces@dpdk.org Test-Label: iol-unit-amd64-testing Test-Status: SUCCESS http://dpdk.org/patch/154912 _Testing PASS_ Submitter: Vanshika Shukla Date: Tuesday, July 01 2025 11:37:07 DPDK git baseline: Repo:dpdk Branch: master CommitID:3e081a0c03a5cb71555dba06a920d57e75dd09c9 154905-154912 --> testing pass Upstream job id: Generic-VM-Unit-Test-DPDK#29628 Test environment and result as below: +-------------------------------+----------------+ | Environment | dpdk_unit_test | +===============================+================+ | Fedora Linux 40 | PASS | +-------------------------------+----------------+ | CentOS Stream 9 | PASS | +-------------------------------+----------------+ | CentOS Stream 10 | PASS | +-------------------------------+----------------+ | Red Hat Enterprise Linux 8.10 | PASS | +-------------------------------+----------------+ | Fedora Linux 41 | PASS | +-------------------------------+----------------+ | Red Hat Enterprise Linux 9.5 | PASS | +-------------------------------+----------------+ | Ubuntu 22.04 | PASS | +-------------------------------+----------------+ | Ubuntu 20.04 | PASS | +-------------------------------+----------------+ | Debian GNU/Linux 12 | PASS | +-------------------------------+----------------+ | Ubuntu 24.04 | PASS | +-------------------------------+----------------+ | Windows Server 2022 | PASS | +-------------------------------+----------------+ Fedora Linux 40 Kernel: 5.15 Compiler: gcc gcc (GCC) 14.2.1 20240912 (Red Hat 14.2.1-3) CentOS Stream 9 Kernel: 5.15 Compiler: gcc gcc (GCC) 11.5.0 20240719 (Red Hat 11.5.0-7) CentOS Stream 10 Kernel: 5.15 Compiler: gcc gcc (GCC) 14.2.1 20250110 (Red Hat 14.2.1-8) Red Hat Enterprise Linux 8.10 Kernel: 5.15 Compiler: gcc gcc (GCC) 8.5.0 20210514 (Red Hat 8.5.0-22) Fedora Linux 41 Kernel: 5.15 Compiler: gcc gcc (GCC) 14.3.1 20250523 (Red Hat 14.3.1-1) Red Hat Enterprise Linux 9.5 Kernel: 5.15 Compiler: gcc gcc (GCC) 11.5.0 20240719 (Red Hat 11.5.0-2) Ubuntu 22.04 Kernel: 5.15 Compiler: gcc gcc (Ubuntu 11.4.0-1ubuntu1~22.04) 11.4.0 Ubuntu 20.04 Kernel: 5.15 Compiler: gcc gcc (Ubuntu 9.4.0-1ubuntu1~20.04.2) 9.4.0 Debian GNU/Linux 12 Kernel: 5.15 Compiler: gcc gcc (Debian 12.2.0-14+deb12u1) 12.2.0 Ubuntu 24.04 Kernel: 5.15 Compiler: gcc gcc (Ubuntu 13.3.0-6ubuntu2~24.04) 13.3.0 Windows Server 2022 Kernel: 10.0.20348.2031 Compiler: clang 15.0.7, gcc 14.1.0 (MinGW), and MSVC VS 19.39.33521 To view detailed results, visit: https://lab.dpdk.org/results/dashboard/patchsets/33555/ UNH-IOL DPDK Community Lab To manage your email subscriptions, visit: https://lab.dpdk.org/results/dashboard/preferences/subscriptions/