From mboxrd@z Thu Jan 1 00:00:00 1970 Return-Path: Received: from mails.dpdk.org (mails.dpdk.org [217.70.189.124]) by inbox.dpdk.org (Postfix) with ESMTP id D6C9B46AD6 for ; Tue, 1 Jul 2025 21:48:04 +0200 (CEST) Received: from mails.dpdk.org (localhost [127.0.0.1]) by mails.dpdk.org (Postfix) with ESMTP id B2C5540298; Tue, 1 Jul 2025 21:48:04 +0200 (CEST) Received: from mail-pg1-f225.google.com (mail-pg1-f225.google.com [209.85.215.225]) by mails.dpdk.org (Postfix) with ESMTP id B7C1140298 for ; Tue, 1 Jul 2025 21:48:02 +0200 (CEST) Received: by mail-pg1-f225.google.com with SMTP id 41be03b00d2f7-b31c978688dso3678516a12.1 for ; Tue, 01 Jul 2025 12:48:02 -0700 (PDT) DKIM-Signature: v=1; a=rsa-sha256; c=relaxed/relaxed; d=iol.unh.edu; s=unh-iol; t=1751399282; x=1752004082; darn=dpdk.org; h=references:in-reply-to:cc:to:from:subject:message-id:date:from:to :cc:subject:date:message-id:reply-to; bh=8cQ7GJYszxTDPMRk/Ncqx4NspVOvtOLdPqkOCvkwLpQ=; b=jLJwNkcnHIg7zzeZ/FOFE+aIZdfcsb4ACzFMOL5lDdWM5DKuPRY3jOysRPZvjaNcTt 8ZuwoqY1NQimJ9YBZoyQUo/bJdMmv5FdDrmc11HviwbjsBjH5YiHQgNqYooQ/g1ScKf5 ridvK1tF4qVwwRGpSdhe2plXuep8IVeN2dq68= X-Google-DKIM-Signature: v=1; a=rsa-sha256; c=relaxed/relaxed; d=1e100.net; s=20230601; t=1751399282; x=1752004082; h=references:in-reply-to:cc:to:from:subject:message-id:date :x-gm-message-state:from:to:cc:subject:date:message-id:reply-to; bh=8cQ7GJYszxTDPMRk/Ncqx4NspVOvtOLdPqkOCvkwLpQ=; b=rHAUm41j2olKZCnS9HguOy1DkvKZmgy3Rm0qMwbMKijW7I6NKPtawhf3tes+pcgtoD lxqTk4rHUwDKBHEQNIPLGj04EtoedYZpVnJBwr5TBdvrm4YeJYjfvSKN4WiijhZS7SqW GvIUicl2kfNvbBg3G59A6FSbdnF6O0JJF5IgGzOlhwJFiEQ5W5zBNBfn+EYn5mHCdSSe KKRbs7vhgMU8DOExz7OT69pjFWFLymZRh7u+pXGjcW7pv7Qn/GPwgTGtJd1KMa7r9wz0 G7F3xT9C4k5NVGDPZ4jDnJfZKsm4Yx9xdwVFWjlz4wRek0jGTg4lpfaYPp5u8jkywHXI sxYA== X-Gm-Message-State: AOJu0Yyb2uLKXI70E3e8QYnISbRX4N/oOFAPFK0nX9kpvL1kNQFuV7Ei u8zKbFEnOXra9mlvUZxa6yFwSsXGUV/P8uydBuYNACJl8D01dJLsm17jLtMnuEfkeSESjnG6HCR wA8WfTQICVmZrX0FwAormlyrbE7A0EJSOiMNOAf10H17c X-Gm-Gg: ASbGncueeO5IVVUMLN/8gh4wFDU5vFGjvfMG2ozOaCVkQbSryNhx2+BCyCF8UdLNGSM F1rH7pVv0wIEeawd+6Q2L9sMQoQ5LRSoyhrLaDgtLpZr5YhNYZKx9xUy0iPoVkX1xfG3BNtH8sy 2AFZJPLK5/doTjFlpomRPHv6QX0ez8t/YGQX2gtowYm8LcbdqDyGaMkRGyiN6qWkILm7UK9IuCe QHBzi69LEzV3YrYe37bWE+9XTd1y2gv9kElCtoWevnQ8LtGAGO9zHI6GwiOICQPxBw81p1WDhmJ 2lP0SoABEvJqeEx1zgP5baW5+/KWs/iWBnPd98gF7AnSGo+MhH87n0NdMtYHTjgl2d2k3Q== X-Google-Smtp-Source: AGHT+IFbSxCY+sXkkdc/08hT0embg2qSzMs7nYnBjU1ja2/phCyckeI+qXWy7mEsnXYQH3OCATNkvrKT3E6A X-Received: by 2002:a05:6a21:6497:b0:220:8fee:6d50 with SMTP id adf61e73a8af0-222d7e904afmr584218637.22.1751399281783; Tue, 01 Jul 2025 12:48:01 -0700 (PDT) Received: from postal.iol.unh.edu (postal.iol.unh.edu. [132.177.123.84]) by smtp-relay.gmail.com with ESMTPS id d2e1a72fcca58-74af54e6fd0sm618062b3a.15.2025.07.01.12.48.01 (version=TLS1_2 cipher=ECDHE-ECDSA-AES128-GCM-SHA256 bits=128/128); Tue, 01 Jul 2025 12:48:01 -0700 (PDT) X-Relaying-Domain: iol.unh.edu Date: Tue, 01 Jul 2025 12:48:01 -0700 (PDT) Message-ID: <68643b71.050a0220.24728d.125eSMTPIN_ADDED_MISSING@mx.google.com> Received: from [172.21.0.5] (unknown [172.18.0.240]) by postal.iol.unh.edu (Postfix) with ESMTP id F0F506050A62; Tue, 1 Jul 2025 15:48:00 -0400 (EDT) Subject: |SUCCESS| pw154913 [PATCH] test/event: disable vector adapter test From: dpdklab@iol.unh.edu To: Test Report Cc: dpdk-test-reports@iol.unh.edu In-Reply-To: <20250701131524.2493132-1-thomas@monjalon.net> References: <20250701131524.2493132-1-thomas@monjalon.net> Content-Type: text/plain X-BeenThere: test-report@dpdk.org X-Mailman-Version: 2.1.29 Precedence: list List-Id: automatic DPDK test reports List-Unsubscribe: , List-Archive: List-Post: List-Help: List-Subscribe: , Errors-To: test-report-bounces@dpdk.org Test-Label: iol-compile-amd64-testing Test-Status: SUCCESS http://dpdk.org/patch/154913 _Testing PASS_ Submitter: Thomas Monjalon Date: Tuesday, July 01 2025 13:15:24 DPDK git baseline: Repo:dpdk Branch: master CommitID:20460dcffd08a4680f881c39916ae783ee830374 154913 --> testing pass Upstream job id: Windows-Compile-DPDK-VS#6224 Test environment and result as below: +---------------------+--------------------+-------------------+ | Environment | dpdk_meson_compile | dpdk_msvc_compile | +=====================+====================+===================+ | FreeBSD 14.2 | PASS | SKIPPED | +---------------------+--------------------+-------------------+ | Ubuntu 20.04 | PASS | SKIPPED | +---------------------+--------------------+-------------------+ | Windows Server 2022 | SKIPPED | PASS | +---------------------+--------------------+-------------------+ FreeBSD 14.2 Kernel: 14.2-RELEASE Compiler: clang 18.1.6 Ubuntu 20.04 Kernel: 4.19 Compiler: gcc gcc (Ubuntu 9.4.0-1ubuntu1~20.04.2) 9.4.0 Windows Server 2022 Kernel: 10.0.20348.2031 Compiler: clang 15.0.7, gcc 14.1.0 (MinGW), and MSVC VS 19.39.33521 To view detailed results, visit: https://lab.dpdk.org/results/dashboard/patchsets/33556/ UNH-IOL DPDK Community Lab To manage your email subscriptions, visit: https://lab.dpdk.org/results/dashboard/preferences/subscriptions/