automatic DPDK test reports
 help / color / mirror / Atom feed
From: dpdklab@iol.unh.edu
To: Test Report <test-report@dpdk.org>
Cc: dpdk-test-reports@iol.unh.edu
Subject: |SUCCESS| pw154903 [PATCH] ci: check C++ headers with clang
Date: Tue, 01 Jul 2025 12:51:49 -0700 (PDT)	[thread overview]
Message-ID: <68643c55.050a0220.13046.424eSMTPIN_ADDED_MISSING@mx.google.com> (raw)
In-Reply-To: <20250701113146.1268492-1-david.marchand@redhat.com>

Test-Label: iol-unit-arm64-testing
Test-Status: SUCCESS
http://dpdk.org/patch/154903

_Testing PASS_

Submitter: David Marchand <david.marchand@redhat.com>
Date: Tuesday, July 01 2025 11:31:46 
DPDK git baseline: Repo:dpdk
  Branch: master
  CommitID:20460dcffd08a4680f881c39916ae783ee830374

154903 --> testing pass

Upstream job id: Generic-Unit-Test-DPDK#351527

Test environment and result as below:

+---------------------+--------------+----------------+------------------------------+
|     Environment     | lpm_autotest | dpdk_unit_test | cryptodev_sw_snow3g_autotest |
+=====================+==============+================+==============================+
| Ubuntu 20.04        | PASS         | PASS           | SKIPPED                      |
+---------------------+--------------+----------------+------------------------------+
| Fedora Linux 40     | SKIPPED      | PASS           | SKIPPED                      |
+---------------------+--------------+----------------+------------------------------+
| Debian GNU/Linux 12 | SKIPPED      | PASS           | SKIPPED                      |
+---------------------+--------------+----------------+------------------------------+
| CentOS Stream 10    | SKIPPED      | PASS           | SKIPPED                      |
+---------------------+--------------+----------------+------------------------------+
| Fedora Linux 41     | SKIPPED      | PASS           | SKIPPED                      |
+---------------------+--------------+----------------+------------------------------+
| Ubuntu 24.04        | SKIPPED      | PASS           | SKIPPED                      |
+---------------------+--------------+----------------+------------------------------+
| Ubuntu 22.04        | SKIPPED      | PASS           | SKIPPED                      |
+---------------------+--------------+----------------+------------------------------+
| Debian 12 (arm)     | SKIPPED      | SKIPPED        | PASS                         |
+---------------------+--------------+----------------+------------------------------+


Ubuntu 20.04
	Kernel: 5.4
	Compiler: gcc gcc (Ubuntu 9.4.0-1ubuntu1~20.04.2) 9.4.0

Fedora Linux 40
	Kernel: 5.4
	Compiler: clang gcc (GCC) 14.2.1 20240912 (Red Hat 14.2.1-3)

Debian GNU/Linux 12
	Kernel: 5.4
	Compiler: gcc gcc (Debian 12.2.0-14+deb12u1) 12.2.0

CentOS Stream 10
	Kernel: 5.4
	Compiler: gcc gcc (GCC) 14.2.1 20250110 (Red Hat 14.2.1-8)

Fedora Linux 41
	Kernel: 5.4
	Compiler: clang gcc (GCC) 14.3.1 20250523 (Red Hat 14.3.1-1)

Ubuntu 24.04
	Kernel: 5.4
	Compiler: gcc gcc (Ubuntu 13.3.0-6ubuntu2~24.04) 13.3.0

Ubuntu 22.04
	Kernel: 5.15
	Compiler: gcc gcc (Ubuntu 11.4.0-1ubuntu1~22.04) 11.4.0

Debian 12 (arm)
	Kernel: Depends on container host
	Compiler: gcc (Debian 12.2.0-14) 12.2.0

To view detailed results, visit:
https://lab.dpdk.org/results/dashboard/patchsets/33554/

UNH-IOL DPDK Community Lab

To manage your email subscriptions, visit: 
https://lab.dpdk.org/results/dashboard/preferences/subscriptions/

  parent reply	other threads:[~2025-07-01 19:51 UTC|newest]

Thread overview: 26+ messages / expand[flat|nested]  mbox.gz  Atom feed  top
     [not found] <20250701113146.1268492-1-david.marchand@redhat.com>
2025-07-01 10:59 ` qemudev
2025-07-01 11:03 ` qemudev
2025-07-01 11:32 ` checkpatch
2025-07-01 12:43 ` 0-day Robot
2025-07-01 16:18 ` dpdklab
2025-07-01 16:19 ` dpdklab
2025-07-01 16:31 ` dpdklab
2025-07-01 16:43 ` dpdklab
2025-07-01 16:44 ` dpdklab
2025-07-01 16:59 ` dpdklab
2025-07-01 18:00 ` |PENDING| " dpdklab
2025-07-01 18:18 ` |SUCCESS| " dpdklab
2025-07-01 18:35 ` |PENDING| " dpdklab
2025-07-01 18:58 ` |SUCCESS| " dpdklab
2025-07-01 19:40 ` |PENDING| " dpdklab
2025-07-01 19:51 ` dpdklab [this message]
2025-07-01 19:53 ` |SUCCESS| " dpdklab
2025-07-01 20:23 ` dpdklab
2025-07-01 20:35 ` |PENDING| " dpdklab
2025-07-01 21:30 ` dpdklab
2025-07-01 22:35 ` |SUCCESS| " dpdklab
2025-07-01 22:39 ` dpdklab
2025-07-02  0:11 ` |WARNING| " dpdklab
2025-07-02  1:49 ` |SUCCESS| " dpdklab
2025-07-02  1:49 ` dpdklab
2025-07-02  3:24 ` dpdklab

Reply instructions:

You may reply publicly to this message via plain-text email
using any one of the following methods:

* Save the following mbox file, import it into your mail client,
  and reply-to-all from there: mbox

  Avoid top-posting and favor interleaved quoting:
  https://en.wikipedia.org/wiki/Posting_style#Interleaved_style

* Reply using the --to, --cc, and --in-reply-to
  switches of git-send-email(1):

  git send-email \
    --in-reply-to=68643c55.050a0220.13046.424eSMTPIN_ADDED_MISSING@mx.google.com \
    --to=dpdklab@iol.unh.edu \
    --cc=dpdk-test-reports@iol.unh.edu \
    --cc=test-report@dpdk.org \
    /path/to/YOUR_REPLY

  https://kernel.org/pub/software/scm/git/docs/git-send-email.html

* If your mail client supports setting the In-Reply-To header
  via mailto: links, try the mailto: link
Be sure your reply has a Subject: header at the top and a blank line before the message body.
This is a public inbox, see mirroring instructions
for how to clone and mirror all data and code used for this inbox;
as well as URLs for NNTP newsgroup(s).