From mboxrd@z Thu Jan 1 00:00:00 1970 Return-Path: Received: from mails.dpdk.org (mails.dpdk.org [217.70.189.124]) by inbox.dpdk.org (Postfix) with ESMTP id 4042A46AD6 for ; Tue, 1 Jul 2025 21:53:04 +0200 (CEST) Received: from mails.dpdk.org (localhost [127.0.0.1]) by mails.dpdk.org (Postfix) with ESMTP id 3945840298; Tue, 1 Jul 2025 21:53:04 +0200 (CEST) Received: from mail-yb1-f227.google.com (mail-yb1-f227.google.com [209.85.219.227]) by mails.dpdk.org (Postfix) with ESMTP id CEE0D40298 for ; Tue, 1 Jul 2025 21:53:02 +0200 (CEST) Received: by mail-yb1-f227.google.com with SMTP id 3f1490d57ef6-e87c86845d9so2183433276.1 for ; Tue, 01 Jul 2025 12:53:02 -0700 (PDT) DKIM-Signature: v=1; a=rsa-sha256; c=relaxed/relaxed; d=iol.unh.edu; s=unh-iol; t=1751399582; x=1752004382; darn=dpdk.org; h=references:in-reply-to:cc:to:from:subject:message-id:date:from:to :cc:subject:date:message-id:reply-to; bh=pSFnzcOMjBG0uuLomABOuvhTEmdFlNi1OnQIABQ3roc=; b=bzoF5GDhNBFB9s0vGhzt2cwQl0rpIVRZENNKSXZEumnOLOjbGyu9xppQ9sMk4P+5m9 Ohf1DwdkBRjkTrJbqJ5TSC0CWkEBI2jWXBoLYzwBmB+zGe+non5RaFZpr3gSd5bI246Y LZd1rkZKqUFFv1VJQXnAIAvMCWXieJRghLh4g= X-Google-DKIM-Signature: v=1; a=rsa-sha256; c=relaxed/relaxed; d=1e100.net; s=20230601; t=1751399582; x=1752004382; h=references:in-reply-to:cc:to:from:subject:message-id:date :x-gm-message-state:from:to:cc:subject:date:message-id:reply-to; bh=pSFnzcOMjBG0uuLomABOuvhTEmdFlNi1OnQIABQ3roc=; b=dbqAO8mQhjn6J/1OMSJvYMeDDo/hCXMhorJNHkNfPBAm9ub0m6uQosJIddqpVrgO5j 2KMxI53ovToCSnXo/wBuVT5bOcEnsYNCwV5efdIQYXkvtIYW41yI4+JF1nFhgb5C/re9 qDHPpTZZ7aM2BMmPbY4ciOcyTC5K3nchRLiOZHSyp7+PAaHv9msscriCpz0BjCw57IVh psiTtrA4Hn4TLY/p4uYQY0KqhPH51Vq8HlzT7eV7DfyORLqMNEyZgn+CKd/A+4/aN9z9 mBVLrMrTNTMB1c/SYr2z7dYoYeZYuhjWGpsvLWzs6wNdmG3crrxRcDNu6IobdB2lMFXj Qymw== X-Gm-Message-State: AOJu0Yz2gCbNmbYzJRD0SmGtVNJliJMd9rsKwBK+EeGi11/NDg8tF2aA HkZvAXeuyMRoaWLkwpJaCCaBsGVtoyfQHwEfz/v6+P2EwPkoo3FzfwV9wtPtD6qqV5WKcjiiIFd dn2Gpcji0N5aaUNEvK2VRtwoZr21j2NtqVud7xxx0stnI X-Gm-Gg: ASbGncv1RnyB8OCd1XMvPBHmRQ8+CXEhquaGJsgO/LrBrnhMk/25/RukEzWb4ydIxKb HPnAfJ1/Q79w1gnRZkFKf16gt9cc1gFrLLcP0hSr2g90eT5j/T+Yti9PEgbKpM0U1kyssMB+17+ 0sCQnNVGVrJzVBteejHkbF7fQy24woJnbruL8by4k4DtN3wJiy3r7HLQ/zEHzdljlNH2TbT3QLe LQYv98rW2YRVhq2miYF85AQLuIEayAqeWXYwlFe9J3rIZKSeQD1cQuQt10dIf364MJXK5P3xM6k nSY5EKqOYTeRzV/xVofa7jOFBc4Rv/O/ypO10Gzf4rZAKmF9mUU3K+R8MB6o6+o7xzudwQ== X-Google-Smtp-Source: AGHT+IG5u5uhNOSoDmEvCwoeSFCyUkF5TnkdLqjDrrm/hQRZkzaU0q5sfcX0YsHCo2y5KLNiRYM5ucXeCGQ4 X-Received: by 2002:a05:6902:154e:b0:e7d:b0b6:1bf6 with SMTP id 3f1490d57ef6-e897e1cd9b5mr159221276.12.1751399582084; Tue, 01 Jul 2025 12:53:02 -0700 (PDT) Received: from postal.iol.unh.edu (postal.iol.unh.edu. [132.177.123.84]) by smtp-relay.gmail.com with ESMTPS id 3f1490d57ef6-e87a6c32d6dsm505870276.29.2025.07.01.12.53.02 (version=TLS1_2 cipher=ECDHE-ECDSA-AES128-GCM-SHA256 bits=128/128); Tue, 01 Jul 2025 12:53:02 -0700 (PDT) X-Relaying-Domain: iol.unh.edu Date: Tue, 01 Jul 2025 12:53:02 -0700 (PDT) Message-ID: <68643c9e.250a0220.3a74e7.af0aSMTPIN_ADDED_MISSING@mx.google.com> Received: from [172.21.0.5] (unknown [172.18.0.240]) by postal.iol.unh.edu (Postfix) with ESMTP id BBBD0604D420; Tue, 1 Jul 2025 15:53:01 -0400 (EDT) Subject: |SUCCESS| pw154903 [PATCH] ci: check C++ headers with clang From: dpdklab@iol.unh.edu To: Test Report Cc: dpdk-test-reports@iol.unh.edu In-Reply-To: <20250701113146.1268492-1-david.marchand@redhat.com> References: <20250701113146.1268492-1-david.marchand@redhat.com> Content-Type: text/plain X-BeenThere: test-report@dpdk.org X-Mailman-Version: 2.1.29 Precedence: list List-Id: automatic DPDK test reports List-Unsubscribe: , List-Archive: List-Post: List-Help: List-Subscribe: , Errors-To: test-report-bounces@dpdk.org Test-Label: iol-compile-amd64-testing Test-Status: SUCCESS http://dpdk.org/patch/154903 _Testing PASS_ Submitter: David Marchand Date: Tuesday, July 01 2025 11:31:46 DPDK git baseline: Repo:dpdk Branch: master CommitID:20460dcffd08a4680f881c39916ae783ee830374 154903 --> testing pass Upstream job id: Windows-Compile-DPDK-Native#29485 Test environment and result as below: +---------------------+--------------------+-------------------+-------------------------+ | Environment | dpdk_meson_compile | dpdk_msvc_compile | dpdk_llvm_clang_compile | +=====================+====================+===================+=========================+ | Ubuntu 20.04 | PASS | SKIPPED | SKIPPED | +---------------------+--------------------+-------------------+-------------------------+ | FreeBSD 14.2 | PASS | SKIPPED | SKIPPED | +---------------------+--------------------+-------------------+-------------------------+ | Windows Server 2022 | SKIPPED | PASS | PASS | +---------------------+--------------------+-------------------+-------------------------+ Ubuntu 20.04 Kernel: 4.19 Compiler: gcc gcc (Ubuntu 9.4.0-1ubuntu1~20.04.2) 9.4.0 FreeBSD 14.2 Kernel: 14.2-RELEASE Compiler: clang 18.1.6 Windows Server 2022 Kernel: 10.0.20348.2031 Compiler: clang 15.0.7, gcc 14.1.0 (MinGW), and MSVC VS 19.39.33521 To view detailed results, visit: https://lab.dpdk.org/results/dashboard/patchsets/33554/ UNH-IOL DPDK Community Lab To manage your email subscriptions, visit: https://lab.dpdk.org/results/dashboard/preferences/subscriptions/