From mboxrd@z Thu Jan 1 00:00:00 1970 Return-Path: Received: from mails.dpdk.org (mails.dpdk.org [217.70.189.124]) by inbox.dpdk.org (Postfix) with ESMTP id E191446AD7 for ; Tue, 1 Jul 2025 22:13:10 +0200 (CEST) Received: from mails.dpdk.org (localhost [127.0.0.1]) by mails.dpdk.org (Postfix) with ESMTP id BF71840298; Tue, 1 Jul 2025 22:13:10 +0200 (CEST) Received: from mail-io1-f100.google.com (mail-io1-f100.google.com [209.85.166.100]) by mails.dpdk.org (Postfix) with ESMTP id 4CF0D40298 for ; Tue, 1 Jul 2025 22:13:09 +0200 (CEST) Received: by mail-io1-f100.google.com with SMTP id ca18e2360f4ac-86cf9f46b06so129418139f.2 for ; Tue, 01 Jul 2025 13:13:09 -0700 (PDT) DKIM-Signature: v=1; a=rsa-sha256; c=relaxed/relaxed; d=iol.unh.edu; s=unh-iol; t=1751400788; x=1752005588; darn=dpdk.org; h=references:in-reply-to:cc:to:from:subject:message-id:date:from:to :cc:subject:date:message-id:reply-to; bh=6tEJ8bsRm/saC/tiC6wE7q1c0Vsn/qmjtYjA4bwkWh4=; b=OmvxDvEi5u1z4mTjlyEL456peos56EosFqOqMHzNTIEbtYxKkkb/v8u3nmaIrzjKV4 9PEYDOLHg93Y2Jb/fugwnhaCNO4ZK+cTGj1hatK68NQ6iMPqsEyNiVtQcUScmQEWya// pGSC3efWut1+ZVMC/e7LEHhh+v6zWpExIjubY= X-Google-DKIM-Signature: v=1; a=rsa-sha256; c=relaxed/relaxed; d=1e100.net; s=20230601; t=1751400788; x=1752005588; h=references:in-reply-to:cc:to:from:subject:message-id:date :x-gm-message-state:from:to:cc:subject:date:message-id:reply-to; bh=6tEJ8bsRm/saC/tiC6wE7q1c0Vsn/qmjtYjA4bwkWh4=; b=n8BSURUHfYrCqeVcOnC1EZlkrzC8AVDd+QUpCNbWCsQPFC4aPmWeNwcVoCBlzsZr8Q AKSDTnOF2KdjdDw2R4vBfUOi1f/Z1F+XdOLgoAfH23wxNycJ33fsMmkv41DCuJoNK3RG wy+Wbohu5+43fispo4Tp+wuPJgtsrBPvEc/9xdP4EIvZeGj1ijYXwWiRhdBFwdiZJ7uV 96YpLUA6iebKRtP/QEi2LeNUeXZzDEkXIdKL51zeMJATqaaQXxEq0w0OlBaaoNex2zIw UNs+JRPjQLsq0Xmwzpq6M0uz8RaqUPvERzP7h9I3Ah/ZfwMeK2k9uYKr2i0mJDg9AJzu 2fsA== X-Gm-Message-State: AOJu0YwhTpLvrAljacrxWiV02YnUQ1TEjB8ASH0idrUclpNPaA+L06Wb 8qXm+d55MCwFy7jQ9UL0LrJ7FQTY1OjZb+goX9x3u5HaGEyQ7XSBlNEXDf4peJ5DSkdMIdFhHHp B5WL/wgayVpu7zaO+1UQ3c9ejfDzpd3HYcypO1tOQ7aVX X-Gm-Gg: ASbGnctG4ZVOkrNwsaIbpAiogSDNj4TNoJ4uT5/wkhdjGPiBzXHrQ0GzsSNVqvcn9dP 2HscmfoC/h7EKKHw50gl+Am20AXZJEaLMrS7lHzUob14xys0CzMRYw84r4HrxIQDt48S/waY//p +3RnH8b+G+acDplwW0GrYPH2QUpKJTqG/yGqkvNWPTlPqoSdjqSc9Ll7hQYFGoah9hREiBww7wW nG8qDsuHeABFGyLD6zjDlRv7803RobMkEo55h0qgnWepS1IvPir34TV/dBIHV04U/YqDa2s/tV7 g5n2jEKOTHjfkLL91EDuQlxoEpm4DWejbt8arlJDutvpBA3UQJdjcneGWelxjUzGnhd6Ig== X-Google-Smtp-Source: AGHT+IESqXYKSC78P+UprO9NapX/AIvWyAYgROj8SFtSSxY8uCgyaShjfBlDWYrwZi0K0QPirEgNqtDTwLs4 X-Received: by 2002:a05:6e02:2591:b0:3df:4cf8:dd46 with SMTP id e9e14a558f8ab-3e054ac7257mr3670845ab.10.1751400788326; Tue, 01 Jul 2025 13:13:08 -0700 (PDT) Received: from postal.iol.unh.edu (postal.iol.unh.edu. [132.177.123.84]) by smtp-relay.gmail.com with ESMTPS id e9e14a558f8ab-3df49ffdfb4sm6388865ab.11.2025.07.01.13.13.08 (version=TLS1_2 cipher=ECDHE-ECDSA-AES128-GCM-SHA256 bits=128/128); Tue, 01 Jul 2025 13:13:08 -0700 (PDT) X-Relaying-Domain: iol.unh.edu Date: Tue, 01 Jul 2025 13:13:08 -0700 (PDT) Message-ID: <68644154.050a0220.15feba.20f4SMTPIN_ADDED_MISSING@mx.google.com> Received: from [172.21.0.7] (unknown [172.18.0.240]) by postal.iol.unh.edu (Postfix) with ESMTP id D80CE604D420; Tue, 1 Jul 2025 16:13:07 -0400 (EDT) Subject: |SUCCESS| pw154889-154890 [PATCH] [v2,6/6] net/hns3: VF support mult From: dpdklab@iol.unh.edu To: Test Report Cc: dpdk-test-reports@iol.unh.edu In-Reply-To: <20250701064512.3868175-7-huangdengdui@huawei.com> References: <20250701064512.3868175-7-huangdengdui@huawei.com> Content-Type: text/plain X-BeenThere: test-report@dpdk.org X-Mailman-Version: 2.1.29 Precedence: list List-Id: automatic DPDK test reports List-Unsubscribe: , List-Archive: List-Post: List-Help: List-Subscribe: , Errors-To: test-report-bounces@dpdk.org Test-Label: iol-unit-amd64-testing Test-Status: SUCCESS http://dpdk.org/patch/154890 _Testing PASS_ Submitter: Dengdui Huang Date: Tuesday, July 01 2025 06:45:12 DPDK git baseline: Repo:dpdk Branch: master CommitID:77864da82f25a9e1e43c14b2cba68c2049a3ee3e 154889-154890 --> testing pass Upstream job id: Generic-VM-Unit-Test-DPDK#29629 Test environment and result as below: +-------------------------------+----------------+ | Environment | dpdk_unit_test | +===============================+================+ | CentOS Stream 9 | PASS | +-------------------------------+----------------+ | CentOS Stream 10 | PASS | +-------------------------------+----------------+ | Debian GNU/Linux 12 | PASS | +-------------------------------+----------------+ | Fedora Linux 40 | PASS | +-------------------------------+----------------+ | Fedora Linux 41 | PASS | +-------------------------------+----------------+ | Red Hat Enterprise Linux 8.10 | PASS | +-------------------------------+----------------+ | Red Hat Enterprise Linux 9.5 | PASS | +-------------------------------+----------------+ | Ubuntu 20.04 | PASS | +-------------------------------+----------------+ | Ubuntu 22.04 | PASS | +-------------------------------+----------------+ | Ubuntu 24.04 | PASS | +-------------------------------+----------------+ | Windows Server 2022 | PASS | +-------------------------------+----------------+ CentOS Stream 9 Kernel: 5.15 Compiler: gcc gcc (GCC) 11.5.0 20240719 (Red Hat 11.5.0-7) CentOS Stream 10 Kernel: 5.15 Compiler: gcc gcc (GCC) 14.2.1 20250110 (Red Hat 14.2.1-8) Debian GNU/Linux 12 Kernel: 5.15 Compiler: gcc gcc (Debian 12.2.0-14+deb12u1) 12.2.0 Fedora Linux 40 Kernel: 5.15 Compiler: clang gcc (GCC) 14.2.1 20240912 (Red Hat 14.2.1-3) Fedora Linux 41 Kernel: 5.15 Compiler: gcc gcc (GCC) 14.3.1 20250523 (Red Hat 14.3.1-1) Red Hat Enterprise Linux 8.10 Kernel: 5.15 Compiler: gcc gcc (GCC) 8.5.0 20210514 (Red Hat 8.5.0-22) Red Hat Enterprise Linux 9.5 Kernel: 5.15 Compiler: gcc gcc (GCC) 11.5.0 20240719 (Red Hat 11.5.0-2) Ubuntu 20.04 Kernel: 5.15 Compiler: gcc gcc (Ubuntu 9.4.0-1ubuntu1~20.04.2) 9.4.0 Ubuntu 22.04 Kernel: 5.15 Compiler: gcc gcc (Ubuntu 11.4.0-1ubuntu1~22.04) 11.4.0 Ubuntu 24.04 Kernel: 5.15 Compiler: gcc gcc (Ubuntu 13.3.0-6ubuntu2~24.04) 13.3.0 Windows Server 2022 Kernel: 10.0.20348.2031 Compiler: clang 15.0.7, gcc 14.1.0 (MinGW), and MSVC VS 19.39.33521 To view detailed results, visit: https://lab.dpdk.org/results/dashboard/patchsets/33550/ UNH-IOL DPDK Community Lab To manage your email subscriptions, visit: https://lab.dpdk.org/results/dashboard/preferences/subscriptions/