From mboxrd@z Thu Jan 1 00:00:00 1970 Return-Path: Received: from mails.dpdk.org (mails.dpdk.org [217.70.189.124]) by inbox.dpdk.org (Postfix) with ESMTP id 9EF3A46AD7 for ; Tue, 1 Jul 2025 22:21:45 +0200 (CEST) Received: from mails.dpdk.org (localhost [127.0.0.1]) by mails.dpdk.org (Postfix) with ESMTP id 7AEE740298; Tue, 1 Jul 2025 22:21:45 +0200 (CEST) Received: from mail-pf1-f225.google.com (mail-pf1-f225.google.com [209.85.210.225]) by mails.dpdk.org (Postfix) with ESMTP id E0EC340298 for ; Tue, 1 Jul 2025 22:21:44 +0200 (CEST) Received: by mail-pf1-f225.google.com with SMTP id d2e1a72fcca58-74ad4533ac5so6137280b3a.0 for ; Tue, 01 Jul 2025 13:21:44 -0700 (PDT) DKIM-Signature: v=1; a=rsa-sha256; c=relaxed/relaxed; d=iol.unh.edu; s=unh-iol; t=1751401304; x=1752006104; darn=dpdk.org; h=references:in-reply-to:cc:to:from:subject:message-id:date:from:to :cc:subject:date:message-id:reply-to; bh=Y2iWSu9/Qc77NVvmjVPVQbsQ04E65xy8bL4MLioF6ww=; b=c8dl4Phw48gUOiD5sF4wG2ZGsmVAI1q1gk8PFsXYwQRjoVv20zsb3IPswhVXoe8zoy uIVYGTv+clTqaKWCd04iy4EQOIFz1qCXd2KY2Q9gYQK9yAkLScgm6TaX9dhWdA/n6Cg0 UfxKzOkl4GaaJFEsz+wqTkZlHaG5LLiBl7Eco= X-Google-DKIM-Signature: v=1; a=rsa-sha256; c=relaxed/relaxed; d=1e100.net; s=20230601; t=1751401304; x=1752006104; h=references:in-reply-to:cc:to:from:subject:message-id:date :x-gm-message-state:from:to:cc:subject:date:message-id:reply-to; bh=Y2iWSu9/Qc77NVvmjVPVQbsQ04E65xy8bL4MLioF6ww=; b=tzMrBrFpgPiI1iW4G5DBNEmlHAqRnK7lkRSiDhqcuYeQOHvUyatawer4nsomG/zDwG EH1BFsruz14cxrjyh3NexWxqDQErrZVDDNInt4B7csA/gK+4fYgIFNSGA8b5Sg4H3/3Y gd2XeaioDxbXA8f/7GQzdh4oD2lidjGM2tIgnpZ+YH1sm3vpmGCYzgvb2P3G42yE6ElB wfxCc7K7EHhRf41htHECdjUeUMLn7XM10ZmERhaQTjspitEsR9Q/mTVIghrLY1/65V48 pTbHKkJjTiDf8mYAd7KKal2+KreoDTs1D+1i8WkSaBYTv948EGEux7RG2G0NIEP11OI5 yCnw== X-Gm-Message-State: AOJu0YzwAcZOZ9s5UU1ErIvI3oxh0Z2+I0W8zlhcxylwsDeoIJoRe6Ix fAPpwvhrjU27cSVBABokWC5jS4SqBlSpnY3CIy+b+Vg3mEYobtU3YxbjLDsRb78YmpG/mY/Vapy FmCl4ZmHuYtY39p2wA7npXh4K8anqzPzQuI+2k4JTukq5 X-Gm-Gg: ASbGncvWHBho3w8D5oCX6vDEc1wen3Z3UsGV7l99xTB+KYO0xcGyrklGEItNttVmR+W /liaqo48qsY7JV7+lo/EK7nVkKALp0BhpJlnh0g19TRRu/hn+zkkE7Jtk+asivT+PuINjoBYPjq CF8bZRa0FvLB78ALqC3FAWZkr6K8nnySftyzDF4gR35mAEDbSTJwqR4OgnwbrROnKWwKMeRhQeC 2L8yHRUPSTvOYw9zDv/kCXd6nEuazB1q31negLYBudxokbn4BMwfauHi1lmhxjpGL3tEFN8zMZ8 Wrlo9OAM9qUVtDfBFai3efMmhD/24gsn1nTt3/HEvvUZI1fxGadEIcJlXYIdWd0lHQxL1Q== X-Google-Smtp-Source: AGHT+IHGWh5KT7KojL54jZ1cwja/lGl2koz93SuWKtQ0h+m8bUYOTeJLvG9i4P/p0wWHsF3i0xmUXnVsE5ee X-Received: by 2002:a05:6a20:3ca1:b0:222:cac0:f079 with SMTP id adf61e73a8af0-222d80022d5mr570305637.20.1751401303955; Tue, 01 Jul 2025 13:21:43 -0700 (PDT) Received: from postal.iol.unh.edu (postal.iol.unh.edu. [132.177.123.84]) by smtp-relay.gmail.com with ESMTPS id d2e1a72fcca58-74af551a744sm602083b3a.23.2025.07.01.13.21.43 (version=TLS1_2 cipher=ECDHE-ECDSA-AES128-GCM-SHA256 bits=128/128); Tue, 01 Jul 2025 13:21:43 -0700 (PDT) X-Relaying-Domain: iol.unh.edu Date: Tue, 01 Jul 2025 13:21:43 -0700 (PDT) Message-ID: <68644357.050a0220.16868a.1619SMTPIN_ADDED_MISSING@mx.google.com> Received: from [172.21.0.8] (unknown [172.18.0.240]) by postal.iol.unh.edu (Postfix) with ESMTP id 2D7296050A62; Tue, 1 Jul 2025 16:21:43 -0400 (EDT) Subject: |SUCCESS| pw154915-154919 [PATCH] [5/5] riscv: override machine_args From: dpdklab@iol.unh.edu To: Test Report Cc: dpdk-test-reports@iol.unh.edu In-Reply-To: References: Content-Type: text/plain X-BeenThere: test-report@dpdk.org X-Mailman-Version: 2.1.29 Precedence: list List-Id: automatic DPDK test reports List-Unsubscribe: , List-Archive: List-Post: List-Help: List-Subscribe: , Errors-To: test-report-bounces@dpdk.org Test-Label: iol-compile-amd64-testing Test-Status: SUCCESS http://dpdk.org/patch/154919 _Testing PASS_ Submitter: None Date: Tuesday, July 01 2025 16:13:42 DPDK git baseline: Repo:dpdk Branch: master CommitID:0eb86b4533d40bcd703972421b9a201c02f37f8a 154915-154919 --> testing pass Upstream job id: Windows-Compile-DPDK-VS#6225 Test environment and result as below: +---------------------+--------------------+-------------------+ | Environment | dpdk_meson_compile | dpdk_msvc_compile | +=====================+====================+===================+ | FreeBSD 14.2 | PASS | SKIPPED | +---------------------+--------------------+-------------------+ | Ubuntu 20.04 | PASS | SKIPPED | +---------------------+--------------------+-------------------+ | Windows Server 2022 | SKIPPED | PASS | +---------------------+--------------------+-------------------+ FreeBSD 14.2 Kernel: 14.2-RELEASE Compiler: clang 18.1.6 Ubuntu 20.04 Kernel: 4.19 Compiler: gcc gcc (Ubuntu 9.4.0-1ubuntu1~20.04.2) 9.4.0 Windows Server 2022 Kernel: 10.0.20348.2031 Compiler: clang 15.0.7, gcc 14.1.0 (MinGW), and MSVC VS 19.39.33521 To view detailed results, visit: https://lab.dpdk.org/results/dashboard/patchsets/33558/ UNH-IOL DPDK Community Lab To manage your email subscriptions, visit: https://lab.dpdk.org/results/dashboard/preferences/subscriptions/