From mboxrd@z Thu Jan 1 00:00:00 1970 Return-Path: Received: from mails.dpdk.org (mails.dpdk.org [217.70.189.124]) by inbox.dpdk.org (Postfix) with ESMTP id C597946ACD for ; Tue, 1 Jul 2025 22:23:47 +0200 (CEST) Received: from mails.dpdk.org (localhost [127.0.0.1]) by mails.dpdk.org (Postfix) with ESMTP id B9ED940298; Tue, 1 Jul 2025 22:23:47 +0200 (CEST) Received: from mail-io1-f98.google.com (mail-io1-f98.google.com [209.85.166.98]) by mails.dpdk.org (Postfix) with ESMTP id 6A1C540298 for ; Tue, 1 Jul 2025 22:23:46 +0200 (CEST) Received: by mail-io1-f98.google.com with SMTP id ca18e2360f4ac-875dd57d63bso256211439f.0 for ; Tue, 01 Jul 2025 13:23:46 -0700 (PDT) DKIM-Signature: v=1; a=rsa-sha256; c=relaxed/relaxed; d=iol.unh.edu; s=unh-iol; t=1751401426; x=1752006226; darn=dpdk.org; h=references:in-reply-to:cc:to:from:subject:message-id:date:from:to :cc:subject:date:message-id:reply-to; bh=NTNoKF+rZ5HqRbNjKAws/8zKwJuGU8zym6l2Iz5TK78=; b=fugv83mcTaDYZNpNud8PNpJWbzqcsQvPdDN73zv93UyzqyY8I+RvfsW/X182fEZ/tj 6p1D88lNI8zG+9Zva4UNgLWCwGJxgLFS1pFp7Vflsp0F8JIaHlrCEgBpHkg6E3ytYyYA B4Ie9GFquWpA3yTt+hpHGZOkotsX9vRUCfEyA= X-Google-DKIM-Signature: v=1; a=rsa-sha256; c=relaxed/relaxed; d=1e100.net; s=20230601; t=1751401426; x=1752006226; h=references:in-reply-to:cc:to:from:subject:message-id:date :x-gm-message-state:from:to:cc:subject:date:message-id:reply-to; bh=NTNoKF+rZ5HqRbNjKAws/8zKwJuGU8zym6l2Iz5TK78=; b=CV5ydV4RjT9V30/c3C6M6w+uICrt2cmfXqD0T5S8O0Rm6A2IvfzqwPzZgX3NU+odEb 4xFEXxkkV8ppaK9YiNk0oRxtKf2irsTL8rEFpEZpAK+XuVHDyNe89KGQ49eajzVXIcwc JiTc+nYl4P9dEVuVz9i7Wz+EJiwA0uP1X/C3sdalanLlfAl0OKsq8yeXZTboI1qlbcmm OCbmQw4EREv3hQYe8beRIKo8ulUmYrsL3ZTWCLYlC/wFD/Ubuce5UUzW30Exy8hXOi+L oEIu2atPbWxU8ZMgct+hbC8D4b5fSUDpNTD7Qz/GsdGo5V8kc20V+LWHzh1RFqEjvNSe M/vw== X-Gm-Message-State: AOJu0YzCs5XxU56k5yGsQhriAY22rekQJ87QTblfIyvcDIMe9O8DhHdy VuhHaDmLcGloovQRWtOmz2XdxMN0ClHgLYZwrs0wgAgp393pOx/t69Qu8i7KptjErDAh/m2JPOP MzXE53p1yQWR1GEx368Tlv9mCB1PdzcV75CHgqaJSgO63 X-Gm-Gg: ASbGnctkJsakDR0zy+syQ3u2HEeBpTh002Xptjq7rCewsfj2gF19qmZ7LN0BGkL99fc J1iE7HNwU1HKthSOhEVwg/TTelQNEMdEMHcISTkOSTtul/QMwJDbk6gqaj/nyUo4CuoVKduNR/2 IVYhng4K21kkB1AVC2ypK4dQpARexgab+IWRxiJ24dgZ7Lyj2M/uMzKBZveNlsEXbXDAEyF42O1 1lfMv80ZvOhFSdfvL1D2u1jP/LG1/WUwp2aRWaVK4s03m0dPbo1U/yAjvUwUSZ4tRET+RBUyKzQ 8+biZUQHEY5rOPkJjAdz4e1HcPd8Vt04XWKg4J1rr1KTMG2y2gDDCf7CNnNCAg4ippCD7g== X-Google-Smtp-Source: AGHT+IGiUA3ciWv+pyMqZI2pGaN/XuC5KlAyNjtA305N70k0K9WLoOcQTyEhKgzfT5C1YMUkRsbr9TZn8Dc1 X-Received: by 2002:a05:6602:3891:b0:85e:16e9:5e8d with SMTP id ca18e2360f4ac-876b916d346mr579234839f.7.1751401425658; Tue, 01 Jul 2025 13:23:45 -0700 (PDT) Received: from postal.iol.unh.edu (postal.iol.unh.edu. [132.177.123.84]) by smtp-relay.gmail.com with ESMTPS id 8926c6da1cb9f-5020489f705sm426962173.23.2025.07.01.13.23.45 (version=TLS1_2 cipher=ECDHE-ECDSA-AES128-GCM-SHA256 bits=128/128); Tue, 01 Jul 2025 13:23:45 -0700 (PDT) X-Relaying-Domain: iol.unh.edu Date: Tue, 01 Jul 2025 13:23:45 -0700 (PDT) Message-ID: <686443d1.050a0220.c3451.8ec1SMTPIN_ADDED_MISSING@mx.google.com> Received: from [172.21.0.6] (unknown [172.18.0.240]) by postal.iol.unh.edu (Postfix) with ESMTP id 2BCDE6050A62; Tue, 1 Jul 2025 16:23:45 -0400 (EDT) Subject: |SUCCESS| pw154903 [PATCH] ci: check C++ headers with clang From: dpdklab@iol.unh.edu To: Test Report Cc: dpdk-test-reports@iol.unh.edu In-Reply-To: <20250701113146.1268492-1-david.marchand@redhat.com> References: <20250701113146.1268492-1-david.marchand@redhat.com> Content-Type: text/plain X-BeenThere: test-report@dpdk.org X-Mailman-Version: 2.1.29 Precedence: list List-Id: automatic DPDK test reports List-Unsubscribe: , List-Archive: List-Post: List-Help: List-Subscribe: , Errors-To: test-report-bounces@dpdk.org Test-Label: iol-compile-amd64-testing Test-Status: SUCCESS http://dpdk.org/patch/154903 _Testing PASS_ Submitter: David Marchand Date: Tuesday, July 01 2025 11:31:46 DPDK git baseline: Repo:dpdk Branch: master CommitID:20460dcffd08a4680f881c39916ae783ee830374 154903 --> testing pass Upstream job id: Windows-Compile-DPDK-Native#29486 Test environment and result as below: +---------------------+--------------------+-------------------+-------------------------+----------------------+ | Environment | dpdk_meson_compile | dpdk_msvc_compile | dpdk_llvm_clang_compile | dpdk_mingw64_compile | +=====================+====================+===================+=========================+======================+ | Ubuntu 20.04 | PASS | SKIPPED | SKIPPED | SKIPPED | +---------------------+--------------------+-------------------+-------------------------+----------------------+ | FreeBSD 14.2 | PASS | SKIPPED | SKIPPED | SKIPPED | +---------------------+--------------------+-------------------+-------------------------+----------------------+ | Windows Server 2022 | SKIPPED | PASS | PASS | PASS | +---------------------+--------------------+-------------------+-------------------------+----------------------+ Ubuntu 20.04 Kernel: 4.19 Compiler: gcc gcc (Ubuntu 9.4.0-1ubuntu1~20.04.2) 9.4.0 FreeBSD 14.2 Kernel: 14.2-RELEASE Compiler: clang 18.1.6 Windows Server 2022 Kernel: 10.0.20348.2031 Compiler: clang 15.0.7, gcc 14.1.0 (MinGW), and MSVC VS 19.39.33521 To view detailed results, visit: https://lab.dpdk.org/results/dashboard/patchsets/33554/ UNH-IOL DPDK Community Lab To manage your email subscriptions, visit: https://lab.dpdk.org/results/dashboard/preferences/subscriptions/