From mboxrd@z Thu Jan 1 00:00:00 1970 Return-Path: Received: from mails.dpdk.org (mails.dpdk.org [217.70.189.124]) by inbox.dpdk.org (Postfix) with ESMTP id 061DF46AD7 for ; Tue, 1 Jul 2025 22:38:10 +0200 (CEST) Received: from mails.dpdk.org (localhost [127.0.0.1]) by mails.dpdk.org (Postfix) with ESMTP id E9A2C40298; Tue, 1 Jul 2025 22:38:09 +0200 (CEST) Received: from mail-io1-f97.google.com (mail-io1-f97.google.com [209.85.166.97]) by mails.dpdk.org (Postfix) with ESMTP id 052AB40298 for ; Tue, 1 Jul 2025 22:38:09 +0200 (CEST) Received: by mail-io1-f97.google.com with SMTP id ca18e2360f4ac-8731c4ba046so343231039f.3 for ; Tue, 01 Jul 2025 13:38:08 -0700 (PDT) DKIM-Signature: v=1; a=rsa-sha256; c=relaxed/relaxed; d=iol.unh.edu; s=unh-iol; t=1751402288; x=1752007088; darn=dpdk.org; h=references:in-reply-to:cc:to:from:subject:message-id:date:from:to :cc:subject:date:message-id:reply-to; bh=KQdbkufKeSf9FDIcmVu8fqyp5YCruYUD4BuMorcObhU=; b=QLMuopQZF5Yl1MGWSjD/fl/I9XPWIeeVN+2KU84re8kWmib25Ofscp2AUyKBWfbx4C /fI0AsKFjPa4msQYq5aL2MqCEEmeUDACbDVw0nbKLd+GsvkwtKBgP4LeRvSWswhXq0av I3aq+S4OxGJrlXS2dJvEKIzlKZQfa/Tzx7kNM= X-Google-DKIM-Signature: v=1; a=rsa-sha256; c=relaxed/relaxed; d=1e100.net; s=20230601; t=1751402288; x=1752007088; h=references:in-reply-to:cc:to:from:subject:message-id:date :x-gm-message-state:from:to:cc:subject:date:message-id:reply-to; bh=KQdbkufKeSf9FDIcmVu8fqyp5YCruYUD4BuMorcObhU=; b=OP4P084Hh2HV1E3ZDJnY9IMPpY31Xr+bGOHgOmsKMV//+uW0YHTWbgRt6LtX0Bwm8W IKNEaEi7fOqz7ud1WkigNmU/DwKIWlgiLN+bAYmz9Zru4ayCwPrg1Xqw8UfD9dTwyCnQ eB+39Y/X1WW42AIdsrrpJCWIuTUpp3dQUSv38g/DG3/W78rtwxAFxzX4mCI9bdtp0Qio xsV2v6fNHYchq9PAS5h7v8D9c8JQlHYU1y18StmqlpAO51qMfc7knXC2RqL33o39rGYI vzEssYTITuvw0swaBb7SACU32HT/KeXB9iOAecbwM6MfdfhcABBCHgfDNyoTG1g6cInr CZ7A== X-Gm-Message-State: AOJu0Yzc4VJEmkJgKueJBBxEIH2vN4034+1qupZ3gC7LP7P6RuzjHV15 B28MeQOv640E2BgPWReUvjTA38+EWL1IA3JKYHCCtIiyrXb7J3V14+o6/Tv8YVq0XiIueglpC8p QzvR2/H0BznFL3IQRrMlvRNI1/l/eGdPsUaDLM5X7OtCb X-Gm-Gg: ASbGncvmwTHlDogzol5iauIuJg/zoaFiASMHOG1UL+vTHDhbYJL3Isq7gq+jguGkkF6 Goj9qWasOj2JIHwRRat+vJ9ej9pLhA8tCF68kZPAy8mSGyEgj6w7G3t+5pkyXXhhJXd9yeRS95y CIP3/P1zo3OAGkSLscLbJsm0PMzo2onJ2nMvTXEPiGvU4Kjm6xX+pHj8iqN5ZDRg4jrM5w4ZKdt D+gpfPnGGkXYJFv927ZGVfn9o2CnBFJkvavgeDBIjsnDARL0F6An0Ejn0O7DuxukDPKwKrOj5Fx gFCR/UIL9dYuXZNvMomLnuOArgpgbCfuoUxf2mKY9DZaBXdKgSkKa9AhogyHepVYKJEwJg== X-Google-Smtp-Source: AGHT+IFrzobFDa835H+1ScRnn6TIykXzkq/W0CVbSDHIaSFAQqilax2MRUbWgNG6rn6+wpY/lfRKHX/xynMI X-Received: by 2002:a6b:d80f:0:b0:86d:1218:de96 with SMTP id ca18e2360f4ac-876c6a8c495mr67815539f.12.1751402288261; Tue, 01 Jul 2025 13:38:08 -0700 (PDT) Received: from postal.iol.unh.edu (postal.iol.unh.edu. [132.177.123.84]) by smtp-relay.gmail.com with ESMTPS id ca18e2360f4ac-876879fef00sm41232039f.1.2025.07.01.13.38.08 (version=TLS1_2 cipher=ECDHE-ECDSA-AES128-GCM-SHA256 bits=128/128); Tue, 01 Jul 2025 13:38:08 -0700 (PDT) X-Relaying-Domain: iol.unh.edu Date: Tue, 01 Jul 2025 13:38:08 -0700 (PDT) Message-ID: <68644730.050a0220.d895e.6d86SMTPIN_ADDED_MISSING@mx.google.com> Received: from [172.21.0.5] (unknown [172.18.0.240]) by postal.iol.unh.edu (Postfix) with ESMTP id C84F2604D420; Tue, 1 Jul 2025 16:38:07 -0400 (EDT) Subject: |SUCCESS| pw154913 [PATCH] test/event: disable vector adapter test From: dpdklab@iol.unh.edu To: Test Report Cc: dpdk-test-reports@iol.unh.edu In-Reply-To: <20250701131524.2493132-1-thomas@monjalon.net> References: <20250701131524.2493132-1-thomas@monjalon.net> Content-Type: text/plain X-BeenThere: test-report@dpdk.org X-Mailman-Version: 2.1.29 Precedence: list List-Id: automatic DPDK test reports List-Unsubscribe: , List-Archive: List-Post: List-Help: List-Subscribe: , Errors-To: test-report-bounces@dpdk.org Test-Label: iol-compile-amd64-testing Test-Status: SUCCESS http://dpdk.org/patch/154913 _Testing PASS_ Submitter: Thomas Monjalon Date: Tuesday, July 01 2025 13:15:24 DPDK git baseline: Repo:dpdk Branch: master CommitID:20460dcffd08a4680f881c39916ae783ee830374 154913 --> testing pass Upstream job id: Windows-Compile-DPDK-Native#29487 Test environment and result as below: +---------------------+--------------------+-------------------+-------------------------+ | Environment | dpdk_meson_compile | dpdk_msvc_compile | dpdk_llvm_clang_compile | +=====================+====================+===================+=========================+ | Ubuntu 20.04 | PASS | SKIPPED | SKIPPED | +---------------------+--------------------+-------------------+-------------------------+ | FreeBSD 14.2 | PASS | SKIPPED | SKIPPED | +---------------------+--------------------+-------------------+-------------------------+ | Windows Server 2022 | SKIPPED | PASS | PASS | +---------------------+--------------------+-------------------+-------------------------+ Ubuntu 20.04 Kernel: 4.19 Compiler: gcc gcc (Ubuntu 9.4.0-1ubuntu1~20.04.2) 9.4.0 FreeBSD 14.2 Kernel: 14.2-RELEASE Compiler: clang 18.1.6 Windows Server 2022 Kernel: 10.0.20348.2031 Compiler: clang 15.0.7, gcc 14.1.0 (MinGW), and MSVC VS 19.39.33521 To view detailed results, visit: https://lab.dpdk.org/results/dashboard/patchsets/33556/ UNH-IOL DPDK Community Lab To manage your email subscriptions, visit: https://lab.dpdk.org/results/dashboard/preferences/subscriptions/