From mboxrd@z Thu Jan 1 00:00:00 1970 Return-Path: Received: from mails.dpdk.org (mails.dpdk.org [217.70.189.124]) by inbox.dpdk.org (Postfix) with ESMTP id 7977F46AC1 for ; Tue, 1 Jul 2025 22:43:16 +0200 (CEST) Received: from mails.dpdk.org (localhost [127.0.0.1]) by mails.dpdk.org (Postfix) with ESMTP id 65CD740298; Tue, 1 Jul 2025 22:43:16 +0200 (CEST) Received: from mail-pl1-f225.google.com (mail-pl1-f225.google.com [209.85.214.225]) by mails.dpdk.org (Postfix) with ESMTP id 7137640298 for ; Tue, 1 Jul 2025 22:43:15 +0200 (CEST) Received: by mail-pl1-f225.google.com with SMTP id d9443c01a7336-235e1d710d8so71966275ad.1 for ; Tue, 01 Jul 2025 13:43:15 -0700 (PDT) DKIM-Signature: v=1; a=rsa-sha256; c=relaxed/relaxed; d=iol.unh.edu; s=unh-iol; t=1751402594; x=1752007394; darn=dpdk.org; h=references:in-reply-to:cc:to:from:subject:message-id:date:from:to :cc:subject:date:message-id:reply-to; bh=NHiqzCeFg5fGwGkhXf6bkxBpl7gSdfrooXW8XeHeiFE=; b=Z0J7R1IgFisOu5BCbQStYb3TjnB2vx2t8lZxONUIMlLKsRooyQoILd0YNh1qdea+4p hcpRmjxgqwPR9tz3nQOBrpBYvHX8Eb+ttWHSuxRJqaT3seXPNrY363w88oyRqvWCZjch zKDBjOlWNhSE/UE377GIV5hDrEGte4rJtM1xI= X-Google-DKIM-Signature: v=1; a=rsa-sha256; c=relaxed/relaxed; d=1e100.net; s=20230601; t=1751402594; x=1752007394; h=references:in-reply-to:cc:to:from:subject:message-id:date :x-gm-message-state:from:to:cc:subject:date:message-id:reply-to; bh=NHiqzCeFg5fGwGkhXf6bkxBpl7gSdfrooXW8XeHeiFE=; b=NbfLPjk5JSoBbwrP9Ht4yfWn/BDG45NxY9DupIO6nm+DZLl9BpACYq3P0M7QJEA5uQ +1nDLpOO17i1NRhyAKjeFLfKkrWBYYHnCcUoxxAViZC4hXM0h8CRgjll6ioFYeDeVeT6 sql09aGtQk2FnkeSyaCdEVRQRp+ubK1Aglc3YxaAY5nCrGZXXjlNotiWMqKxT8oHA/ZI 1+1T8+a7eN7GnJeaq0D8umRZkGQACKar6Os/LIu/TvBVJWKlsNCyHQpLLdggDAVUj4B9 hihvzt/zWqHK5s2u/Yl8YkVtS4CWOc8L9XogmJagM5/3p+Q897BKJVUXMTovwDs+jUK9 W98A== X-Gm-Message-State: AOJu0YwIiJ7nHHb4vYFIrrAM4iidISmYP+D2o2EgN5A/KeC3hgrhe5Ba c1OIOrs6EoG6UI9ms8pep3dSysTjPE7pMFGwJAdWwRy4ohQ/pQ8ndDR0ehm8zujaGQv/WzYwmn5 JZyJUdpAec4Aawr0kPwRuCdp74MIaZAfANqnVoPlpM9QGEJHEkRkVFD6NBMyd X-Gm-Gg: ASbGncs0FJxhhIHkiELEUq3Ng4qm9cT+GQAMZMDwpU0TQ4oHCmo/UL3N0bbiHVs8d9o wKctmT2KYvwVxwfhnQT71Cnpq1oHq8T0BUAciRChjTuUvQ91QnN797To9YDrk41TGCgYnvLcU0v EidTBs4lehKKDq4NBFgz/8gqEu1FovRS+7o1IhPl8UZVYrBgN+bUfaK9u8ByxXs6FvEGXNC7L3c SqtgoW8oOW/vXsEjak5bkzwOYm3NXgfiaJ9t/Dbr3dLE+UHW1C6wZWum/QH0x53XpLsVkMij/ZB od0U/EB5P9+3JQVV/+vz5hErBoO1mteboP2ltDTBXcgUKBI= X-Google-Smtp-Source: AGHT+IELsK1UaphOVcWjx0GeuMchpl59N0LBwcgl4TIah9TovQ9nHf2xT7ardwE4sOxrJoBtwbfsOGtfVviP X-Received: by 2002:a17:902:f64e:b0:235:5a9:976f with SMTP id d9443c01a7336-23c6e59181amr1973355ad.24.1751402594426; Tue, 01 Jul 2025 13:43:14 -0700 (PDT) Received: from postal.iol.unh.edu (postal.iol.unh.edu. [2606:4100:3880:1234::84]) by smtp-relay.gmail.com with ESMTPS id d9443c01a7336-23acb2e1d7esm6043265ad.13.2025.07.01.13.43.14 (version=TLS1_2 cipher=ECDHE-ECDSA-AES128-GCM-SHA256 bits=128/128); Tue, 01 Jul 2025 13:43:14 -0700 (PDT) X-Relaying-Domain: iol.unh.edu Date: Tue, 01 Jul 2025 13:43:14 -0700 (PDT) Message-ID: <68644862.170a0220.1dab45.17e0SMTPIN_ADDED_MISSING@mx.google.com> Received: from [172.21.0.5] (unknown [172.18.0.240]) by postal.iol.unh.edu (Postfix) with ESMTP id 9E59F604D420; Tue, 1 Jul 2025 16:43:13 -0400 (EDT) Subject: |SUCCESS| pw154913 [PATCH] test/event: disable vector adapter test From: dpdklab@iol.unh.edu To: Test Report Cc: dpdk-test-reports@iol.unh.edu In-Reply-To: <20250701131524.2493132-1-thomas@monjalon.net> References: <20250701131524.2493132-1-thomas@monjalon.net> Content-Type: text/plain X-BeenThere: test-report@dpdk.org X-Mailman-Version: 2.1.29 Precedence: list List-Id: automatic DPDK test reports List-Unsubscribe: , List-Archive: List-Post: List-Help: List-Subscribe: , Errors-To: test-report-bounces@dpdk.org Test-Label: iol-compile-amd64-testing Test-Status: SUCCESS http://dpdk.org/patch/154913 _Testing PASS_ Submitter: Thomas Monjalon Date: Tuesday, July 01 2025 13:15:24 DPDK git baseline: Repo:dpdk Branch: master CommitID:20460dcffd08a4680f881c39916ae783ee830374 154913 --> testing pass Upstream job id: Windows-Compile-DPDK-Native#29488 Test environment and result as below: +---------------------+--------------------+-------------------+-------------------------+----------------------+ | Environment | dpdk_meson_compile | dpdk_msvc_compile | dpdk_llvm_clang_compile | dpdk_mingw64_compile | +=====================+====================+===================+=========================+======================+ | Ubuntu 20.04 | PASS | SKIPPED | SKIPPED | SKIPPED | +---------------------+--------------------+-------------------+-------------------------+----------------------+ | FreeBSD 14.2 | PASS | SKIPPED | SKIPPED | SKIPPED | +---------------------+--------------------+-------------------+-------------------------+----------------------+ | Windows Server 2022 | SKIPPED | PASS | PASS | PASS | +---------------------+--------------------+-------------------+-------------------------+----------------------+ Ubuntu 20.04 Kernel: 4.19 Compiler: gcc gcc (Ubuntu 9.4.0-1ubuntu1~20.04.2) 9.4.0 FreeBSD 14.2 Kernel: 14.2-RELEASE Compiler: clang 18.1.6 Windows Server 2022 Kernel: 10.0.20348.2031 Compiler: clang 15.0.7, gcc 14.1.0 (MinGW), and MSVC VS 19.39.33521 To view detailed results, visit: https://lab.dpdk.org/results/dashboard/patchsets/33556/ UNH-IOL DPDK Community Lab To manage your email subscriptions, visit: https://lab.dpdk.org/results/dashboard/preferences/subscriptions/