From mboxrd@z Thu Jan 1 00:00:00 1970 Return-Path: Received: from mails.dpdk.org (mails.dpdk.org [217.70.189.124]) by inbox.dpdk.org (Postfix) with ESMTP id BFEE846AD7 for ; Tue, 1 Jul 2025 22:58:30 +0200 (CEST) Received: from mails.dpdk.org (localhost [127.0.0.1]) by mails.dpdk.org (Postfix) with ESMTP id A6D0040298; Tue, 1 Jul 2025 22:58:30 +0200 (CEST) Received: from mail-io1-f100.google.com (mail-io1-f100.google.com [209.85.166.100]) by mails.dpdk.org (Postfix) with ESMTP id 7133240298 for ; Tue, 1 Jul 2025 22:58:29 +0200 (CEST) Received: by mail-io1-f100.google.com with SMTP id ca18e2360f4ac-86d029e2bdeso231235839f.1 for ; Tue, 01 Jul 2025 13:58:29 -0700 (PDT) DKIM-Signature: v=1; a=rsa-sha256; c=relaxed/relaxed; d=iol.unh.edu; s=unh-iol; t=1751403508; x=1752008308; darn=dpdk.org; h=references:in-reply-to:cc:to:from:subject:message-id:date:from:to :cc:subject:date:message-id:reply-to; bh=MfglbcJrS0T3mXN6DE92FbIpD/KWvSbdj5uf7w+OeFA=; b=iMfuT7KI1A54VED5tc7Z+YUCr7AxFPKQqohAIMAIwyj8TaSykm8+5FgnEx8arNPTon LsMjNzRh7eNBE9WCqqcJevjzaeWEM6MuGgEtTPfhOSE6sg17YF9cirp0F5y6MrOVRGRJ KhVF22G8/mVDmqpmZA/G96UoxaUO9sxczStLQ= X-Google-DKIM-Signature: v=1; a=rsa-sha256; c=relaxed/relaxed; d=1e100.net; s=20230601; t=1751403508; x=1752008308; h=references:in-reply-to:cc:to:from:subject:message-id:date :x-gm-message-state:from:to:cc:subject:date:message-id:reply-to; bh=MfglbcJrS0T3mXN6DE92FbIpD/KWvSbdj5uf7w+OeFA=; b=B/lminxXS6DPwmwf3W17UjqcIR8xn4MWJLOSrc663XynP82PcGU2IrrG6kGK42c6zr 1bqcbolYe2cQuOGVUKHJAt8RIW0395x4QF5FQUdJ3mftCijO70kv8O6OoXuPCMwdJuR3 myQqK8tomewqy6bsITpcF1Pp4mbo93aVIo8raZ6xznjXo4JktSkJ/dFnX9XUT2cyru07 tqkmyieGLvxX28BL8dAcvHDsXCRbs5bUSuWqbn/YdpWybChV+sN4UqqcxERDqI9flKpA unhhrzsqSBz5yCbgpR3K+aNA2AmiOghyXEOutyMIACeKLF3gVBpJ0r0and2mBUtMgveW 7HDQ== X-Gm-Message-State: AOJu0YxgbaYCZvMOJu+1BORlfO+WYQifwrW18VTjL9oqcs/wOoNa/NAl naZCyeSyBuECjej4bhHc4JWecpwjpZZnH9Fm2SShf0gilnGSyTIP7r+A5XGm4hPRvdgxagFSBQZ QyVjeSg+xrvf5OZQa2QKUTUab7ciPRwv/nvSFxODW9e6Y X-Gm-Gg: ASbGncuKCQU/XBbwqB0fgah2K4Lg/OUHJ+fDwFw5kXhMsqCPj5JxGzq8Qh+x048fNd8 oUszPyZT7iIBaeoZu6xqqcD4zqJYR0b1iR0FPFw/gC/H2Zn1v5hD/FDUyyIqTfN7TMmPzgLzn+M +2qlXIibAPwlbzOQqciZz7e3WYJk7VwQ8I1cKtBfahorXgm7MVcsykDDCd9C7ZWsaAdM7OjBui/ NJPbRvkANJsig2IKu4ASs9orsdyOHWB4P0kEGlioczE9VIwysRg1TkZv0+ZOKBjWC+ukBMGrAcS aNZ8OWMB3FegEKq/jwKWFt+VcM1NGPrAA0LQStq/zIWVks5CWafNR5p63+3jkCO0DsDPzQ== X-Google-Smtp-Source: AGHT+IHYz7rGlQ24ghtgGh2ZBQazcESwUBhRiN6tkmqeaQePTxq+VBhelxTDfAjyWpSU2JxGzQfaZQCjhDHZ X-Received: by 2002:a05:6602:3f94:b0:867:973:f2cb with SMTP id ca18e2360f4ac-876c7b961b9mr6239039f.7.1751403508545; Tue, 01 Jul 2025 13:58:28 -0700 (PDT) Received: from postal.iol.unh.edu (postal.iol.unh.edu. [132.177.123.84]) by smtp-relay.gmail.com with ESMTPS id ca18e2360f4ac-87687af9af5sm42008439f.15.2025.07.01.13.58.28 (version=TLS1_2 cipher=ECDHE-ECDSA-AES128-GCM-SHA256 bits=128/128); Tue, 01 Jul 2025 13:58:28 -0700 (PDT) X-Relaying-Domain: iol.unh.edu Date: Tue, 01 Jul 2025 13:58:28 -0700 (PDT) Message-ID: <68644bf4.050a0220.99ed5.6d46SMTPIN_ADDED_MISSING@mx.google.com> Received: from [172.21.0.5] (unknown [172.18.0.240]) by postal.iol.unh.edu (Postfix) with ESMTP id 0B4D6604D420; Tue, 1 Jul 2025 16:58:28 -0400 (EDT) Subject: |SUCCESS| pw154913 [PATCH] test/event: disable vector adapter test From: dpdklab@iol.unh.edu To: Test Report Cc: dpdk-test-reports@iol.unh.edu In-Reply-To: <20250701131524.2493132-1-thomas@monjalon.net> References: <20250701131524.2493132-1-thomas@monjalon.net> Content-Type: text/plain X-BeenThere: test-report@dpdk.org X-Mailman-Version: 2.1.29 Precedence: list List-Id: automatic DPDK test reports List-Unsubscribe: , List-Archive: List-Post: List-Help: List-Subscribe: , Errors-To: test-report-bounces@dpdk.org Test-Label: iol-compile-amd64-testing Test-Status: SUCCESS http://dpdk.org/patch/154913 _Testing PASS_ Submitter: Thomas Monjalon Date: Tuesday, July 01 2025 13:15:24 DPDK git baseline: Repo:dpdk Branch: master CommitID:20460dcffd08a4680f881c39916ae783ee830374 154913 --> testing pass Upstream job id: Windows-Compile-DPDK-Native#29489 Test environment and result as below: +---------------------+--------------------+-------------------+-------------------------+ | Environment | dpdk_meson_compile | dpdk_msvc_compile | dpdk_llvm_clang_compile | +=====================+====================+===================+=========================+ | FreeBSD 14.2 | PASS | SKIPPED | SKIPPED | +---------------------+--------------------+-------------------+-------------------------+ | Ubuntu 20.04 | PASS | SKIPPED | SKIPPED | +---------------------+--------------------+-------------------+-------------------------+ | Windows Server 2022 | SKIPPED | PASS | PASS | +---------------------+--------------------+-------------------+-------------------------+ FreeBSD 14.2 Kernel: 14.2-RELEASE Compiler: clang 18.1.6 Ubuntu 20.04 Kernel: 4.19 Compiler: gcc gcc (Ubuntu 9.4.0-1ubuntu1~20.04.2) 9.4.0 Windows Server 2022 Kernel: 10.0.20348.2031 Compiler: clang 15.0.7, gcc 14.1.0 (MinGW), and MSVC VS 19.39.33521 To view detailed results, visit: https://lab.dpdk.org/results/dashboard/patchsets/33556/ UNH-IOL DPDK Community Lab To manage your email subscriptions, visit: https://lab.dpdk.org/results/dashboard/preferences/subscriptions/