From mboxrd@z Thu Jan 1 00:00:00 1970 Return-Path: Received: from mails.dpdk.org (mails.dpdk.org [217.70.189.124]) by inbox.dpdk.org (Postfix) with ESMTP id 423C346AD7 for ; Tue, 1 Jul 2025 23:03:32 +0200 (CEST) Received: from mails.dpdk.org (localhost [127.0.0.1]) by mails.dpdk.org (Postfix) with ESMTP id 214DD40298; Tue, 1 Jul 2025 23:03:32 +0200 (CEST) Received: from mail-qv1-f98.google.com (mail-qv1-f98.google.com [209.85.219.98]) by mails.dpdk.org (Postfix) with ESMTP id 09EE840298 for ; Tue, 1 Jul 2025 23:03:31 +0200 (CEST) Received: by mail-qv1-f98.google.com with SMTP id 6a1803df08f44-700c7e4c048so52606486d6.3 for ; Tue, 01 Jul 2025 14:03:30 -0700 (PDT) DKIM-Signature: v=1; a=rsa-sha256; c=relaxed/relaxed; d=iol.unh.edu; s=unh-iol; t=1751403810; x=1752008610; darn=dpdk.org; h=references:in-reply-to:cc:to:from:subject:message-id:date:from:to :cc:subject:date:message-id:reply-to; bh=JQsnlNFQ7qlwcl1prDKmdq6OT+xVUs24VmpdZ0tdsc8=; b=a86C8IsXsK8WL53Pl64yzgQpX1nfQDgezHjEvQqGKk18wNTuXQNfZQqwpVAMmqZqce 9KjM9dA5oZJo2R/krUGIwMxnF1BAM8KjfKWvCTKFFV1yIkDPLmvcUgN2Ixxn2loTGWt8 y+GeSgo+eUcCbmSbXLmXrHweSpFPKNhPxQsD8= X-Google-DKIM-Signature: v=1; a=rsa-sha256; c=relaxed/relaxed; d=1e100.net; s=20230601; t=1751403810; x=1752008610; h=references:in-reply-to:cc:to:from:subject:message-id:date :x-gm-message-state:from:to:cc:subject:date:message-id:reply-to; bh=JQsnlNFQ7qlwcl1prDKmdq6OT+xVUs24VmpdZ0tdsc8=; b=WvTwCnkRCIBamOmCw4n4G5niiwpQZh3QoT5izOBTcgnjhMMZ86HRiadIJ+7zslk/ai HoQ5msDwWtuBGy/Usz1layD6/cx+lWCjNsCIg+V+a+B9clPZ4ByoQge7nAFFz2fNHOCq Htxg8rXEu5U+IAUon780XC5Wabm1n2YE9xywjTbNAxGsUAtml8/i5BmfrvM8Gfddm2RO wMEggNzxfqft2epXBUyLQF92Y8IYADoSWl91jeGqOltpq0C+Hs8avWGGKLJDwI0uiL5Z yJvIEowmAKdATjw/4VXG38qkAesIPGZOYKBtS96awibv3xM0hDsYDskU8zxyTkYUkJhk Afag== X-Gm-Message-State: AOJu0YyuvVzpHEQY7+cSHxeqSWX0k1/8ZLcPcsiqK3y7s5DPbW5wYY3O N6pvodWDAVPZNpBq8IcxHnluZQrIv2iCsABmU5BLGbCQbHx5KUQ8HwC3yUN1toV5eDflhFO66/2 lFwMzevYIzSJbxJUs4Td1SDtGUqcuGSWY92ZsNnipoHO7ASsYqt79KKmoT9CY X-Gm-Gg: ASbGncsdDYEStpzKkSsKq1p812Z1BBoEGZNb6Nu/kGsCC/AYhlYmUIFDU8tJ9alCPOk E6eS26uyJqQ9v5S7LSeh4gftM9979CTImY+wrfyw9GgZBtq/wxeQnQQOhjjO74VYO7HgKQSDROQ zoyQtfjMNpI8FAd2pxiBtnXO6p8RLF8kIsxYkYGw+Czn6yr2LHvgwLVBsn4nj7Tbn6iMmW4RHbO Qqm5Py2TB4Rbw7EnbWjYjlrr3ugzhQQzz536JpVvkCbXrwj8Do76L37gU+OJsku6EPXBdLNqDXZ oLTo/iWZ5pWm3CKKLpjPeziTNwGrirgh81Pm1+aaWu2pexY= X-Google-Smtp-Source: AGHT+IHXi1RGNBnwZDw09/y/1fGSlp7biVrmVb1SCRzqB0Rz2Pj7hjyOGLjqWH2+ayyI3AvJ+EsBbjNbTI35 X-Received: by 2002:a05:6214:5d0a:b0:6fb:50d9:5c1a with SMTP id 6a1803df08f44-702b1ac757dmr1533806d6.4.1751403810398; Tue, 01 Jul 2025 14:03:30 -0700 (PDT) Received: from postal.iol.unh.edu (postal.iol.unh.edu. [2606:4100:3880:1234::84]) by smtp-relay.gmail.com with ESMTPS id 6a1803df08f44-6fd76e73d67sm7118576d6.0.2025.07.01.14.03.30 (version=TLS1_2 cipher=ECDHE-ECDSA-AES128-GCM-SHA256 bits=128/128); Tue, 01 Jul 2025 14:03:30 -0700 (PDT) X-Relaying-Domain: iol.unh.edu Date: Tue, 01 Jul 2025 14:03:30 -0700 (PDT) Message-ID: <68644d22.d40a0220.366d48.6685SMTPIN_ADDED_MISSING@mx.google.com> Received: from [172.21.0.6] (unknown [172.18.0.240]) by postal.iol.unh.edu (Postfix) with ESMTP id 20EDC604D421; Tue, 1 Jul 2025 17:03:30 -0400 (EDT) Subject: |SUCCESS| pw154913 [PATCH] test/event: disable vector adapter test From: dpdklab@iol.unh.edu To: Test Report Cc: dpdk-test-reports@iol.unh.edu In-Reply-To: <20250701131524.2493132-1-thomas@monjalon.net> References: <20250701131524.2493132-1-thomas@monjalon.net> Content-Type: text/plain X-BeenThere: test-report@dpdk.org X-Mailman-Version: 2.1.29 Precedence: list List-Id: automatic DPDK test reports List-Unsubscribe: , List-Archive: List-Post: List-Help: List-Subscribe: , Errors-To: test-report-bounces@dpdk.org Test-Label: iol-compile-amd64-testing Test-Status: SUCCESS http://dpdk.org/patch/154913 _Testing PASS_ Submitter: Thomas Monjalon Date: Tuesday, July 01 2025 13:15:24 DPDK git baseline: Repo:dpdk Branch: master CommitID:20460dcffd08a4680f881c39916ae783ee830374 154913 --> testing pass Upstream job id: Windows-Compile-DPDK-Native#29490 Test environment and result as below: +---------------------+--------------------+-------------------+-------------------------+----------------------+ | Environment | dpdk_meson_compile | dpdk_msvc_compile | dpdk_llvm_clang_compile | dpdk_mingw64_compile | +=====================+====================+===================+=========================+======================+ | FreeBSD 14.2 | PASS | SKIPPED | SKIPPED | SKIPPED | +---------------------+--------------------+-------------------+-------------------------+----------------------+ | Ubuntu 20.04 | PASS | SKIPPED | SKIPPED | SKIPPED | +---------------------+--------------------+-------------------+-------------------------+----------------------+ | Windows Server 2022 | SKIPPED | PASS | PASS | PASS | +---------------------+--------------------+-------------------+-------------------------+----------------------+ FreeBSD 14.2 Kernel: 14.2-RELEASE Compiler: clang 18.1.6 Ubuntu 20.04 Kernel: 4.19 Compiler: gcc gcc (Ubuntu 9.4.0-1ubuntu1~20.04.2) 9.4.0 Windows Server 2022 Kernel: 10.0.20348.2031 Compiler: clang 15.0.7, gcc 14.1.0 (MinGW), and MSVC VS 19.39.33521 To view detailed results, visit: https://lab.dpdk.org/results/dashboard/patchsets/33556/ UNH-IOL DPDK Community Lab To manage your email subscriptions, visit: https://lab.dpdk.org/results/dashboard/preferences/subscriptions/