From mboxrd@z Thu Jan 1 00:00:00 1970 Return-Path: Received: from mails.dpdk.org (mails.dpdk.org [217.70.189.124]) by inbox.dpdk.org (Postfix) with ESMTP id 59A8D46AD7 for ; Tue, 1 Jul 2025 23:04:50 +0200 (CEST) Received: from mails.dpdk.org (localhost [127.0.0.1]) by mails.dpdk.org (Postfix) with ESMTP id 524DD40298; Tue, 1 Jul 2025 23:04:50 +0200 (CEST) Received: from mail-qv1-f97.google.com (mail-qv1-f97.google.com [209.85.219.97]) by mails.dpdk.org (Postfix) with ESMTP id E227C40298 for ; Tue, 1 Jul 2025 23:04:48 +0200 (CEST) Received: by mail-qv1-f97.google.com with SMTP id 6a1803df08f44-70109af5f70so17377616d6.0 for ; Tue, 01 Jul 2025 14:04:48 -0700 (PDT) DKIM-Signature: v=1; a=rsa-sha256; c=relaxed/relaxed; d=iol.unh.edu; s=unh-iol; t=1751403888; x=1752008688; darn=dpdk.org; h=references:in-reply-to:cc:to:from:subject:message-id:date:from:to :cc:subject:date:message-id:reply-to; bh=qDV2NVyZbaVEtEe2HUs5gqNAGeerW4YHoC7alyeMlIs=; b=OF9ZWRz9I/19KSz4Ozy70G64s5SRpFsiOwJSPXVuakshsSPMhaEkJPBe/cfMGhc1iS IBNyNiV/hpzKZUalIVznoeqoXRwEzvbXFQ3vLt5Hdny+rqdsM61LtyqIHI6atP0T8nU0 GSvBDCpY8ZUSJi4Y1TaEwCcBoLtasv14svLwM= X-Google-DKIM-Signature: v=1; a=rsa-sha256; c=relaxed/relaxed; d=1e100.net; s=20230601; t=1751403888; x=1752008688; h=references:in-reply-to:cc:to:from:subject:message-id:date :x-gm-message-state:from:to:cc:subject:date:message-id:reply-to; bh=qDV2NVyZbaVEtEe2HUs5gqNAGeerW4YHoC7alyeMlIs=; b=dnHTm1k2vkYLX0ntbTCEC+AqNwnWWyAVZxYEGpBhJGwXTrtuSCOw80tfH8XVSx0ngt 68XJMJEHYFgjg3i4Y7cwnX1wG5fwTh+O7m6Dp+dNhyuoOhOT3yw4j8lB2rxzL46QnGBO bDQUnWpkHxuRUc+hNTPfezyyco1ZUXDp0zXGFVFcxzJENcL5wteuA2dZS+pvzHkd+Pew DMVGzzYjlqzdlQTUXfhvCvVMKgT69NhyZETrI24c/2kE3mwuPT1gxBtfoqSVyZRliQon kaIlnjxQbGUWurGm6KPT8xITRmHQDtry4EXEZHJtHJe/9pUOCUTC4NdoSnoPKdQ4HtZu XR8w== X-Gm-Message-State: AOJu0Yx2iOdlc8nnDl9suwO8jiLZEyKVa8FFnxRSWhAPc+luzYP8qxi3 XUSbuobZyPQCYwyTy22CH+IPojFd1pAHm5sH96slDR8mCGNoNGjVzrkWleNpH3UvHsRvVlZri6K 7ZQUsrjki8rzAnscT+/gSYK3gA2nMh5FKACYFLx56nYbgsR38TUVGgavoPUUs X-Gm-Gg: ASbGncsILlZZOjyQtSJzYdJjNgLktxpCPH1bHQ4usm9y8ra7Ux58f/teYdGrfdrsRjf 15ZrqrBFEBWgfDinqEkV52a15dhyb6qGJmIN60Fnj8HSY0WgIAGsB8op6jvWEmxzP03/s5W4HRv nRgmTsma43WqWU2Ylr/vwvZsSJqZ6xH8fAwFRv2Xpxe0Ay9i5I2QLLHeiB9qbNQE1B/szUZbECo KvcuS6m9Kp4IG4w40lujxq94CtrA2uZpNsECepqbQo3XoyfiYFGLut6AX4YLmTlmmDL5/ZjPk9O SZp7E8bS4ms9U4cbW2HsswuM8i5T80xZlatASg5TGGAO5wY= X-Google-Smtp-Source: AGHT+IHloDwT8JNvHbApzQt/HnYyKP7UIElbQHgIJ/kkTtgM+/tLV1A184CBlfi6zOzAPRw+KCOq1uGSO/7M X-Received: by 2002:ad4:596d:0:b0:6fd:5fa8:6fb6 with SMTP id 6a1803df08f44-702b1b9c978mr1205606d6.40.1751403888213; Tue, 01 Jul 2025 14:04:48 -0700 (PDT) Received: from postal.iol.unh.edu (postal.iol.unh.edu. [2606:4100:3880:1234::84]) by smtp-relay.gmail.com with ESMTPS id 6a1803df08f44-6fd771a7001sm6349706d6.24.2025.07.01.14.04.48 (version=TLS1_2 cipher=ECDHE-ECDSA-AES128-GCM-SHA256 bits=128/128); Tue, 01 Jul 2025 14:04:48 -0700 (PDT) X-Relaying-Domain: iol.unh.edu Date: Tue, 01 Jul 2025 14:04:48 -0700 (PDT) Message-ID: <68644d70.050a0220.248bf2.1d9aSMTPIN_ADDED_MISSING@mx.google.com> Received: from [172.21.0.5] (unknown [172.18.0.240]) by postal.iol.unh.edu (Postfix) with ESMTP id DAB72604D420; Tue, 1 Jul 2025 17:04:47 -0400 (EDT) Subject: |SUCCESS| pw154913 [PATCH] test/event: disable vector adapter test From: dpdklab@iol.unh.edu To: Test Report Cc: dpdk-test-reports@iol.unh.edu In-Reply-To: <20250701131524.2493132-1-thomas@monjalon.net> References: <20250701131524.2493132-1-thomas@monjalon.net> Content-Type: text/plain X-BeenThere: test-report@dpdk.org X-Mailman-Version: 2.1.29 Precedence: list List-Id: automatic DPDK test reports List-Unsubscribe: , List-Archive: List-Post: List-Help: List-Subscribe: , Errors-To: test-report-bounces@dpdk.org Test-Label: iol-unit-arm64-testing Test-Status: SUCCESS http://dpdk.org/patch/154913 _Testing PASS_ Submitter: Thomas Monjalon Date: Tuesday, July 01 2025 13:15:24 DPDK git baseline: Repo:dpdk Branch: master CommitID:20460dcffd08a4680f881c39916ae783ee830374 154913 --> testing pass Upstream job id: Generic-Unit-Test-DPDK#351576 Test environment and result as below: +------------------------------+----------------+--------------+---------------------------+------------------------------+ | Environment | dpdk_unit_test | lpm_autotest | cryptodev_sw_zuc_autotest | cryptodev_sw_snow3g_autotest | +==============================+================+==============+===========================+==============================+ | Ubuntu 22.04 | PASS | SKIPPED | SKIPPED | SKIPPED | +------------------------------+----------------+--------------+---------------------------+------------------------------+ | CentOS Stream 10 | PASS | SKIPPED | SKIPPED | SKIPPED | +------------------------------+----------------+--------------+---------------------------+------------------------------+ | Fedora Linux 41 | PASS | SKIPPED | SKIPPED | SKIPPED | +------------------------------+----------------+--------------+---------------------------+------------------------------+ | Fedora Linux 40 | PASS | SKIPPED | SKIPPED | SKIPPED | +------------------------------+----------------+--------------+---------------------------+------------------------------+ | CentOS Stream 9 | PASS | SKIPPED | SKIPPED | SKIPPED | +------------------------------+----------------+--------------+---------------------------+------------------------------+ | Red Hat Enterprise Linux 9.5 | PASS | SKIPPED | SKIPPED | SKIPPED | +------------------------------+----------------+--------------+---------------------------+------------------------------+ | Ubuntu 20.04 | PASS | PASS | SKIPPED | SKIPPED | +------------------------------+----------------+--------------+---------------------------+------------------------------+ | Ubuntu 24.04 | PASS | SKIPPED | SKIPPED | SKIPPED | +------------------------------+----------------+--------------+---------------------------+------------------------------+ | Debian GNU/Linux 12 | PASS | SKIPPED | SKIPPED | SKIPPED | +------------------------------+----------------+--------------+---------------------------+------------------------------+ | Debian 12 (arm) | SKIPPED | SKIPPED | PASS | PASS | +------------------------------+----------------+--------------+---------------------------+------------------------------+ Ubuntu 22.04 Kernel: 5.15 Compiler: gcc gcc (Ubuntu 11.4.0-1ubuntu1~22.04) 11.4.0 CentOS Stream 10 Kernel: 5.4 Compiler: gcc gcc (GCC) 14.2.1 20250110 (Red Hat 14.2.1-8) Fedora Linux 41 Kernel: 5.4 Compiler: clang gcc (GCC) 14.3.1 20250523 (Red Hat 14.3.1-1) Fedora Linux 40 Kernel: 5.4 Compiler: gcc gcc (GCC) 14.2.1 20240912 (Red Hat 14.2.1-3) CentOS Stream 9 Kernel: 5.4 Compiler: gcc gcc (GCC) 11.5.0 20240719 (Red Hat 11.5.0-7) Red Hat Enterprise Linux 9.5 Kernel: 5.4 Compiler: gcc gcc (GCC) 11.5.0 20240719 (Red Hat 11.5.0-2) Ubuntu 20.04 Kernel: 5.4 Compiler: gcc gcc (Ubuntu 9.4.0-1ubuntu1~20.04.2) 9.4.0 Ubuntu 24.04 Kernel: 5.4 Compiler: gcc gcc (Ubuntu 13.3.0-6ubuntu2~24.04) 13.3.0 Debian GNU/Linux 12 Kernel: 5.4 Compiler: gcc gcc (Debian 12.2.0-14+deb12u1) 12.2.0 Debian 12 (arm) Kernel: Depends on container host Compiler: gcc (Debian 12.2.0-14) 12.2.0 To view detailed results, visit: https://lab.dpdk.org/results/dashboard/patchsets/33556/ UNH-IOL DPDK Community Lab To manage your email subscriptions, visit: https://lab.dpdk.org/results/dashboard/preferences/subscriptions/