From mboxrd@z Thu Jan 1 00:00:00 1970 Return-Path: Received: from mails.dpdk.org (mails.dpdk.org [217.70.189.124]) by inbox.dpdk.org (Postfix) with ESMTP id 3AE8446AD6 for ; Tue, 1 Jul 2025 23:09:00 +0200 (CEST) Received: from mails.dpdk.org (localhost [127.0.0.1]) by mails.dpdk.org (Postfix) with ESMTP id 360C640298; Tue, 1 Jul 2025 23:09:00 +0200 (CEST) Received: from mail-pl1-f225.google.com (mail-pl1-f225.google.com [209.85.214.225]) by mails.dpdk.org (Postfix) with ESMTP id 29C9E40298 for ; Tue, 1 Jul 2025 23:08:59 +0200 (CEST) Received: by mail-pl1-f225.google.com with SMTP id d9443c01a7336-2363497cc4dso52117815ad.1 for ; Tue, 01 Jul 2025 14:08:59 -0700 (PDT) DKIM-Signature: v=1; a=rsa-sha256; c=relaxed/relaxed; d=iol.unh.edu; s=unh-iol; t=1751404138; x=1752008938; darn=dpdk.org; h=references:in-reply-to:cc:to:from:subject:message-id:date:from:to :cc:subject:date:message-id:reply-to; bh=BUuU5bz7vSVQpYr1mzDcwKEvPFLa1u6mr8C15fYoZdY=; b=SpPVrtmhDJvhHJzjmCh6mLPpWltR8mnL4DNFf+tTPudP6GJ7SdH5Zto3EfV3oaFDEu hGy/NGJ4oF9MDoRalfTHLFHk3+/PjCCP+R+/6Swiqd+6rlNgl7o6K4mKQESUAnD4wxbb /CxeXXDHy8t3V31tj1sDNdmTWIVs/oI/yH1uY= X-Google-DKIM-Signature: v=1; a=rsa-sha256; c=relaxed/relaxed; d=1e100.net; s=20230601; t=1751404138; x=1752008938; h=references:in-reply-to:cc:to:from:subject:message-id:date :x-gm-message-state:from:to:cc:subject:date:message-id:reply-to; bh=BUuU5bz7vSVQpYr1mzDcwKEvPFLa1u6mr8C15fYoZdY=; b=fz1zBKBdXXVd628xRJIYzDuAgPcGV8c1FjYugujGzm9u0EaK8g71QjyMBUwC2SAhvZ WgwdD4WP43fPLYMjDiVA9lRtCMqDwZOR2a+2a8ssgkWtpkN32t9P4cwatQrNjQfhEWE6 /gvUpFlUuZO1TaHPRM5SqLT1iWQLw52jeQuf9VwaSb9ukP3KQMCZVG3oqZLGF8CE58yO inpdo1mEHx80xdc15GUDUM5tpnb02StiLn/HCLY7UEOk5JNRR9HdjbBMISc1xy4QoUmt 0+HvAKfNYWH/B0k7F1i1A2FqNYhXFnw3kyme39UWa0R8t8kYCzDt4Si++OBOstQd+tUG 6tfQ== X-Gm-Message-State: AOJu0YxOnmDz61useC995sdo8x/EfxLG6C53nDv6YhIbIK/eBSic1yOl UQ6Z5t1Mna3KfQv8OLcV+3asJ8BY/17yYi5QuYwtlBer3xa/L21iqgjUsCygpjekmuuqqd6Xhia xP2yYslgMM1B8c8XKie7pgFTQFWb15u3xod1bvamhIjhhzuNAVS8kNv9uyJQU X-Gm-Gg: ASbGncs1EABGfv9I4OpoiYIy8ZMSTBRphEAo1P/+FLgDWzwWstFgRUmsl9YjbjsAPoj amIRcZSTEXgFAeD1EWMsoyj1Lj5QTgrqYp38gsJou192KXy0mBdT29fa7rzf1ofq0pM56hcELwd hsdPD5ConAr+SxTlLi2/YOgLr/oGgQNEaNiXO3HCRkEt0gzp3gvBcoz/aAsyPsdl4BogGTIWiEl ggnTWjXAyronPHGOLhLQGFztPHHMDv+2s3oBVwkQCudB+9VHfU0m/KKTZLa6qzsQHSOJpXwVg2K h+IoHWM0wzcNyB3IZIIqjjyoDo5/jqp0HX5foES8l/rNJq8= X-Google-Smtp-Source: AGHT+IEJapbksoUc8AwKmE6NPhez66kr8UoGxl8bHR5YJOXuRrTsH/Ol2gP3n/lyjh2s84FV+1OKxUlpxhp1 X-Received: by 2002:a17:903:3b86:b0:234:c8f6:1b03 with SMTP id d9443c01a7336-23c6e55e81bmr2283925ad.47.1751404138343; Tue, 01 Jul 2025 14:08:58 -0700 (PDT) Received: from postal.iol.unh.edu (postal.iol.unh.edu. [2606:4100:3880:1234::84]) by smtp-relay.gmail.com with ESMTPS id d9443c01a7336-23acb2e1a46sm6072255ad.4.2025.07.01.14.08.58 (version=TLS1_2 cipher=ECDHE-ECDSA-AES128-GCM-SHA256 bits=128/128); Tue, 01 Jul 2025 14:08:58 -0700 (PDT) X-Relaying-Domain: iol.unh.edu Date: Tue, 01 Jul 2025 14:08:58 -0700 (PDT) Message-ID: <68644e6a.170a0220.37bc7c.1251SMTPIN_ADDED_MISSING@mx.google.com> Received: from [172.21.0.6] (unknown [172.18.0.240]) by postal.iol.unh.edu (Postfix) with ESMTP id 81EAB604D421; Tue, 1 Jul 2025 17:08:57 -0400 (EDT) Subject: |SUCCESS| pw154915-154919 [PATCH] [5/5] riscv: override machine_args From: dpdklab@iol.unh.edu To: Test Report Cc: dpdk-test-reports@iol.unh.edu In-Reply-To: References: Content-Type: text/plain X-BeenThere: test-report@dpdk.org X-Mailman-Version: 2.1.29 Precedence: list List-Id: automatic DPDK test reports List-Unsubscribe: , List-Archive: List-Post: List-Help: List-Subscribe: , Errors-To: test-report-bounces@dpdk.org Test-Label: iol-compile-amd64-testing Test-Status: SUCCESS http://dpdk.org/patch/154919 _Testing PASS_ Submitter: None Date: Tuesday, July 01 2025 16:13:42 DPDK git baseline: Repo:dpdk Branch: master CommitID:0eb86b4533d40bcd703972421b9a201c02f37f8a 154915-154919 --> testing pass Upstream job id: Windows-Compile-DPDK-Native#29491 Test environment and result as below: +---------------------+--------------------+-------------------+-------------------------+ | Environment | dpdk_meson_compile | dpdk_msvc_compile | dpdk_llvm_clang_compile | +=====================+====================+===================+=========================+ | FreeBSD 14.2 | PASS | SKIPPED | SKIPPED | +---------------------+--------------------+-------------------+-------------------------+ | Ubuntu 20.04 | PASS | SKIPPED | SKIPPED | +---------------------+--------------------+-------------------+-------------------------+ | Windows Server 2022 | SKIPPED | PASS | PASS | +---------------------+--------------------+-------------------+-------------------------+ FreeBSD 14.2 Kernel: 14.2-RELEASE Compiler: clang 18.1.6 Ubuntu 20.04 Kernel: 4.19 Compiler: gcc gcc (Ubuntu 9.4.0-1ubuntu1~20.04.2) 9.4.0 Windows Server 2022 Kernel: 10.0.20348.2031 Compiler: clang 15.0.7, gcc 14.1.0 (MinGW), and MSVC VS 19.39.33521 To view detailed results, visit: https://lab.dpdk.org/results/dashboard/patchsets/33558/ UNH-IOL DPDK Community Lab To manage your email subscriptions, visit: https://lab.dpdk.org/results/dashboard/preferences/subscriptions/