From mboxrd@z Thu Jan 1 00:00:00 1970 Return-Path: Received: from mails.dpdk.org (mails.dpdk.org [217.70.189.124]) by inbox.dpdk.org (Postfix) with ESMTP id 9B2ED46AD7 for ; Tue, 1 Jul 2025 23:11:53 +0200 (CEST) Received: from mails.dpdk.org (localhost [127.0.0.1]) by mails.dpdk.org (Postfix) with ESMTP id 7AE1540298; Tue, 1 Jul 2025 23:11:53 +0200 (CEST) Received: from mail-io1-f97.google.com (mail-io1-f97.google.com [209.85.166.97]) by mails.dpdk.org (Postfix) with ESMTP id 9F72440298 for ; Tue, 1 Jul 2025 23:11:51 +0200 (CEST) Received: by mail-io1-f97.google.com with SMTP id ca18e2360f4ac-8723a232750so329568039f.1 for ; Tue, 01 Jul 2025 14:11:51 -0700 (PDT) DKIM-Signature: v=1; a=rsa-sha256; c=relaxed/relaxed; d=iol.unh.edu; s=unh-iol; t=1751404311; x=1752009111; darn=dpdk.org; h=references:in-reply-to:cc:to:from:subject:message-id:date:from:to :cc:subject:date:message-id:reply-to; bh=mzehypCtC+8rxwyUgoUukI1cvtFdtAU7/qQHS0BY8Ic=; b=PTbh66TynEHFm6voNMN3TIpLpD4yf/s6/gZbimKO+Y2GU96MkFXFidtZT3js7EvZYI ukZkV3owapXG0UWudUA756P3uuNcbyWIaUKMJPfOPCSc8wHkw5wvq32iB4pMlvEVWDlS ggdV80bI5eAAzAwjQhjBnSvUbR9x+iEMdrRLM= X-Google-DKIM-Signature: v=1; a=rsa-sha256; c=relaxed/relaxed; d=1e100.net; s=20230601; t=1751404311; x=1752009111; h=references:in-reply-to:cc:to:from:subject:message-id:date :x-gm-message-state:from:to:cc:subject:date:message-id:reply-to; bh=mzehypCtC+8rxwyUgoUukI1cvtFdtAU7/qQHS0BY8Ic=; b=RSVSX7UfbgJs0V6h8ywmoRA49oBw9FdoqNlku9SUjyoP75Fj20OAaswC2dAT1dCwKu EsYNdl1NGZILFSsRmSEtI/uKPFr++RvZ8ecr4keaa/5CQdqM0tuIzH1I7os6rz0V7VTf MNpl8SQmHuW0crsdiis9v/VEnPI30x0BaVC4UanQg8ZddnZJKqjcq/UAuykLPWKsHMAt UXw3+J8eEIClyIM7ucYN0DnlF4Ru2z6TmWFLIA7Td4NFyC8ABdT9yyY6+7Ov/RkOe4tI 7lEZzC94K/TXCJDXnTwgYqhfsdbLIHXZAiBaN7fS0yHkVmstjrW0BySUm2+iSoHsli64 lpag== X-Gm-Message-State: AOJu0YwpciwL7uBIC2qUx0KBPP1pWdsgjUgfGvXoRFDc2FzU8LEWmCkI ou2yUAVf2oIh99a8zC9yK+e30QRK7fHgYbNFulNLuy+9EEY5+xDeR53/qnz+YQ8ZPl6aLj0SD7D NdxAprNR7HyJXkTvkwcsiJZIjPN+Z+D5Hj82w+zl4A2O5 X-Gm-Gg: ASbGnctr71sK+ArnSMjTq2zmKyW3+zzq6veiqx3u6MqeIo/RM40dRuz7+gOmaOzlWFr PWE1M5CYbq4nXyUu3LIlZtycYzWR6hbyRIQBwQJC75A4oztPsZgWzvQg0jctqTdJKmboMJEeyOY uCxeq+PmCmG3+pTq29+xJ5TAIUTaVZ6IOOj6nfBMVI9La2J6lpvq5GsaGO4Rv9hq3wfzw7WqlQL tpeNpl7oxKAT8pI/i63WUxhCzGKz/8Ogsdx6Ba7NMn9oK+aMtGKr/6ID6YWGhaLJm8Ia/q4bYPx 2oNGSEjM9jZAAxoBs/XvQz+v0zn5LIYNmvLm8LiucJBeFlduOtAcblxXiabt+zGDiG/2Kw== X-Google-Smtp-Source: AGHT+IFHRfNyHesN6rFpYFNvCfxljxZTolVQPlRY8O8IeriJvU7rxlHe6buDWYKgqwM6Bqr0kZxT+VZOKe6L X-Received: by 2002:a05:6602:4084:b0:876:a91a:9098 with SMTP id ca18e2360f4ac-876c6a039bamr91742939f.2.1751404310892; Tue, 01 Jul 2025 14:11:50 -0700 (PDT) Received: from postal.iol.unh.edu (postal.iol.unh.edu. [132.177.123.84]) by smtp-relay.gmail.com with ESMTPS id 8926c6da1cb9f-502048a252esm433501173.28.2025.07.01.14.11.50 (version=TLS1_2 cipher=ECDHE-ECDSA-AES128-GCM-SHA256 bits=128/128); Tue, 01 Jul 2025 14:11:50 -0700 (PDT) X-Relaying-Domain: iol.unh.edu Date: Tue, 01 Jul 2025 14:11:50 -0700 (PDT) Message-ID: <68644f16.050a0220.f8fc0.762fSMTPIN_ADDED_MISSING@mx.google.com> Received: from [172.21.0.5] (unknown [172.18.0.240]) by postal.iol.unh.edu (Postfix) with ESMTP id 69B7B604D420; Tue, 1 Jul 2025 17:11:50 -0400 (EDT) Subject: |SUCCESS| pw154915-154919 [PATCH] [5/5] riscv: override machine_args From: dpdklab@iol.unh.edu To: Test Report Cc: dpdk-test-reports@iol.unh.edu In-Reply-To: References: Content-Type: text/plain X-BeenThere: test-report@dpdk.org X-Mailman-Version: 2.1.29 Precedence: list List-Id: automatic DPDK test reports List-Unsubscribe: , List-Archive: List-Post: List-Help: List-Subscribe: , Errors-To: test-report-bounces@dpdk.org Test-Label: iol-compile-amd64-testing Test-Status: SUCCESS http://dpdk.org/patch/154919 _Testing PASS_ Submitter: None Date: Tuesday, July 01 2025 16:13:42 DPDK git baseline: Repo:dpdk Branch: master CommitID:0eb86b4533d40bcd703972421b9a201c02f37f8a 154915-154919 --> testing pass Upstream job id: Windows-Compile-DPDK-Native#29492 Test environment and result as below: +---------------------+--------------------+-------------------+-------------------------+----------------------+ | Environment | dpdk_meson_compile | dpdk_msvc_compile | dpdk_llvm_clang_compile | dpdk_mingw64_compile | +=====================+====================+===================+=========================+======================+ | FreeBSD 14.2 | PASS | SKIPPED | SKIPPED | SKIPPED | +---------------------+--------------------+-------------------+-------------------------+----------------------+ | Ubuntu 20.04 | PASS | SKIPPED | SKIPPED | SKIPPED | +---------------------+--------------------+-------------------+-------------------------+----------------------+ | Windows Server 2022 | SKIPPED | PASS | PASS | PASS | +---------------------+--------------------+-------------------+-------------------------+----------------------+ FreeBSD 14.2 Kernel: 14.2-RELEASE Compiler: clang 18.1.6 Ubuntu 20.04 Kernel: 4.19 Compiler: gcc gcc (Ubuntu 9.4.0-1ubuntu1~20.04.2) 9.4.0 Windows Server 2022 Kernel: 10.0.20348.2031 Compiler: clang 15.0.7, gcc 14.1.0 (MinGW), and MSVC VS 19.39.33521 To view detailed results, visit: https://lab.dpdk.org/results/dashboard/patchsets/33558/ UNH-IOL DPDK Community Lab To manage your email subscriptions, visit: https://lab.dpdk.org/results/dashboard/preferences/subscriptions/