From mboxrd@z Thu Jan 1 00:00:00 1970 Return-Path: Received: from mails.dpdk.org (mails.dpdk.org [217.70.189.124]) by inbox.dpdk.org (Postfix) with ESMTP id 896EB46AD7 for ; Tue, 1 Jul 2025 23:22:03 +0200 (CEST) Received: from mails.dpdk.org (localhost [127.0.0.1]) by mails.dpdk.org (Postfix) with ESMTP id 67E2140298; Tue, 1 Jul 2025 23:22:03 +0200 (CEST) Received: from mail-yw1-f226.google.com (mail-yw1-f226.google.com [209.85.128.226]) by mails.dpdk.org (Postfix) with ESMTP id 5206F40298 for ; Tue, 1 Jul 2025 23:22:01 +0200 (CEST) Received: by mail-yw1-f226.google.com with SMTP id 00721157ae682-70e1d8c2dc2so38154457b3.3 for ; Tue, 01 Jul 2025 14:22:01 -0700 (PDT) DKIM-Signature: v=1; a=rsa-sha256; c=relaxed/relaxed; d=iol.unh.edu; s=unh-iol; t=1751404920; x=1752009720; darn=dpdk.org; h=references:in-reply-to:cc:to:from:subject:message-id:date:from:to :cc:subject:date:message-id:reply-to; bh=cTKdEoN6Ar8RrtB1NUdpMLAULlty7dMTMX5h9nQ4BG4=; b=Sf9OX3wlI7th+2FwO8lsXyW1wKpSPceFxi1ymezZ/Hy+l20yar3sVerGk3oRVI5USv KSWq8+2HF+XHntVLt5SOPnIQdAR0mxBdcGZZG7GvdqyvuLhVIteV5cqb8HrcIhxEK5YM qVpqrkJaL6k3bXQBedoRTyCoO/6gAIpuvOP7E= X-Google-DKIM-Signature: v=1; a=rsa-sha256; c=relaxed/relaxed; d=1e100.net; s=20230601; t=1751404920; x=1752009720; h=references:in-reply-to:cc:to:from:subject:message-id:date :x-gm-message-state:from:to:cc:subject:date:message-id:reply-to; bh=cTKdEoN6Ar8RrtB1NUdpMLAULlty7dMTMX5h9nQ4BG4=; b=DGUs5lNrpXqB60PP2uCFS2OFluaxzG4HMSDomxojoPdD6ubIGJ4a+srMLEc21cbPXj jrYKjTFPZASHsgzlnW7CmMu/WaXr5zfzLDKdMoJ2ZghUKd8CV8pddVihZhKtBBNgRggR ZuDXbel0sOFf1kxQSot041WjIttHT2Cj21UjxNzzIoOjkqCD5HcgS+9x/K2z/I7bp+z5 oLPvq9EjSFFzvoIlpmjQ34dOZHPhc8dHw87/6etK7j24V6qExx4P9dvrxKMXt5FLhz4n 8vIYTrgr6xlVwyZhJYIc9RhCnsyLM7NgSxsvzgjbJxe96Qu/WysDZ+DBcY0VWa1AzHc6 8/6Q== X-Gm-Message-State: AOJu0Yx49TBiWFYLzRmscf9Dfutfb7UZI9RF8TK4bsBASdD8P3ja/C50 CJDirZ5giY6lupGSFRygNk+qLDfnJgR5O70K55uiuwmeUFX6/fGBB92pugUrecqxmt/9lrumAW5 S0B+NcSgc3sInRA1wxjC5oiLr24kU+YUhqqlrqnyDu98ysJL8ENdP5JOOBWnG X-Gm-Gg: ASbGnctmlefN5JafC25cmlnqCUcewi/OfB5Zsws8cJ6mkGngxhK/DXgyEb239M3FbFC b6dabJwYL4wl/IQxbH8cTnS6epp4PQ1Yz5HUwtLiTyrbGZ6CcpLw3dgpMRZ+PS9EhrN8m7WXEBG Vkna9K/F51cH1m6BE8NO4xxOiwvJhY18n7Enx1ZIhZH7BVX9HoZg4Frab/d9ZqgKvDvn2msUYuO OI2ZVF0OSaFvbGfqndPwc/WqQkPc9fdTV0V+fX9JCOeXx8GSMXRAaY8AzdLDrqY3m6Mhb2U6goF dpI0W6z00Z93UbUrAgCV2/HjR400iPRgS0MXIIpLBM+n+0g= X-Google-Smtp-Source: AGHT+IFp1oHpNvOAX/DQLmCj8WGk7NmajBFJqrAC5mIckQnBoVRZLkAttvoPYiGVRs/jTupWnFBSejMoLmAC X-Received: by 2002:a05:690c:6a0b:b0:715:2081:f2f8 with SMTP id 00721157ae682-7164d4687e4mr3581747b3.27.1751404920567; Tue, 01 Jul 2025 14:22:00 -0700 (PDT) Received: from postal.iol.unh.edu (postal.iol.unh.edu. [2606:4100:3880:1234::84]) by smtp-relay.gmail.com with ESMTPS id 3f1490d57ef6-e87a6b4c92fsm506605276.4.2025.07.01.14.22.00 (version=TLS1_2 cipher=ECDHE-ECDSA-AES128-GCM-SHA256 bits=128/128); Tue, 01 Jul 2025 14:22:00 -0700 (PDT) X-Relaying-Domain: iol.unh.edu Date: Tue, 01 Jul 2025 14:22:00 -0700 (PDT) Message-ID: <68645178.250a0220.318608.cf07SMTPIN_ADDED_MISSING@mx.google.com> Received: from [172.21.0.7] (unknown [172.18.0.240]) by postal.iol.unh.edu (Postfix) with ESMTP id 38EE56051830; Tue, 1 Jul 2025 17:22:00 -0400 (EDT) Subject: |SUCCESS| pw154905-154912 [PATCH] [v5,9/9] bus/dpaa: optimize qman e From: dpdklab@iol.unh.edu To: Test Report Cc: dpdk-test-reports@iol.unh.edu In-Reply-To: <20250701113707.2793004-10-vanshika.shukla@nxp.com> References: <20250701113707.2793004-10-vanshika.shukla@nxp.com> Content-Type: text/plain X-BeenThere: test-report@dpdk.org X-Mailman-Version: 2.1.29 Precedence: list List-Id: automatic DPDK test reports List-Unsubscribe: , List-Archive: List-Post: List-Help: List-Subscribe: , Errors-To: test-report-bounces@dpdk.org Test-Label: iol-abi-testing Test-Status: SUCCESS http://dpdk.org/patch/154912 _Testing PASS_ Submitter: Vanshika Shukla Date: Tuesday, July 01 2025 11:37:07 DPDK git baseline: Repo:dpdk Branch: master CommitID:3e081a0c03a5cb71555dba06a920d57e75dd09c9 154905-154912 --> testing pass Upstream job id: Generic-DPDK-Compile-ABI#132594 Test environment and result as below: +-------------------------------+----------+ | Environment | abi_test | +===============================+==========+ | CentOS Stream 9 | PASS | +-------------------------------+----------+ | CentOS Stream 10 | PASS | +-------------------------------+----------+ | Debian GNU/Linux 12 | PASS | +-------------------------------+----------+ | Fedora Linux 41 | PASS | +-------------------------------+----------+ | Fedora Linux 40 | PASS | +-------------------------------+----------+ | openSUSE Leap 15.6 | PASS | +-------------------------------+----------+ | Red Hat Enterprise Linux 8.10 | PASS | +-------------------------------+----------+ | Red Hat Enterprise Linux 9.5 | PASS | +-------------------------------+----------+ | Ubuntu 22.04 | PASS | +-------------------------------+----------+ | Ubuntu 24.04 | PASS | +-------------------------------+----------+ CentOS Stream 9 Kernel: 5.15 Compiler: gcc gcc (GCC) 11.5.0 20240719 (Red Hat 11.5.0-7) CentOS Stream 10 Kernel: 5.15 Compiler: gcc gcc (GCC) 14.2.1 20250110 (Red Hat 14.2.1-8) Debian GNU/Linux 12 Kernel: 5.15 Compiler: gcc gcc (Debian 12.2.0-14+deb12u1) 12.2.0 Fedora Linux 41 Kernel: 5.15 Compiler: gcc gcc (GCC) 14.3.1 20250523 (Red Hat 14.3.1-1) Fedora Linux 40 Kernel: 5.15 Compiler: clang gcc (GCC) 14.2.1 20240912 (Red Hat 14.2.1-3) openSUSE Leap 15.6 Kernel: 5.15 Compiler: gcc gcc (SUSE Linux) 7.5.0 Red Hat Enterprise Linux 8.10 Kernel: 5.15 Compiler: gcc gcc (GCC) 8.5.0 20210514 (Red Hat 8.5.0-22) Red Hat Enterprise Linux 9.5 Kernel: 5.15 Compiler: gcc gcc (GCC) 11.5.0 20240719 (Red Hat 11.5.0-2) Ubuntu 22.04 Kernel: 5.15 Compiler: gcc gcc (Ubuntu 11.4.0-1ubuntu1~22.04) 11.4.0 Ubuntu 24.04 Kernel: 5.15 Compiler: gcc gcc (Ubuntu 13.3.0-6ubuntu2~24.04) 13.3.0 To view detailed results, visit: https://lab.dpdk.org/results/dashboard/patchsets/33555/ UNH-IOL DPDK Community Lab To manage your email subscriptions, visit: https://lab.dpdk.org/results/dashboard/preferences/subscriptions/