From mboxrd@z Thu Jan 1 00:00:00 1970 Return-Path: Received: from mails.dpdk.org (mails.dpdk.org [217.70.189.124]) by inbox.dpdk.org (Postfix) with ESMTP id A0F2646AD8 for ; Tue, 1 Jul 2025 23:23:05 +0200 (CEST) Received: from mails.dpdk.org (localhost [127.0.0.1]) by mails.dpdk.org (Postfix) with ESMTP id 9B43040298; Tue, 1 Jul 2025 23:23:05 +0200 (CEST) Received: from mail-ot1-f99.google.com (mail-ot1-f99.google.com [209.85.210.99]) by mails.dpdk.org (Postfix) with ESMTP id 2703240298 for ; Tue, 1 Jul 2025 23:23:05 +0200 (CEST) Received: by mail-ot1-f99.google.com with SMTP id 46e09a7af769-739f2508ffaso2566813a34.2 for ; Tue, 01 Jul 2025 14:23:05 -0700 (PDT) DKIM-Signature: v=1; a=rsa-sha256; c=relaxed/relaxed; d=iol.unh.edu; s=unh-iol; t=1751404984; x=1752009784; darn=dpdk.org; h=references:in-reply-to:cc:to:from:subject:message-id:date:from:to :cc:subject:date:message-id:reply-to; bh=I7qxWY7NHXxbY5OG0CIwVJ4RynEGHDmOdqV+gHwtyxE=; b=fe9j6tiq7Y3E3nrTwAGpWomv1HiWMCgwwGeeqwmlA1h06X2wBOMxeq2HcIGFjfx+Nr UUp0RGs8fCQem9w6IZVrZnQ4axFQA2fM1anYbMWBYI9bZtNDTZ7ZNq28aC4lefvsFY8S J19/zjTA3z1aRIHTiETb23fX6hWg7gEFVx6cw= X-Google-DKIM-Signature: v=1; a=rsa-sha256; c=relaxed/relaxed; d=1e100.net; s=20230601; t=1751404984; x=1752009784; h=references:in-reply-to:cc:to:from:subject:message-id:date :x-gm-message-state:from:to:cc:subject:date:message-id:reply-to; bh=I7qxWY7NHXxbY5OG0CIwVJ4RynEGHDmOdqV+gHwtyxE=; b=TmtiV4xd5EknzdhXUFwWSShjkLpzjw1IhQzB9ZO8oOwNWY68V4ZaLyS3gaSJOUAZcH 8g5CRuaIhYiE/GZCKvSbOoIuLFT/POpJLwJ6stCe+2/9v3MmLIkvjK9ZTK0RDLndfhSk X6iYSNQn4tfLLAGFdULmG8sOlWtIUYzjHNERBjcpVzYEgO3zLt3gNIFyZx3bXa+b6rM9 utT4h3pblh5tl+/1wZIcB5JsKc1TLMk0TqcRk6sjBYVeuOWjdmwyv2OEXFzZrwkAV+su KUDIzBgaOBNFbaGm7UbhbQKn3AzCACTeyOGIAWzNwPAeSUztckFA2qoYkH2dCo/6DrOC nhew== X-Gm-Message-State: AOJu0Yw36VDPqiw/1lmEIrC7VGHf8mfLBALYYMAmnHXe20phV1xqCWwu mY85uddUyuQohhRmkRvy8s3km7CEIGv+v0TtUFggHAWk+xfBcVxFieOqgdA9L9/dC6ulmIffVCi bXeiJujyRueyAiDUrsR/0Co3hZnOas7cgFtifGj5UXJdFOvQGEEr2BsCoITSh X-Gm-Gg: ASbGncvIJB+IVYeb+Er/27TKFH+tCR+d5ksV9j+UUvlmyTCWJgLs7Xww4Rs0kjutByD 3D1MWgz/XCDQ+rQt75rBa4D2a03IlQZ4bfQ0c5ECM9g4+rQ05gwO3CPdU09vh/0AA0KXhQlqSWi 2wC8ZXHUVwfZW4RpGc2+9+192jBCFpAxLa4zqMZQmbogqJ5puBU1gKG4eflqBHpFkLnqEHePbKK AwkBPFG47Gv84J4YODpEGx6VwrhJ3T/SaVBW95wgnHCgDA5O9VRIMCljbM7HSzio80ynn8Kwtl2 fNEv+CwUsqFJYt71hyNMdQ4trpK2j5MhlpBxzOf/V9KR9qE= X-Google-Smtp-Source: AGHT+IFszhgoF4beputM804Eil9i6NeOrW7pHs1oWOj/WdeC0RphHHK8FPXzbitEoqg8q0nVNWEUnQLMG2Iz X-Received: by 2002:a05:6830:3110:b0:73b:2617:87f1 with SMTP id 46e09a7af769-73b4cd0c318mr467986a34.28.1751404984278; Tue, 01 Jul 2025 14:23:04 -0700 (PDT) Received: from postal.iol.unh.edu (postal.iol.unh.edu. [2606:4100:3880:1234::84]) by smtp-relay.gmail.com with ESMTPS id 46e09a7af769-73afafeda9asm197181a34.3.2025.07.01.14.23.04 (version=TLS1_2 cipher=ECDHE-ECDSA-AES128-GCM-SHA256 bits=128/128); Tue, 01 Jul 2025 14:23:04 -0700 (PDT) X-Relaying-Domain: iol.unh.edu Date: Tue, 01 Jul 2025 14:23:04 -0700 (PDT) Message-ID: <686451b8.050a0220.3d98a9.a200SMTPIN_ADDED_MISSING@mx.google.com> Received: from [172.21.0.6] (unknown [172.18.0.240]) by postal.iol.unh.edu (Postfix) with ESMTP id BC1D46051830; Tue, 1 Jul 2025 17:23:03 -0400 (EDT) Subject: |SUCCESS| pw154905-154912 [PATCH] [v5,9/9] bus/dpaa: optimize qman e From: dpdklab@iol.unh.edu To: Test Report Cc: dpdk-test-reports@iol.unh.edu In-Reply-To: <20250701113707.2793004-10-vanshika.shukla@nxp.com> References: <20250701113707.2793004-10-vanshika.shukla@nxp.com> Content-Type: text/plain X-BeenThere: test-report@dpdk.org X-Mailman-Version: 2.1.29 Precedence: list List-Id: automatic DPDK test reports List-Unsubscribe: , List-Archive: List-Post: List-Help: List-Subscribe: , Errors-To: test-report-bounces@dpdk.org Test-Label: iol-abi-testing Test-Status: SUCCESS http://dpdk.org/patch/154912 _Testing PASS_ Submitter: Vanshika Shukla Date: Tuesday, July 01 2025 11:37:07 DPDK git baseline: Repo:dpdk Branch: master CommitID:3e081a0c03a5cb71555dba06a920d57e75dd09c9 154905-154912 --> testing pass Upstream job id: Generic-DPDK-Compile-ABI#132595 Test environment and result as below: +-------------------------------+----------+ | Environment | abi_test | +===============================+==========+ | CentOS Stream 9 | PASS | +-------------------------------+----------+ | CentOS Stream 10 | PASS | +-------------------------------+----------+ | Debian GNU/Linux 12 | PASS | +-------------------------------+----------+ | Fedora Linux 41 | PASS | +-------------------------------+----------+ | Fedora Linux 40 | PASS | +-------------------------------+----------+ | openSUSE Leap 15.6 | PASS | +-------------------------------+----------+ | Red Hat Enterprise Linux 8.10 | PASS | +-------------------------------+----------+ | Red Hat Enterprise Linux 9.5 | PASS | +-------------------------------+----------+ | Ubuntu 22.04 | PASS | +-------------------------------+----------+ | Ubuntu 24.04 | PASS | +-------------------------------+----------+ CentOS Stream 9 Kernel: 5.15 Compiler: gcc gcc (GCC) 11.5.0 20240719 (Red Hat 11.5.0-7) CentOS Stream 10 Kernel: 5.15 Compiler: gcc gcc (GCC) 14.2.1 20250110 (Red Hat 14.2.1-8) Debian GNU/Linux 12 Kernel: 5.15 Compiler: gcc gcc (Debian 12.2.0-14+deb12u1) 12.2.0 Fedora Linux 41 Kernel: 5.15 Compiler: gcc gcc (GCC) 14.3.1 20250523 (Red Hat 14.3.1-1) Fedora Linux 40 Kernel: 5.15 Compiler: clang gcc (GCC) 14.2.1 20240912 (Red Hat 14.2.1-3) openSUSE Leap 15.6 Kernel: 5.15 Compiler: gcc gcc (SUSE Linux) 7.5.0 Red Hat Enterprise Linux 8.10 Kernel: 5.15 Compiler: gcc gcc (GCC) 8.5.0 20210514 (Red Hat 8.5.0-22) Red Hat Enterprise Linux 9.5 Kernel: 5.15 Compiler: gcc gcc (GCC) 11.5.0 20240719 (Red Hat 11.5.0-2) Ubuntu 22.04 Kernel: 5.15 Compiler: gcc gcc (Ubuntu 11.4.0-1ubuntu1~22.04) 11.4.0 Ubuntu 24.04 Kernel: 5.15 Compiler: gcc gcc (Ubuntu 13.3.0-6ubuntu2~24.04) 13.3.0 To view detailed results, visit: https://lab.dpdk.org/results/dashboard/patchsets/33555/ UNH-IOL DPDK Community Lab To manage your email subscriptions, visit: https://lab.dpdk.org/results/dashboard/preferences/subscriptions/