From mboxrd@z Thu Jan 1 00:00:00 1970 Return-Path: Received: from mails.dpdk.org (mails.dpdk.org [217.70.189.124]) by inbox.dpdk.org (Postfix) with ESMTP id BF50246AD9 for ; Tue, 1 Jul 2025 23:23:24 +0200 (CEST) Received: from mails.dpdk.org (localhost [127.0.0.1]) by mails.dpdk.org (Postfix) with ESMTP id B988740298; Tue, 1 Jul 2025 23:23:24 +0200 (CEST) Received: from mail-io1-f100.google.com (mail-io1-f100.google.com [209.85.166.100]) by mails.dpdk.org (Postfix) with ESMTP id E6E1740298 for ; Tue, 1 Jul 2025 23:23:23 +0200 (CEST) Received: by mail-io1-f100.google.com with SMTP id ca18e2360f4ac-86cf3a3d4ccso597984439f.3 for ; Tue, 01 Jul 2025 14:23:23 -0700 (PDT) DKIM-Signature: v=1; a=rsa-sha256; c=relaxed/relaxed; d=iol.unh.edu; s=unh-iol; t=1751405003; x=1752009803; darn=dpdk.org; h=references:in-reply-to:cc:to:from:subject:message-id:date:from:to :cc:subject:date:message-id:reply-to; bh=S4uiqpOKfESPRWPeo7k4kQCpzelCyoet4oLhi8va+Gc=; b=FKCTnIHe+3Oyl6UC7wLgVGGf2FczVRdf6nifcMvtZYq9G2B0O8M6PtmS9q59pKE12K QehzQJtbVJxVYFVvZASiLYygsSERUg4iyfpxWRleOqv5jHbeQZfFpElr/Z/1SylwnWU2 ZONqqrRsfKFN6bpxRlZykX56TaPgqaQcRXJ1I= X-Google-DKIM-Signature: v=1; a=rsa-sha256; c=relaxed/relaxed; d=1e100.net; s=20230601; t=1751405003; x=1752009803; h=references:in-reply-to:cc:to:from:subject:message-id:date :x-gm-message-state:from:to:cc:subject:date:message-id:reply-to; bh=S4uiqpOKfESPRWPeo7k4kQCpzelCyoet4oLhi8va+Gc=; b=dfZQchrps4xUIOR3S2bn4aR5DKKspcum6JHlEmf2oCGxvdV1FGyKWgX3WQDQZR+uX6 8+xZHGrKkZ1b/+kU0VCPcQggqDPuFnr5nKwP3j/a8cifyljCM+VvlFBysjCPsd/gFTGi FjxFUK3LjlY/JKGpJtnKOHVDax8tcX6gpESTyIA5xtywFOUTWlIVXyluhzpDoKIAsgHc RzZ0gJnb7AMKbwsYMbOfzViO84AYQ/SWnRbl0MWqCB38dO4cyrVfe/s22CKQLCqAcwbc /jnWBG3M3ScIrOEReSNgDeLvPsZEyNV0jzZfH6LDOz3FWiEGLWk3he/lmzz/Si2ojG+Z 5YAA== X-Gm-Message-State: AOJu0YzQA4DJvEkMQHYwlgZLQE3TJ17zoDA4o/sAuoQIfO13i9dpqyhv ZJOBj/x4uvIa+vCUiN1hofdjncVvLPsfKxgUBFuB1pzvukkMzYS4AYSnbt4tdPYFTRFmc0Ym7Rf AL23A5dBIiNs19RHp+JMBCwCR7W0k9hPpsua4j/PqfDWG X-Gm-Gg: ASbGnct+PSDk8BVjQ/r1FT2a1Dnwqbjuhnll6kKKX0nUB19inrno/hbgX0XYb3xHqI8 uf7H2OM9L7PK0zNCqRJadG9fSgHateZCGhgAKdiE7uSGWYEz+4eWmlPytW+X7DXTvQ0NcSiLyfv FJEFXZbuBa/b8SzohC+Jxc5WZV+amjqC+GeWc+937TBnKp9nrHO/CgGOUizoYcC6c1pfBMVsf1n Y4X0H+WMod+0VFXafb5F7G5sYC334fGc9FUCr3qKmF5oSQMvXNfNT4T1wXhydK3e14NEfaDro4Z Bjkc/ZqUvjFkF/i4aj3WvjbLfrLbpa7yfqOKlHw2bcJXRKY+Hg+KWWfoWnZyjSpWh+dhgQ== X-Google-Smtp-Source: AGHT+IGneJYGRRT9ZKAjEbVTILDmncH4zXUL3/pDHkXPnYMadyJkAWfoXVxzWdufd91krJcGkrvHhdppmyzS X-Received: by 2002:a05:6e02:3111:b0:3de:251c:211e with SMTP id e9e14a558f8ab-3e0549f42ecmr6854435ab.17.1751405003256; Tue, 01 Jul 2025 14:23:23 -0700 (PDT) Received: from postal.iol.unh.edu (postal.iol.unh.edu. [132.177.123.84]) by smtp-relay.gmail.com with ESMTPS id e9e14a558f8ab-3df4a025db6sm6182495ab.18.2025.07.01.14.23.23 (version=TLS1_2 cipher=ECDHE-ECDSA-AES128-GCM-SHA256 bits=128/128); Tue, 01 Jul 2025 14:23:23 -0700 (PDT) X-Relaying-Domain: iol.unh.edu Date: Tue, 01 Jul 2025 14:23:23 -0700 (PDT) Message-ID: <686451cb.050a0220.2a22b1.0eebSMTPIN_ADDED_MISSING@mx.google.com> Received: from [172.21.0.7] (unknown [172.18.0.240]) by postal.iol.unh.edu (Postfix) with ESMTP id BF6696051830; Tue, 1 Jul 2025 17:23:22 -0400 (EDT) Subject: |SUCCESS| pw154905-154912 [PATCH] [v5,9/9] bus/dpaa: optimize qman e From: dpdklab@iol.unh.edu To: Test Report Cc: dpdk-test-reports@iol.unh.edu In-Reply-To: <20250701113707.2793004-10-vanshika.shukla@nxp.com> References: <20250701113707.2793004-10-vanshika.shukla@nxp.com> Content-Type: text/plain X-BeenThere: test-report@dpdk.org X-Mailman-Version: 2.1.29 Precedence: list List-Id: automatic DPDK test reports List-Unsubscribe: , List-Archive: List-Post: List-Help: List-Subscribe: , Errors-To: test-report-bounces@dpdk.org Test-Label: iol-abi-testing Test-Status: SUCCESS http://dpdk.org/patch/154912 _Testing PASS_ Submitter: Vanshika Shukla Date: Tuesday, July 01 2025 11:37:07 DPDK git baseline: Repo:dpdk Branch: master CommitID:3e081a0c03a5cb71555dba06a920d57e75dd09c9 154905-154912 --> testing pass Upstream job id: Generic-DPDK-Compile-ABI#132588 Test environment and result as below: +-------------------------------+----------+ | Environment | abi_test | +===============================+==========+ | CentOS Stream 9 | PASS | +-------------------------------+----------+ | CentOS Stream 10 | PASS | +-------------------------------+----------+ | Debian GNU/Linux 12 | PASS | +-------------------------------+----------+ | Fedora Linux 41 | PASS | +-------------------------------+----------+ | Fedora Linux 40 | PASS | +-------------------------------+----------+ | openSUSE Leap 15.6 | PASS | +-------------------------------+----------+ | Red Hat Enterprise Linux 8.10 | PASS | +-------------------------------+----------+ | Red Hat Enterprise Linux 9.5 | PASS | +-------------------------------+----------+ | Ubuntu 22.04 | PASS | +-------------------------------+----------+ | Ubuntu 24.04 | PASS | +-------------------------------+----------+ CentOS Stream 9 Kernel: 5.15 Compiler: gcc gcc (GCC) 11.5.0 20240719 (Red Hat 11.5.0-7) CentOS Stream 10 Kernel: 5.15 Compiler: gcc gcc (GCC) 14.2.1 20250110 (Red Hat 14.2.1-8) Debian GNU/Linux 12 Kernel: 5.15 Compiler: gcc gcc (Debian 12.2.0-14+deb12u1) 12.2.0 Fedora Linux 41 Kernel: 5.15 Compiler: gcc gcc (GCC) 14.3.1 20250523 (Red Hat 14.3.1-1) Fedora Linux 40 Kernel: 5.15 Compiler: clang gcc (GCC) 14.2.1 20240912 (Red Hat 14.2.1-3) openSUSE Leap 15.6 Kernel: 5.15 Compiler: gcc gcc (SUSE Linux) 7.5.0 Red Hat Enterprise Linux 8.10 Kernel: 5.15 Compiler: gcc gcc (GCC) 8.5.0 20210514 (Red Hat 8.5.0-22) Red Hat Enterprise Linux 9.5 Kernel: 5.15 Compiler: gcc gcc (GCC) 11.5.0 20240719 (Red Hat 11.5.0-2) Ubuntu 22.04 Kernel: 5.15 Compiler: gcc gcc (Ubuntu 11.4.0-1ubuntu1~22.04) 11.4.0 Ubuntu 24.04 Kernel: 5.15 Compiler: gcc gcc (Ubuntu 13.3.0-6ubuntu2~24.04) 13.3.0 To view detailed results, visit: https://lab.dpdk.org/results/dashboard/patchsets/33555/ UNH-IOL DPDK Community Lab To manage your email subscriptions, visit: https://lab.dpdk.org/results/dashboard/preferences/subscriptions/