From mboxrd@z Thu Jan 1 00:00:00 1970 Return-Path: Received: from mails.dpdk.org (mails.dpdk.org [217.70.189.124]) by inbox.dpdk.org (Postfix) with ESMTP id 377F146AD9 for ; Tue, 1 Jul 2025 23:27:02 +0200 (CEST) Received: from mails.dpdk.org (localhost [127.0.0.1]) by mails.dpdk.org (Postfix) with ESMTP id 11DED40298; Tue, 1 Jul 2025 23:27:02 +0200 (CEST) Received: from mail-yw1-f225.google.com (mail-yw1-f225.google.com [209.85.128.225]) by mails.dpdk.org (Postfix) with ESMTP id B64BA40298 for ; Tue, 1 Jul 2025 23:27:00 +0200 (CEST) Received: by mail-yw1-f225.google.com with SMTP id 00721157ae682-71101668dedso63864387b3.1 for ; Tue, 01 Jul 2025 14:27:00 -0700 (PDT) DKIM-Signature: v=1; a=rsa-sha256; c=relaxed/relaxed; d=iol.unh.edu; s=unh-iol; t=1751405220; x=1752010020; darn=dpdk.org; h=references:in-reply-to:cc:to:from:subject:message-id:date:from:to :cc:subject:date:message-id:reply-to; bh=EIAi6vxZuPyHuadFQVHkdjQc3FpXVWeCAtfA2a3PNP8=; b=FguApYq62CQDtMz030e0Vb2DG3Mjj3EMCN7KDvzI40+Z82xFTIn11xk6Hten4/HZI/ oD+CeD2yombLlIuFpBnp1RLTs5+313vNKF0wHOJj1++lQS6Miq8DDchIaGt5QZPhHu4B 2MdeNrxdYDQF2fnpKG30TPsG4uiXOhzz2ExBE= X-Google-DKIM-Signature: v=1; a=rsa-sha256; c=relaxed/relaxed; d=1e100.net; s=20230601; t=1751405220; x=1752010020; h=references:in-reply-to:cc:to:from:subject:message-id:date :x-gm-message-state:from:to:cc:subject:date:message-id:reply-to; bh=EIAi6vxZuPyHuadFQVHkdjQc3FpXVWeCAtfA2a3PNP8=; b=ShCFiJN0Nt9axcuWwMt79LvPdZ9Wf+Or9H+9ZxKxw/1/oD9NYsdmZQoIKsGCGeuWvf yzijgMJVo1i2bKek6+PnM6u/iBaVWvlcC/cKlYbRlUxQ37ViAgFV+UQxzvLhuYObMmlH pvp0vSqIE6Xeg52uraLxuFuK2mEk1S3yxvirhw4h35AnizjC3pDN3Xl3xYs4BUOEBxba Vzpo1Z5xQPsUoJ3BX5JN0Oom2g+pgjWpn/cDn7irS4yJjSNxBb9dZuW1NGXotoIv2bsg CxbQgQsxrC24+LC/gC3fWM+bIwwMyR698m7+AadikgghslYs7zDqdY/vxxz/E04v0Gsc 0vJw== X-Gm-Message-State: AOJu0Yz1y8fZ+AY76bBIL5iPxUUL7h85LifbL69tZpXve01zO2wp5Zuw RQWOmqkhmBgCiu0pZCscFXn4iQSio9BtogZC1jtS5ROGfPaBRfZ4KDJaTlw/VvIAR4A0A4f8yMT 2UidaKic4gJsQsYq6iW0ERg937Jy8Hc06BtDEfGbB6bIG X-Gm-Gg: ASbGncuLvuR8k7gO+sKao42hCwlVW1ZbDBLLomw1k6FfjxBxCYiOH8Y+B9ZUxMepn1l wuGZftgvi1vNqcbEJmTyBPPl0B8luBxTCgqFrTarmkhGMkQPY6wYj4cxDZ45rky9UkJ89je9Zu9 1Ihz0n3AT69aNiX9CeO7Ub3S3L4Nlja3QvnzsJTO0LxdAV/VGm3ubZ7bS9gdwjip65kG9jbA4Na ZjsruPpBLA84byu+fUMwce+pNh+iiC728SEq0etRUYQarH41TDYWV893CDrcGxoDI7oR1ysEnuH aydpZXjQe34ZQEn8XGW8LRIGpqlUlnVosmpIc9ll87WH6ZgfPViO7CxGdMyhRxqi7rAPaA== X-Google-Smtp-Source: AGHT+IHwTH/5v7XGUeSOi2a+evFRBmYds7URKDOTuIf4bmVAg0d036IwwzNfUEqqhbnJUdfhhYGvnG2S1HLF X-Received: by 2002:a05:690c:6603:b0:70f:87c5:5270 with SMTP id 00721157ae682-7164d4ce2b0mr4519657b3.19.1751405219960; Tue, 01 Jul 2025 14:26:59 -0700 (PDT) Received: from postal.iol.unh.edu (postal.iol.unh.edu. [132.177.123.84]) by smtp-relay.gmail.com with ESMTPS id 00721157ae682-71515cb9285sm3528687b3.35.2025.07.01.14.26.59 (version=TLS1_2 cipher=ECDHE-ECDSA-AES128-GCM-SHA256 bits=128/128); Tue, 01 Jul 2025 14:26:59 -0700 (PDT) X-Relaying-Domain: iol.unh.edu Date: Tue, 01 Jul 2025 14:26:59 -0700 (PDT) Message-ID: <686452a3.050a0220.2cf91e.31a2SMTPIN_ADDED_MISSING@mx.google.com> Received: from [172.21.0.12] (unknown [172.18.0.240]) by postal.iol.unh.edu (Postfix) with ESMTP id 9E7216051830; Tue, 1 Jul 2025 17:26:59 -0400 (EDT) Subject: |SUCCESS| pw154913 [PATCH] test/event: disable vector adapter test From: dpdklab@iol.unh.edu To: Test Report Cc: dpdk-test-reports@iol.unh.edu In-Reply-To: <20250701131524.2493132-1-thomas@monjalon.net> References: <20250701131524.2493132-1-thomas@monjalon.net> Content-Type: text/plain X-BeenThere: test-report@dpdk.org X-Mailman-Version: 2.1.29 Precedence: list List-Id: automatic DPDK test reports List-Unsubscribe: , List-Archive: List-Post: List-Help: List-Subscribe: , Errors-To: test-report-bounces@dpdk.org Test-Label: iol-unit-amd64-testing Test-Status: SUCCESS http://dpdk.org/patch/154913 _Testing PASS_ Submitter: Thomas Monjalon Date: Tuesday, July 01 2025 13:15:24 DPDK git baseline: Repo:dpdk Branch: master CommitID:20460dcffd08a4680f881c39916ae783ee830374 154913 --> testing pass Upstream job id: Generic-VM-Unit-Test-DPDK#29633 Test environment and result as below: +-------------------------------+----------------+ | Environment | dpdk_unit_test | +===============================+================+ | Debian GNU/Linux 12 | PASS | +-------------------------------+----------------+ | CentOS Stream 9 | PASS | +-------------------------------+----------------+ | Red Hat Enterprise Linux 8.10 | PASS | +-------------------------------+----------------+ | Red Hat Enterprise Linux 9.5 | PASS | +-------------------------------+----------------+ | Fedora Linux 41 | PASS | +-------------------------------+----------------+ | Fedora Linux 40 | PASS | +-------------------------------+----------------+ | Ubuntu 24.04 | PASS | +-------------------------------+----------------+ | Ubuntu 20.04 | PASS | +-------------------------------+----------------+ | Ubuntu 22.04 | PASS | +-------------------------------+----------------+ | CentOS Stream 10 | PASS | +-------------------------------+----------------+ | Windows Server 2022 | PASS | +-------------------------------+----------------+ Debian GNU/Linux 12 Kernel: 5.15 Compiler: gcc gcc (Debian 12.2.0-14+deb12u1) 12.2.0 CentOS Stream 9 Kernel: 5.15 Compiler: gcc gcc (GCC) 11.5.0 20240719 (Red Hat 11.5.0-7) Red Hat Enterprise Linux 8.10 Kernel: 5.15 Compiler: gcc gcc (GCC) 8.5.0 20210514 (Red Hat 8.5.0-22) Red Hat Enterprise Linux 9.5 Kernel: 5.15 Compiler: gcc gcc (GCC) 11.5.0 20240719 (Red Hat 11.5.0-2) Fedora Linux 41 Kernel: 5.15 Compiler: clang gcc (GCC) 14.3.1 20250523 (Red Hat 14.3.1-1) Fedora Linux 40 Kernel: 5.15 Compiler: gcc gcc (GCC) 14.2.1 20240912 (Red Hat 14.2.1-3) Ubuntu 24.04 Kernel: 5.15 Compiler: gcc gcc (Ubuntu 13.3.0-6ubuntu2~24.04) 13.3.0 Ubuntu 20.04 Kernel: 5.15 Compiler: gcc gcc (Ubuntu 9.4.0-1ubuntu1~20.04.2) 9.4.0 Ubuntu 22.04 Kernel: 5.15 Compiler: gcc gcc (Ubuntu 11.4.0-1ubuntu1~22.04) 11.4.0 CentOS Stream 10 Kernel: 5.15 Compiler: gcc gcc (GCC) 14.2.1 20250110 (Red Hat 14.2.1-8) Windows Server 2022 Kernel: 10.0.20348.2031 Compiler: clang 15.0.7, gcc 14.1.0 (MinGW), and MSVC VS 19.39.33521 To view detailed results, visit: https://lab.dpdk.org/results/dashboard/patchsets/33556/ UNH-IOL DPDK Community Lab To manage your email subscriptions, visit: https://lab.dpdk.org/results/dashboard/preferences/subscriptions/