From mboxrd@z Thu Jan 1 00:00:00 1970 Return-Path: Received: from mails.dpdk.org (mails.dpdk.org [217.70.189.124]) by inbox.dpdk.org (Postfix) with ESMTP id 7234146AC4 for ; Tue, 1 Jul 2025 23:39:17 +0200 (CEST) Received: from mails.dpdk.org (localhost [127.0.0.1]) by mails.dpdk.org (Postfix) with ESMTP id 6C68140298; Tue, 1 Jul 2025 23:39:17 +0200 (CEST) Received: from mail-qt1-f228.google.com (mail-qt1-f228.google.com [209.85.160.228]) by mails.dpdk.org (Postfix) with ESMTP id EAAC040298 for ; Tue, 1 Jul 2025 23:39:15 +0200 (CEST) Received: by mail-qt1-f228.google.com with SMTP id d75a77b69052e-4a774209cf0so41401141cf.0 for ; Tue, 01 Jul 2025 14:39:15 -0700 (PDT) DKIM-Signature: v=1; a=rsa-sha256; c=relaxed/relaxed; d=iol.unh.edu; s=unh-iol; t=1751405955; x=1752010755; darn=dpdk.org; h=references:in-reply-to:cc:to:from:subject:message-id:date:from:to :cc:subject:date:message-id:reply-to; bh=y9VhPMfY1hJ56BNpNYiZPIqXkgABResU3P4rqz5E8oE=; b=GKlGF5HLPbSbQH+UjV+RrEv/YQXE2HDSBfaqIqt5NHLcZ4vyw9K2EtJ+mQZlltVqD2 1v+DeJNjvHgfCrQ2YE8+Y+wR3owLNqGpY1OdlnCAG0L4ZHYDc83dRRC9qVJlPoVTcRNx HHPpogaSx6VpfCKowq5vSCQikcaAG+ncBbA7Y= X-Google-DKIM-Signature: v=1; a=rsa-sha256; c=relaxed/relaxed; d=1e100.net; s=20230601; t=1751405955; x=1752010755; h=references:in-reply-to:cc:to:from:subject:message-id:date :x-gm-message-state:from:to:cc:subject:date:message-id:reply-to; bh=y9VhPMfY1hJ56BNpNYiZPIqXkgABResU3P4rqz5E8oE=; b=g9Ut6P16X5FegXMA3rUajJaDuBgrPs7glf6ojaNAHGSo8ZFue30c8262ji9p7MoT9V obHPLXJDfrqAlfMwG3VZWGDlvh0E/qKu1MP3mx7aOX3AmmORX3V0/YdfHnagpPtOoj7Y TDlCbPHilzB81sukgiWouifB/cF417IespdaxuYCLKNbW13NUzOaLuJV9cJAYJTxuKN6 31DXt8Bt4BUyE1RHaAZZb/InYYTHjYSRXnZ2rN88ed46xRltLQxxIOvT8JLaJVXWK02V usW3g4sLH2kkZ2WkvRRuha4pi4jX1KuOZ9lsEYiVDKup1cfny9YOIxiqpUs2iWCdpQUE oYAg== X-Gm-Message-State: AOJu0YwurDMtN3KlWIJzlzbwJFpGXX6Wgy52uxo4+fmd4DYWjj3Rx3wX 2Rd+i1bZWHBelaSDnxmhEOPmvCazXVqcsK0wFNiJlJWxvxmdYnztE2WjrOEJOlAuC6ZD+H4MHBo kUmkCl0SIjT8FBYmAozLGOUWjf7CJMebRl1YcGu+sjMp0AmSTcGqHRkRCHSY9 X-Gm-Gg: ASbGnctcW/s8pqUvVi3rtys/jvrpulLMbwCkyVum+RpAN1Lj/fLtVy73k+J8jDOnBfZ ExvsXfINM1aZMDxKr1MA/v4qtLSy40eM4IUMr8epoyHVREVCjW7sAETmeUVNEVs+m/5QNZAmbBI R2uMCT4TObms6/1kltDGvNUzUHtUVfPa17rd5jjqowcMKo8dtbvKWA9LlNp2APIXmgDEp+WFNgN jw7HiAiK0bhB1bVOQYQIkS4hhOpEZ4AjkNcuoKh5vdxF/yV5nJKPWFdW9lORsmpZvAwJHd5rt/u F+r3A1MnhnR4i34+z4uPftfQ/UwcHMR/5W2p63d0TqgCuHg= X-Google-Smtp-Source: AGHT+IFdnJduN6IIR2crTDUCnfHClxOAJiMdQTl7Qe9zHwX8pdKT+vm8rpl3XpO9YYFOmMISJt51/HmVKQx7 X-Received: by 2002:a05:622a:4507:b0:4a9:76fa:8727 with SMTP id d75a77b69052e-4a976fa9afdmr5632641cf.19.1751405955189; Tue, 01 Jul 2025 14:39:15 -0700 (PDT) Received: from postal.iol.unh.edu (postal.iol.unh.edu. [2606:4100:3880:1234::84]) by smtp-relay.gmail.com with ESMTPS id d75a77b69052e-4a7fc1c0c29sm4486331cf.11.2025.07.01.14.39.15 (version=TLS1_2 cipher=ECDHE-ECDSA-AES128-GCM-SHA256 bits=128/128); Tue, 01 Jul 2025 14:39:15 -0700 (PDT) X-Relaying-Domain: iol.unh.edu Date: Tue, 01 Jul 2025 14:39:15 -0700 (PDT) Message-ID: <68645583.050a0220.1b3183.8683SMTPIN_ADDED_MISSING@mx.google.com> Received: from [172.21.0.5] (unknown [172.18.0.240]) by postal.iol.unh.edu (Postfix) with ESMTP id E25776051830; Tue, 1 Jul 2025 17:39:14 -0400 (EDT) Subject: |SUCCESS| pw154913 [PATCH] test/event: disable vector adapter test From: dpdklab@iol.unh.edu To: Test Report Cc: dpdk-test-reports@iol.unh.edu In-Reply-To: <20250701131524.2493132-1-thomas@monjalon.net> References: <20250701131524.2493132-1-thomas@monjalon.net> Content-Type: text/plain X-BeenThere: test-report@dpdk.org X-Mailman-Version: 2.1.29 Precedence: list List-Id: automatic DPDK test reports List-Unsubscribe: , List-Archive: List-Post: List-Help: List-Subscribe: , Errors-To: test-report-bounces@dpdk.org Test-Label: iol-unit-amd64-testing Test-Status: SUCCESS http://dpdk.org/patch/154913 _Testing PASS_ Submitter: Thomas Monjalon Date: Tuesday, July 01 2025 13:15:24 DPDK git baseline: Repo:dpdk Branch: master CommitID:20460dcffd08a4680f881c39916ae783ee830374 154913 --> testing pass Upstream job id: Generic-VM-Unit-Test-DPDK#29634 Test environment and result as below: +-------------------------------+----------------+ | Environment | dpdk_unit_test | +===============================+================+ | Debian GNU/Linux 12 | PASS | +-------------------------------+----------------+ | CentOS Stream 9 | PASS | +-------------------------------+----------------+ | Red Hat Enterprise Linux 8.10 | PASS | +-------------------------------+----------------+ | Red Hat Enterprise Linux 9.5 | PASS | +-------------------------------+----------------+ | Fedora Linux 41 | PASS | +-------------------------------+----------------+ | Fedora Linux 40 | PASS | +-------------------------------+----------------+ | Ubuntu 24.04 | PASS | +-------------------------------+----------------+ | Ubuntu 20.04 | PASS | +-------------------------------+----------------+ | Ubuntu 22.04 | PASS | +-------------------------------+----------------+ | CentOS Stream 10 | PASS | +-------------------------------+----------------+ | Windows Server 2022 | PASS | +-------------------------------+----------------+ Debian GNU/Linux 12 Kernel: 5.15 Compiler: gcc gcc (Debian 12.2.0-14+deb12u1) 12.2.0 CentOS Stream 9 Kernel: 5.15 Compiler: gcc gcc (GCC) 11.5.0 20240719 (Red Hat 11.5.0-7) Red Hat Enterprise Linux 8.10 Kernel: 5.15 Compiler: gcc gcc (GCC) 8.5.0 20210514 (Red Hat 8.5.0-22) Red Hat Enterprise Linux 9.5 Kernel: 5.15 Compiler: gcc gcc (GCC) 11.5.0 20240719 (Red Hat 11.5.0-2) Fedora Linux 41 Kernel: 5.15 Compiler: clang gcc (GCC) 14.3.1 20250523 (Red Hat 14.3.1-1) Fedora Linux 40 Kernel: 5.15 Compiler: gcc gcc (GCC) 14.2.1 20240912 (Red Hat 14.2.1-3) Ubuntu 24.04 Kernel: 5.15 Compiler: gcc gcc (Ubuntu 13.3.0-6ubuntu2~24.04) 13.3.0 Ubuntu 20.04 Kernel: 5.15 Compiler: gcc gcc (Ubuntu 9.4.0-1ubuntu1~20.04.2) 9.4.0 Ubuntu 22.04 Kernel: 5.15 Compiler: gcc gcc (Ubuntu 11.4.0-1ubuntu1~22.04) 11.4.0 CentOS Stream 10 Kernel: 5.15 Compiler: gcc gcc (GCC) 14.2.1 20250110 (Red Hat 14.2.1-8) Windows Server 2022 Kernel: 10.0.20348.2031 Compiler: clang 15.0.7, gcc 14.1.0 (MinGW), and MSVC VS 19.39.33521 To view detailed results, visit: https://lab.dpdk.org/results/dashboard/patchsets/33556/ UNH-IOL DPDK Community Lab To manage your email subscriptions, visit: https://lab.dpdk.org/results/dashboard/preferences/subscriptions/