From mboxrd@z Thu Jan 1 00:00:00 1970 Return-Path: Received: from mails.dpdk.org (mails.dpdk.org [217.70.189.124]) by inbox.dpdk.org (Postfix) with ESMTP id 3F2B646AD9 for ; Wed, 2 Jul 2025 00:01:58 +0200 (CEST) Received: from mails.dpdk.org (localhost [127.0.0.1]) by mails.dpdk.org (Postfix) with ESMTP id 1A67640298; Wed, 2 Jul 2025 00:01:58 +0200 (CEST) Received: from mail-qk1-f227.google.com (mail-qk1-f227.google.com [209.85.222.227]) by mails.dpdk.org (Postfix) with ESMTP id 4190B40298 for ; Wed, 2 Jul 2025 00:01:56 +0200 (CEST) Received: by mail-qk1-f227.google.com with SMTP id af79cd13be357-7d21cecc11fso1027151585a.3 for ; Tue, 01 Jul 2025 15:01:56 -0700 (PDT) DKIM-Signature: v=1; a=rsa-sha256; c=relaxed/relaxed; d=iol.unh.edu; s=unh-iol; t=1751407315; x=1752012115; darn=dpdk.org; h=references:in-reply-to:cc:to:from:subject:message-id:date:from:to :cc:subject:date:message-id:reply-to; bh=1m67E3xtFDfpl5zXBMzGNhfje0XEMCYziY4eUAFxWKw=; b=Qy+lkr3lPHSFsJX/GJyTYMde46YEXD/aiZ3ilf+izm7Bmtw00m7BE5JUc22QQO99kl +ldmQFJcozib5CLF0RA8fERNtxqQFmfsQI5t2LWQc78AceJu94d68dPks2XakBqy8q23 OBE4KymZt2OkZ81FKJF6T4ToJ+Syw9DFtsxVY= X-Google-DKIM-Signature: v=1; a=rsa-sha256; c=relaxed/relaxed; d=1e100.net; s=20230601; t=1751407315; x=1752012115; h=references:in-reply-to:cc:to:from:subject:message-id:date :x-gm-message-state:from:to:cc:subject:date:message-id:reply-to; bh=1m67E3xtFDfpl5zXBMzGNhfje0XEMCYziY4eUAFxWKw=; b=uaDdJl4EF0Pwi0i0+QQk/c0NKvfHxPvLPKJVrsldEnjTT1GlYUoER+ihBjZhvm5wo1 IkEwK6rlF+Iz+SAC6PCcGzVne0XVKSrDcGmbwHtyQv8NLms2/uMz+cBOJwLZ40WJEX4a WPcQ3+J16IO69FDWsjsR/utBfQQVBtwq2J6Od82n1I3qEgC62uWV6fK3Ts/1z1KZcnht rEiWtz23QzW4X6wVIgiQ8fNWxHl/Zr+37vbGsKS+bot+/6p/CrqPgRwKedB9yXmErf3H 8v3uoBSCiTKoP7E11c7dWyqc+EI6QLimGVclwFdQWf2QYBktCKgaOGt9JsIPk36t8rZp Cb7w== X-Gm-Message-State: AOJu0YxSxnotBXOPmE4u5DoQoWg7j7I6iHo7HYbLl5kaXccsbAKIb6YP kW57UfKCIvK5u/WOvXJE00USz6ElKa8aNAaK7q7NBpeI0ZdFgZjao5l0IQLMTwdcM8psDDuqfNj fJaRSVllN0lBx6EGlkq/ksIGgvE8LKyOAMxp2BFOL4vso X-Gm-Gg: ASbGncufej9EmtUQVG5Ly3VW/9Yn+uAcfHI2Lakj6jGkiu0PJtrCpYcTr8JSva/X6kD gn5w/DVC3ECfq8+3sGnTdPQ/tGFfmuPpJzu8R8GZoDJX8eIw4a9c7DD8I1+yHuIdVl+7SZMuNzl SGr9zcT1bnc5AV6CuACyEoluqN5eIWfvahO3TrK70KernA4YYODVLPQwh1aUJ5C+2r7/Pw/hbAA cHKeVLSIPIkwmSai19+Cm4SOLD6soVAwo++LcYK0Y055a/JIw6tX2cxHVjxcz8fiVca2IzkJH/U EOlusEfYebMv7uw+TaFuG8Tjet2LMPBsmpPxTKS7U6cKY2VBZUfCEIe47/fzPn830jiqYA== X-Google-Smtp-Source: AGHT+IETRimtPg03wGVZYLsdL4oX5tHKKeYTJ7RGvFWdY54KhoNF+N5RT9n0EfPNJ9bqfZopIfCA6ySSMwfo X-Received: by 2002:a05:6214:54c3:b0:6fa:ce21:cad with SMTP id 6a1803df08f44-702b1b61283mr4645456d6.18.1751407315533; Tue, 01 Jul 2025 15:01:55 -0700 (PDT) Received: from postal.iol.unh.edu (postal.iol.unh.edu. [132.177.123.84]) by smtp-relay.gmail.com with ESMTPS id 6a1803df08f44-6fd771b8847sm6339486d6.29.2025.07.01.15.01.55 (version=TLS1_2 cipher=ECDHE-ECDSA-AES128-GCM-SHA256 bits=128/128); Tue, 01 Jul 2025 15:01:55 -0700 (PDT) X-Relaying-Domain: iol.unh.edu Date: Tue, 01 Jul 2025 15:01:55 -0700 (PDT) Message-ID: <68645ad3.050a0220.2fabc9.2076SMTPIN_ADDED_MISSING@mx.google.com> Received: from [172.21.0.5] (unknown [172.18.0.240]) by postal.iol.unh.edu (Postfix) with ESMTP id 4A3B46051830; Tue, 1 Jul 2025 18:01:55 -0400 (EDT) Subject: |SUCCESS| pw154905-154912 [PATCH] [v5,9/9] bus/dpaa: optimize qman e From: dpdklab@iol.unh.edu To: Test Report Cc: dpdk-test-reports@iol.unh.edu In-Reply-To: <20250701113707.2793004-10-vanshika.shukla@nxp.com> References: <20250701113707.2793004-10-vanshika.shukla@nxp.com> Content-Type: text/plain X-BeenThere: test-report@dpdk.org X-Mailman-Version: 2.1.29 Precedence: list List-Id: automatic DPDK test reports List-Unsubscribe: , List-Archive: List-Post: List-Help: List-Subscribe: , Errors-To: test-report-bounces@dpdk.org Test-Label: iol-compile-arm64-testing Test-Status: SUCCESS http://dpdk.org/patch/154912 _Testing PASS_ Submitter: Vanshika Shukla Date: Tuesday, July 01 2025 11:37:07 DPDK git baseline: Repo:dpdk Branch: master CommitID:3e081a0c03a5cb71555dba06a920d57e75dd09c9 154905-154912 --> testing pass Upstream job id: Generic-DPDK-Compile-Meson#404265 Test environment and result as below: +------------------------------+--------------------+ | Environment | dpdk_meson_compile | +==============================+====================+ | Ubuntu 20.04 | PASS | +------------------------------+--------------------+ | Debian GNU/Linux 12 | PASS | +------------------------------+--------------------+ | Red Hat Enterprise Linux 9.5 | PASS | +------------------------------+--------------------+ | Fedora Linux 40 | PASS | +------------------------------+--------------------+ | Fedora Linux 41 | PASS | +------------------------------+--------------------+ | Ubuntu 22.04 | PASS | +------------------------------+--------------------+ | CentOS Stream 9 | PASS | +------------------------------+--------------------+ | Ubuntu 24.04 | PASS | +------------------------------+--------------------+ | CentOS Stream 10 | PASS | +------------------------------+--------------------+ Ubuntu 20.04 Kernel: 5.15 Compiler: aarch64-linux-gnu-gcc gcc (Ubuntu 9.4.0-1ubuntu1~20.04.2) 9.4.0 Debian GNU/Linux 12 Kernel: 5.4 Compiler: gcc gcc (Debian 12.2.0-14+deb12u1) 12.2.0 Red Hat Enterprise Linux 9.5 Kernel: 5.4 Compiler: gcc gcc (GCC) 11.5.0 20240719 (Red Hat 11.5.0-2) Fedora Linux 40 Kernel: 5.4 Compiler: clang gcc (GCC) 14.2.1 20240912 (Red Hat 14.2.1-3) Fedora Linux 41 Kernel: 5.4 Compiler: clang gcc (GCC) 14.3.1 20250523 (Red Hat 14.3.1-1) Ubuntu 22.04 Kernel: 5.4 Compiler: gcc gcc (Ubuntu 11.4.0-1ubuntu1~22.04) 11.4.0 CentOS Stream 9 Kernel: 5.4 Compiler: gcc gcc (GCC) 11.5.0 20240719 (Red Hat 11.5.0-7) Ubuntu 24.04 Kernel: 5.4 Compiler: gcc gcc (Ubuntu 13.3.0-6ubuntu2~24.04) 13.3.0 CentOS Stream 10 Kernel: 5.4 Compiler: gcc gcc (GCC) 14.2.1 20250110 (Red Hat 14.2.1-8) To view detailed results, visit: https://lab.dpdk.org/results/dashboard/patchsets/33555/ UNH-IOL DPDK Community Lab To manage your email subscriptions, visit: https://lab.dpdk.org/results/dashboard/preferences/subscriptions/