From mboxrd@z Thu Jan 1 00:00:00 1970 Return-Path: Received: from mails.dpdk.org (mails.dpdk.org [217.70.189.124]) by inbox.dpdk.org (Postfix) with ESMTP id 4103C46AD9 for ; Wed, 2 Jul 2025 00:02:12 +0200 (CEST) Received: from mails.dpdk.org (localhost [127.0.0.1]) by mails.dpdk.org (Postfix) with ESMTP id 3C2C740298; Wed, 2 Jul 2025 00:02:12 +0200 (CEST) Received: from mail-io1-f99.google.com (mail-io1-f99.google.com [209.85.166.99]) by mails.dpdk.org (Postfix) with ESMTP id 0ECB640298 for ; Wed, 2 Jul 2025 00:02:11 +0200 (CEST) Received: by mail-io1-f99.google.com with SMTP id ca18e2360f4ac-875dd57d63bso259775739f.0 for ; Tue, 01 Jul 2025 15:02:11 -0700 (PDT) DKIM-Signature: v=1; a=rsa-sha256; c=relaxed/relaxed; d=iol.unh.edu; s=unh-iol; t=1751407330; x=1752012130; darn=dpdk.org; h=references:in-reply-to:cc:to:from:subject:message-id:date:from:to :cc:subject:date:message-id:reply-to; bh=IBNIL4XZXpfkIRwJD1qoqM62icKnTbib4pkclCJc+RU=; b=ZLyiSIcEVFOoQjt65c5bXNJ0yDqKOXVfT/Jg6Zd4RA0F5c7kyCXImS+8nH2LBQ4Bed c0VohA+4ARY2by6wcDNFRChKY2f+6FVxoJ9/IBKx/AsFGFok15sON3i+pJjhNdLv5yU5 5FOq6+zPfkicchINoq/QxSPCFbCFbwqPzzgnE= X-Google-DKIM-Signature: v=1; a=rsa-sha256; c=relaxed/relaxed; d=1e100.net; s=20230601; t=1751407330; x=1752012130; h=references:in-reply-to:cc:to:from:subject:message-id:date :x-gm-message-state:from:to:cc:subject:date:message-id:reply-to; bh=IBNIL4XZXpfkIRwJD1qoqM62icKnTbib4pkclCJc+RU=; b=w/lVJeVPmGgLxfCUHlL4cYJf72yC3HwCCcCUqoc0BHvn+HQgSRKuECaC8IhMrbL1Cu WQb4GztodzLUF/xUkanPW51K00GcUfWDe+yPkKIbUrrSX9zX4vq5V1vnwb+FukSChjZT mbl3o+MbMTzml8Ou/0HKBUVKxT7qcVK2RCPJaD9EG8P+DCVSyMom0/XtyKxpMw3oLs+Y /tFrOU6E8WqM55D11DDNjJ9g6+E/I9gCxzouVqB5MdnqHHrZOI9ZJXZYakdQo3zpAWIu 2rd7PAeTxvaUH7lXdh26fEFxGLLkawZRhF6HkB+UfbpdkTEaxJiawrN0VLdWDVIcYxT3 VySQ== X-Gm-Message-State: AOJu0YwUtdCQndI/t1KHmV93Pgp8RpmiR7G+Sih9kD67YHjbrySgQ6Vq IbtQ4nX2cT7DwUTD8tqONMnzyZiJ4fALu0uT04YhqqXS8M0ER9l/Bsr0hvlYotIrkUithvVWnlo RbeWY801CNU1ZCL6Zt8K1npl+duYWTMQlmfZIVvs3Izv/ X-Gm-Gg: ASbGncvbayZIS0YRGeOmpQey9LpTOQtONuUkpAeulcHbXB0wApHuOfsqWKyELs4eRtr CyZRVv6fSWlg8eIe9cGOl09Tn1v3i0CJ+B5ZZLmUYihvQM2N+y7msmElQuNmn9Yc05aT4ErPBVK KrdrEBL4VS2eMxCm9q0drWzGhSGGyueOD2m+o4YZcq2QOdCcSbCxGgOEaiRfWw6Yw2BmK22L9Rh 4ekVyq6lKeAqTjYnI9Me12iQEd0KXbpjRs8lYifpeh0FwJPfvW5S3Wog8RL4+XiO5VVdWfIpJkH BQm6R2IPLcVr2hc6Al0J8cnea/UCdF07la/USeDe9SMVvVgMjOeICyPpPGI/zslmfxZnYQ== X-Google-Smtp-Source: AGHT+IFnS8VlP0MML69fi64N0mLrzeefcHJgV2YTsGAx0fJYpmytfCf2wwkZ9IGuD/EtAHUXiXTA9gMr+SHl X-Received: by 2002:a05:6602:630d:b0:85e:73da:c56a with SMTP id ca18e2360f4ac-876c7b1cba7mr28597739f.3.1751407330227; Tue, 01 Jul 2025 15:02:10 -0700 (PDT) Received: from postal.iol.unh.edu (postal.iol.unh.edu. [132.177.123.84]) by smtp-relay.gmail.com with ESMTPS id 8926c6da1cb9f-5020489a48bsm428516173.24.2025.07.01.15.02.10 (version=TLS1_2 cipher=ECDHE-ECDSA-AES128-GCM-SHA256 bits=128/128); Tue, 01 Jul 2025 15:02:10 -0700 (PDT) X-Relaying-Domain: iol.unh.edu Date: Tue, 01 Jul 2025 15:02:10 -0700 (PDT) Message-ID: <68645ae2.050a0220.346839.6dd9SMTPIN_ADDED_MISSING@mx.google.com> Received: from [172.21.0.5] (unknown [172.18.0.240]) by postal.iol.unh.edu (Postfix) with ESMTP id C2E8D6051830; Tue, 1 Jul 2025 18:02:09 -0400 (EDT) Subject: |SUCCESS| pw154905-154912 [PATCH] [v5,9/9] bus/dpaa: optimize qman e From: dpdklab@iol.unh.edu To: Test Report Cc: dpdk-test-reports@iol.unh.edu In-Reply-To: <20250701113707.2793004-10-vanshika.shukla@nxp.com> References: <20250701113707.2793004-10-vanshika.shukla@nxp.com> Content-Type: text/plain X-BeenThere: test-report@dpdk.org X-Mailman-Version: 2.1.29 Precedence: list List-Id: automatic DPDK test reports List-Unsubscribe: , List-Archive: List-Post: List-Help: List-Subscribe: , Errors-To: test-report-bounces@dpdk.org Test-Label: iol-compile-arm64-testing Test-Status: SUCCESS http://dpdk.org/patch/154912 _Testing PASS_ Submitter: Vanshika Shukla Date: Tuesday, July 01 2025 11:37:07 DPDK git baseline: Repo:dpdk Branch: master CommitID:3e081a0c03a5cb71555dba06a920d57e75dd09c9 154905-154912 --> testing pass Upstream job id: Generic-DPDK-Compile-Meson#404264 Test environment and result as below: +------------------------------+--------------------+ | Environment | dpdk_meson_compile | +==============================+====================+ | Ubuntu 20.04 | PASS | +------------------------------+--------------------+ | Debian GNU/Linux 12 | PASS | +------------------------------+--------------------+ | Red Hat Enterprise Linux 9.5 | PASS | +------------------------------+--------------------+ | Fedora Linux 40 | PASS | +------------------------------+--------------------+ | Fedora Linux 41 | PASS | +------------------------------+--------------------+ | Ubuntu 22.04 | PASS | +------------------------------+--------------------+ | CentOS Stream 9 | PASS | +------------------------------+--------------------+ | Ubuntu 24.04 | PASS | +------------------------------+--------------------+ | CentOS Stream 10 | PASS | +------------------------------+--------------------+ Ubuntu 20.04 Kernel: 5.15 Compiler: aarch64-linux-gnu-gcc gcc (Ubuntu 9.4.0-1ubuntu1~20.04.2) 9.4.0 Debian GNU/Linux 12 Kernel: 5.4 Compiler: gcc gcc (Debian 12.2.0-14+deb12u1) 12.2.0 Red Hat Enterprise Linux 9.5 Kernel: 5.4 Compiler: gcc gcc (GCC) 11.5.0 20240719 (Red Hat 11.5.0-2) Fedora Linux 40 Kernel: 5.4 Compiler: clang gcc (GCC) 14.2.1 20240912 (Red Hat 14.2.1-3) Fedora Linux 41 Kernel: 5.4 Compiler: clang gcc (GCC) 14.3.1 20250523 (Red Hat 14.3.1-1) Ubuntu 22.04 Kernel: 5.4 Compiler: gcc gcc (Ubuntu 11.4.0-1ubuntu1~22.04) 11.4.0 CentOS Stream 9 Kernel: 5.4 Compiler: gcc gcc (GCC) 11.5.0 20240719 (Red Hat 11.5.0-7) Ubuntu 24.04 Kernel: 5.4 Compiler: gcc gcc (Ubuntu 13.3.0-6ubuntu2~24.04) 13.3.0 CentOS Stream 10 Kernel: 5.4 Compiler: gcc gcc (GCC) 14.2.1 20250110 (Red Hat 14.2.1-8) To view detailed results, visit: https://lab.dpdk.org/results/dashboard/patchsets/33555/ UNH-IOL DPDK Community Lab To manage your email subscriptions, visit: https://lab.dpdk.org/results/dashboard/preferences/subscriptions/