From mboxrd@z Thu Jan 1 00:00:00 1970 Return-Path: Received: from mails.dpdk.org (mails.dpdk.org [217.70.189.124]) by inbox.dpdk.org (Postfix) with ESMTP id 5EC7446AD9 for ; Wed, 2 Jul 2025 00:03:16 +0200 (CEST) Received: from mails.dpdk.org (localhost [127.0.0.1]) by mails.dpdk.org (Postfix) with ESMTP id 5957840298; Wed, 2 Jul 2025 00:03:16 +0200 (CEST) Received: from mail-vs1-f97.google.com (mail-vs1-f97.google.com [209.85.217.97]) by mails.dpdk.org (Postfix) with ESMTP id C424C40298 for ; Wed, 2 Jul 2025 00:03:15 +0200 (CEST) Received: by mail-vs1-f97.google.com with SMTP id ada2fe7eead31-4e7f4adaedaso1036788137.3 for ; Tue, 01 Jul 2025 15:03:15 -0700 (PDT) DKIM-Signature: v=1; a=rsa-sha256; c=relaxed/relaxed; d=iol.unh.edu; s=unh-iol; t=1751407395; x=1752012195; darn=dpdk.org; h=references:in-reply-to:cc:to:from:subject:message-id:date:from:to :cc:subject:date:message-id:reply-to; bh=ctBFu3K/MO/mQPR1jVV8j/+xzeeQ+fo4wXt6Ac/nB6o=; b=NIcQscJL7Kgh1MQQsFkc8KnWFJtAEkVVyR9yPT4x5C3Vxhi+cju3t039SpoPtuk5L1 Xk67gsncdaGZvLDGbnqVQsmCFEHDb2igD6vk5NuLzmVeWLDiGiHnInUSCHMWk29ePmpn NV5aWcugcWhxC98OsjnF3CB8jjZ+Qp/2XBojA= X-Google-DKIM-Signature: v=1; a=rsa-sha256; c=relaxed/relaxed; d=1e100.net; s=20230601; t=1751407395; x=1752012195; h=references:in-reply-to:cc:to:from:subject:message-id:date :x-gm-message-state:from:to:cc:subject:date:message-id:reply-to; bh=ctBFu3K/MO/mQPR1jVV8j/+xzeeQ+fo4wXt6Ac/nB6o=; b=Fryy+xPK9jKAMMGYQnU/2HtTSILCwsgttaHPHNj6ZTpuqF7Lu+aIy+YXhuC1WBBeqc BzvVRzzVAYmE+aeCW+stLnPiGG6KpdJI4WcEbB8505HJdN8jPo8QjOx1UvP9KLTOQGMs c+x+DMQszNpF5l/aINeqtHUIowcAfYOuounaHbWJh1SLCnOj1HEO65lC7cX42EzgsMT+ hek0fT/l7Q3HviV/ezjsp6AiG7PeVxmzVdayNmQyeV/1kBefTnECWl7piUKjdM+OklS5 2n8KfxzK533PkU+8Fdc2UleT7GWqOJDIwHFgLNBhJ85wULB3sR/m7uuy+MbAhxOLYFB8 J5AA== X-Gm-Message-State: AOJu0YyrD9WLJdapNAQl2iao6XGvBW2hoBtqL1lrqw8GIEKrYIQJLybU tCRNzwTUXCKn6dd3hloQyg4IkzjYcGb473C79J39XVQknjcTuTkHdmVsCQWt4iMAdzho9Hce4Rd RQfdtSiY4WVG7ATikSFRQY/C7vQpKu1LzIvrAtbKOWO8JbIU/qJonSkOQJ5K2 X-Gm-Gg: ASbGncsp95EVGf97u6w5blJV8TAkckoKzbqixGXQxKms7nLOCIKinH8h20quEGbV+rV O041fHhKQzxaWXTGMvNU56EaZTBPyLfi9uvU+Y8CS8wavy1mfAC6hJ/zQnKmLR8G04gYCPnIXDb s+4n7qqpaT+PKrVgTkd7RR+qwYcDeFJcBg4r6CU8dF1FIauBoECMn+fyglK2DU60kB3wCNLpdXF G1bex/tH3JW4Z0GzFMqDnBg/XZC2X0PeD+9rD5+SCpnxpJbpk+IfNagp/jcYBFguTv0VrwW9Hc5 0HgpI0i5VG7yaiYTCHqVrHlZoAsS2jQOD+qWYFlLBLRFw6k= X-Google-Smtp-Source: AGHT+IH/JnOdHYiOh2RBRmbdwTNd998z5T9YX7Bd1R4H7iDvdM/54/hLyoNRH35OgUJ5192KtWn5fgsEaJFe X-Received: by 2002:a05:6102:5349:b0:4e6:d784:3f7 with SMTP id ada2fe7eead31-4f1611dae9amr137366137.15.1751407395046; Tue, 01 Jul 2025 15:03:15 -0700 (PDT) Received: from postal.iol.unh.edu (postal.iol.unh.edu. [2606:4100:3880:1234::84]) by smtp-relay.gmail.com with ESMTPS id 71dfb90a1353d-53308f08e5asm747967e0c.0.2025.07.01.15.03.14 (version=TLS1_2 cipher=ECDHE-ECDSA-AES128-GCM-SHA256 bits=128/128); Tue, 01 Jul 2025 15:03:15 -0700 (PDT) X-Relaying-Domain: iol.unh.edu Date: Tue, 01 Jul 2025 15:03:15 -0700 (PDT) Message-ID: <68645b23.050a0220.32c828.915eSMTPIN_ADDED_MISSING@mx.google.com> Received: from [172.21.0.8] (unknown [172.18.0.240]) by postal.iol.unh.edu (Postfix) with ESMTP id A56996051830; Tue, 1 Jul 2025 18:03:14 -0400 (EDT) Subject: |WARNING| pw154902 [PATCH] net/mlx5: fix masked indirect age action From: dpdklab@iol.unh.edu To: Test Report Cc: dpdk-test-reports@iol.unh.edu In-Reply-To: <20250701103253.318225-1-dsosnowski@nvidia.com> References: <20250701103253.318225-1-dsosnowski@nvidia.com> Content-Type: text/plain X-BeenThere: test-report@dpdk.org X-Mailman-Version: 2.1.29 Precedence: list List-Id: automatic DPDK test reports List-Unsubscribe: , List-Archive: List-Post: List-Help: List-Subscribe: , Errors-To: test-report-bounces@dpdk.org Test-Label: iol-compile-amd64-testing Test-Status: WARNING http://dpdk.org/patch/154902 _Testing issues_ Submitter: Dariusz Sosnowski Date: Tuesday, July 01 2025 10:32:53 DPDK git baseline: Repo:dpdk Branch: master CommitID:5c0c1a13c34aa57c6e18f9ba852a9b5807c58b72 154902 --> testing issues Upstream job id: Generic-DPDK-Compile-Meson#404230 Test environment and result as below: +-------------------------------+--------------------+-------------------+------------------+-------------------+-------------------------+----------------------+ | Environment | dpdk_meson_compile | dpdk_compile_spdk | dpdk_compile_ovs | dpdk_msvc_compile | dpdk_llvm_clang_compile | dpdk_mingw64_compile | +===============================+====================+===================+==================+===================+=========================+======================+ | CentOS Stream 9 | PASS | PASS | SKIPPED | SKIPPED | SKIPPED | SKIPPED | +-------------------------------+--------------------+-------------------+------------------+-------------------+-------------------------+----------------------+ | CentOS Stream 10 | PASS | SKIPPED | SKIPPED | SKIPPED | SKIPPED | SKIPPED | +-------------------------------+--------------------+-------------------+------------------+-------------------+-------------------------+----------------------+ | Debian GNU/Linux 12 | PASS | PASS | SKIPPED | SKIPPED | SKIPPED | SKIPPED | +-------------------------------+--------------------+-------------------+------------------+-------------------+-------------------------+----------------------+ | Fedora Linux 40 | PASS | PASS | SKIPPED | SKIPPED | SKIPPED | SKIPPED | +-------------------------------+--------------------+-------------------+------------------+-------------------+-------------------------+----------------------+ | Fedora Linux 41 | PASS | PASS | PASS | SKIPPED | SKIPPED | SKIPPED | +-------------------------------+--------------------+-------------------+------------------+-------------------+-------------------------+----------------------+ | openSUSE Leap 15.6 | PASS | SKIPPED | SKIPPED | SKIPPED | SKIPPED | SKIPPED | +-------------------------------+--------------------+-------------------+------------------+-------------------+-------------------------+----------------------+ | Red Hat Enterprise Linux 8.10 | PASS | SKIPPED | SKIPPED | SKIPPED | SKIPPED | SKIPPED | +-------------------------------+--------------------+-------------------+------------------+-------------------+-------------------------+----------------------+ | Ubuntu 20.04 | PASS | SKIPPED | SKIPPED | SKIPPED | SKIPPED | SKIPPED | +-------------------------------+--------------------+-------------------+------------------+-------------------+-------------------------+----------------------+ | Ubuntu 22.04 | PASS | PASS | SKIPPED | SKIPPED | SKIPPED | SKIPPED | +-------------------------------+--------------------+-------------------+------------------+-------------------+-------------------------+----------------------+ | Ubuntu 24.04 | PASS | PASS | PASS | SKIPPED | SKIPPED | SKIPPED | +-------------------------------+--------------------+-------------------+------------------+-------------------+-------------------------+----------------------+ | Alpine Linux 3.22.0 | PASS | SKIPPED | SKIPPED | SKIPPED | SKIPPED | SKIPPED | +-------------------------------+--------------------+-------------------+------------------+-------------------+-------------------------+----------------------+ | FreeBSD 14.2 | PASS | SKIPPED | SKIPPED | SKIPPED | SKIPPED | SKIPPED | +-------------------------------+--------------------+-------------------+------------------+-------------------+-------------------------+----------------------+ | Red Hat Enterprise Linux 9.5 | PASS | SKIPPED | SKIPPED | SKIPPED | SKIPPED | SKIPPED | +-------------------------------+--------------------+-------------------+------------------+-------------------+-------------------------+----------------------+ | Windows Server 2022 | SKIPPED | SKIPPED | SKIPPED | PASS | PASS | PASS | +-------------------------------+--------------------+-------------------+------------------+-------------------+-------------------------+----------------------+ CentOS Stream 9 Kernel: 5.15 Compiler: gcc gcc (GCC) 11.5.0 20240719 (Red Hat 11.5.0-7) CentOS Stream 10 Kernel: 5.15 Compiler: gcc gcc (GCC) 14.2.1 20250110 (Red Hat 14.2.1-8) Debian GNU/Linux 12 Kernel: 5.15 Compiler: gcc gcc (Debian 12.2.0-14+deb12u1) 12.2.0 Fedora Linux 40 Kernel: 5.15 Compiler: clang gcc (GCC) 14.2.1 20240912 (Red Hat 14.2.1-3) Fedora Linux 41 Kernel: 5.15 Compiler: clang gcc (GCC) 14.3.1 20250523 (Red Hat 14.3.1-1) openSUSE Leap 15.6 Kernel: 5.15 Compiler: gcc gcc (SUSE Linux) 7.5.0 Red Hat Enterprise Linux 8.10 Kernel: 5.15 Compiler: gcc gcc (GCC) 8.5.0 20210514 (Red Hat 8.5.0-22) Ubuntu 20.04 Kernel: 5.15 Compiler: gcc gcc (Ubuntu 9.4.0-1ubuntu1~20.04.2) 9.4.0 Ubuntu 22.04 Kernel: 5.15 Compiler: gcc gcc (Ubuntu 11.4.0-1ubuntu1~22.04) 11.4.0 Ubuntu 24.04 Kernel: 5.15 Compiler: gcc gcc (Ubuntu 13.3.0-6ubuntu2~24.04) 13.3.0 Alpine Linux 3.22.0 Kernel: 5.15 Compiler: gcc gcc (Alpine 14.2.0) 14.2.0 FreeBSD 14.2 Kernel: 14.2-RELEASE Compiler: clang 18.1.6 Red Hat Enterprise Linux 9.5 Kernel: 5.15 Compiler: gcc gcc (GCC) 11.5.0 20240719 (Red Hat 11.5.0-2) Windows Server 2022 Kernel: 10.0.20348.2031 Compiler: clang 15.0.7, gcc 14.1.0 (MinGW), and MSVC VS 19.39.33521 To view detailed results, visit: https://lab.dpdk.org/results/dashboard/patchsets/33553/ UNH-IOL DPDK Community Lab To manage your email subscriptions, visit: https://lab.dpdk.org/results/dashboard/preferences/subscriptions/