From mboxrd@z Thu Jan 1 00:00:00 1970 Return-Path: Received: from mails.dpdk.org (mails.dpdk.org [217.70.189.124]) by inbox.dpdk.org (Postfix) with ESMTP id 6CD2E46AD9 for ; Wed, 2 Jul 2025 00:03:31 +0200 (CEST) Received: from mails.dpdk.org (localhost [127.0.0.1]) by mails.dpdk.org (Postfix) with ESMTP id 67BC340298; Wed, 2 Jul 2025 00:03:31 +0200 (CEST) Received: from mail-oa1-f100.google.com (mail-oa1-f100.google.com [209.85.160.100]) by mails.dpdk.org (Postfix) with ESMTP id 15D4140298 for ; Wed, 2 Jul 2025 00:03:30 +0200 (CEST) Received: by mail-oa1-f100.google.com with SMTP id 586e51a60fabf-2efdd5c22dfso2151047fac.3 for ; Tue, 01 Jul 2025 15:03:30 -0700 (PDT) DKIM-Signature: v=1; a=rsa-sha256; c=relaxed/relaxed; d=iol.unh.edu; s=unh-iol; t=1751407409; x=1752012209; darn=dpdk.org; h=references:in-reply-to:cc:to:from:subject:message-id:date:from:to :cc:subject:date:message-id:reply-to; bh=HMDO716rRLCnoVvzh1x3m0RNzxO5DTXgHgGXSldD5LY=; b=SVIjj4b669A5mpne3zs0YbYkAQ3oStPtwvPeLxB3WrP5bgh3gH6SuK3P8lC3U+1tgB 2aDlBpZIUYqK9e9GwmnTWye4gD6dxbRKZ8ENBhfTS0azAkprEoVofL2GWlE3+2MgVkrh kjPAHhxn7FRLGHX9Dmr4pfu0Z61M6QS90vrsQ= X-Google-DKIM-Signature: v=1; a=rsa-sha256; c=relaxed/relaxed; d=1e100.net; s=20230601; t=1751407409; x=1752012209; h=references:in-reply-to:cc:to:from:subject:message-id:date :x-gm-message-state:from:to:cc:subject:date:message-id:reply-to; bh=HMDO716rRLCnoVvzh1x3m0RNzxO5DTXgHgGXSldD5LY=; b=vKhEuDMaiQa5l2bJGVaEvWvIX79yK27+jcRKajPBFpWDP9eRyrRJnF6+4RJcySgwzY 8Iav+7uz1v8wueZiXEQBTu3ZWT4pWkdRiM2YVlwGf3Sq3o8fGLrKXMoUH6nb8tJE10WM fkLvEsZxrDDpP+KjixbuRrwpZRjM8gV9a7/aJ8n45EIoIGg94azGI0o7w32Vh5XkN20L PXGJmXi3PTUrGx0aXm2Hv+Sh/3tF11KoE9+hxns8epNoKdqRPbBiwvy+Q+1C78hrjQHr ZnNAtHuD0d3Bpw9b7pMZes5aQsKvmquc4v0ZCrJ7/+PubgUy23YC/hI7Q2Lumgm+wEPJ Hyow== X-Gm-Message-State: AOJu0YxXafFTMVx45lg9w4MTaY8aK5ZiHgZxLXFMzrAzZSW6KWsPVEkt MQ58KeQsC9GtIOQCT4oYINdCYyEaEkMo+1SKKPSSOgB45iRBmWlI2O9UHU3u8XjTXlyjPlwTydp rEW5K6lxQn9i8H+G+vITaxbYLe/Ldw+c6XK/sPxI/2J1RuP6wrsQbTsh4vkdK X-Gm-Gg: ASbGncuL/K+kkMvUm6/Ay0+Xhe8slGeUT34SP9LqEaPRfPLs3ZTgnQQeLOnziySvQmE NciQtyLyGzYjZQ5jk+XaDv0kOyXqWETWEBqEohX8P289/pL1ICuE0Gdz2pYaIi8cKvxH/Z+HDvX 96LvmP3ZFGHzJQtw+AiP7x5L30O+dhlbxgoZcF09KTk0dpt4m8YQiO7q1cYVDH4Gcl5Taw2bdZw /jmK8kM9f/vCHT4VcDTkVQYpgHDPdmtz//fdd8h42JB2lQwuqbQ0eytIhuMUqAQ1CHXuWG5DnOo /OJD+D3q4hA5IfoGw9K0sAi+YW01BfBput21ekYN5SnnBHc= X-Google-Smtp-Source: AGHT+IH60ZHmB1AXWk6oYsPArLwhSZwAfMoUjcjrd3YlJxU3ENE6Wnx6xsd33RoPVJzPNtk2vhA2gl/k+sUv X-Received: by 2002:a05:6871:4508:b0:29e:69a9:8311 with SMTP id 586e51a60fabf-2f5c7d8202dmr352212fac.36.1751407409364; Tue, 01 Jul 2025 15:03:29 -0700 (PDT) Received: from postal.iol.unh.edu (postal.iol.unh.edu. [2606:4100:3880:1234::84]) by smtp-relay.gmail.com with ESMTPS id 586e51a60fabf-2efd4dc2779sm720886fac.11.2025.07.01.15.03.29 (version=TLS1_2 cipher=ECDHE-ECDSA-AES128-GCM-SHA256 bits=128/128); Tue, 01 Jul 2025 15:03:29 -0700 (PDT) X-Relaying-Domain: iol.unh.edu Date: Tue, 01 Jul 2025 15:03:29 -0700 (PDT) Message-ID: <68645b31.050a0220.2c2b3.7628SMTPIN_ADDED_MISSING@mx.google.com> Received: from [172.21.0.5] (unknown [172.18.0.240]) by postal.iol.unh.edu (Postfix) with ESMTP id CDBE06051830; Tue, 1 Jul 2025 18:03:28 -0400 (EDT) Subject: |WARNING| pw154902 [PATCH] net/mlx5: fix masked indirect age action From: dpdklab@iol.unh.edu To: Test Report Cc: dpdk-test-reports@iol.unh.edu In-Reply-To: <20250701103253.318225-1-dsosnowski@nvidia.com> References: <20250701103253.318225-1-dsosnowski@nvidia.com> Content-Type: text/plain X-BeenThere: test-report@dpdk.org X-Mailman-Version: 2.1.29 Precedence: list List-Id: automatic DPDK test reports List-Unsubscribe: , List-Archive: List-Post: List-Help: List-Subscribe: , Errors-To: test-report-bounces@dpdk.org Test-Label: iol-compile-amd64-testing Test-Status: WARNING http://dpdk.org/patch/154902 _Testing issues_ Submitter: Dariusz Sosnowski Date: Tuesday, July 01 2025 10:32:53 DPDK git baseline: Repo:dpdk Branch: master CommitID:5c0c1a13c34aa57c6e18f9ba852a9b5807c58b72 154902 --> testing issues Upstream job id: Generic-DPDK-Compile-Meson#404232 Test environment and result as below: +-------------------------------+--------------------+-------------------+------------------+-------------------+-------------------------+----------------------+ | Environment | dpdk_meson_compile | dpdk_compile_spdk | dpdk_compile_ovs | dpdk_msvc_compile | dpdk_llvm_clang_compile | dpdk_mingw64_compile | +===============================+====================+===================+==================+===================+=========================+======================+ | CentOS Stream 9 | PASS | PASS | SKIPPED | SKIPPED | SKIPPED | SKIPPED | +-------------------------------+--------------------+-------------------+------------------+-------------------+-------------------------+----------------------+ | CentOS Stream 10 | PASS | SKIPPED | SKIPPED | SKIPPED | SKIPPED | SKIPPED | +-------------------------------+--------------------+-------------------+------------------+-------------------+-------------------------+----------------------+ | Debian GNU/Linux 12 | PASS | PASS | SKIPPED | SKIPPED | SKIPPED | SKIPPED | +-------------------------------+--------------------+-------------------+------------------+-------------------+-------------------------+----------------------+ | Fedora Linux 40 | PASS | PASS | SKIPPED | SKIPPED | SKIPPED | SKIPPED | +-------------------------------+--------------------+-------------------+------------------+-------------------+-------------------------+----------------------+ | Fedora Linux 41 | PASS | PASS | PASS | SKIPPED | SKIPPED | SKIPPED | +-------------------------------+--------------------+-------------------+------------------+-------------------+-------------------------+----------------------+ | openSUSE Leap 15.6 | PASS | SKIPPED | SKIPPED | SKIPPED | SKIPPED | SKIPPED | +-------------------------------+--------------------+-------------------+------------------+-------------------+-------------------------+----------------------+ | Red Hat Enterprise Linux 8.10 | PASS | SKIPPED | SKIPPED | SKIPPED | SKIPPED | SKIPPED | +-------------------------------+--------------------+-------------------+------------------+-------------------+-------------------------+----------------------+ | Ubuntu 20.04 | PASS | SKIPPED | SKIPPED | SKIPPED | SKIPPED | SKIPPED | +-------------------------------+--------------------+-------------------+------------------+-------------------+-------------------------+----------------------+ | Ubuntu 22.04 | PASS | PASS | SKIPPED | SKIPPED | SKIPPED | SKIPPED | +-------------------------------+--------------------+-------------------+------------------+-------------------+-------------------------+----------------------+ | Ubuntu 24.04 | PASS | PASS | PASS | SKIPPED | SKIPPED | SKIPPED | +-------------------------------+--------------------+-------------------+------------------+-------------------+-------------------------+----------------------+ | Alpine Linux 3.22.0 | PASS | SKIPPED | SKIPPED | SKIPPED | SKIPPED | SKIPPED | +-------------------------------+--------------------+-------------------+------------------+-------------------+-------------------------+----------------------+ | FreeBSD 14.2 | PASS | SKIPPED | SKIPPED | SKIPPED | SKIPPED | SKIPPED | +-------------------------------+--------------------+-------------------+------------------+-------------------+-------------------------+----------------------+ | Red Hat Enterprise Linux 9.5 | PASS | SKIPPED | SKIPPED | SKIPPED | SKIPPED | SKIPPED | +-------------------------------+--------------------+-------------------+------------------+-------------------+-------------------------+----------------------+ | Windows Server 2022 | SKIPPED | SKIPPED | SKIPPED | PASS | PASS | PASS | +-------------------------------+--------------------+-------------------+------------------+-------------------+-------------------------+----------------------+ CentOS Stream 9 Kernel: 5.15 Compiler: gcc gcc (GCC) 11.5.0 20240719 (Red Hat 11.5.0-7) CentOS Stream 10 Kernel: 5.15 Compiler: gcc gcc (GCC) 14.2.1 20250110 (Red Hat 14.2.1-8) Debian GNU/Linux 12 Kernel: 5.15 Compiler: gcc gcc (Debian 12.2.0-14+deb12u1) 12.2.0 Fedora Linux 40 Kernel: 5.15 Compiler: clang gcc (GCC) 14.2.1 20240912 (Red Hat 14.2.1-3) Fedora Linux 41 Kernel: 5.15 Compiler: clang gcc (GCC) 14.3.1 20250523 (Red Hat 14.3.1-1) openSUSE Leap 15.6 Kernel: 5.15 Compiler: gcc gcc (SUSE Linux) 7.5.0 Red Hat Enterprise Linux 8.10 Kernel: 5.15 Compiler: gcc gcc (GCC) 8.5.0 20210514 (Red Hat 8.5.0-22) Ubuntu 20.04 Kernel: 5.15 Compiler: gcc gcc (Ubuntu 9.4.0-1ubuntu1~20.04.2) 9.4.0 Ubuntu 22.04 Kernel: 5.15 Compiler: gcc gcc (Ubuntu 11.4.0-1ubuntu1~22.04) 11.4.0 Ubuntu 24.04 Kernel: 5.15 Compiler: gcc gcc (Ubuntu 13.3.0-6ubuntu2~24.04) 13.3.0 Alpine Linux 3.22.0 Kernel: 5.15 Compiler: gcc gcc (Alpine 14.2.0) 14.2.0 FreeBSD 14.2 Kernel: 14.2-RELEASE Compiler: clang 18.1.6 Red Hat Enterprise Linux 9.5 Kernel: 5.15 Compiler: gcc gcc (GCC) 11.5.0 20240719 (Red Hat 11.5.0-2) Windows Server 2022 Kernel: 10.0.20348.2031 Compiler: clang 15.0.7, gcc 14.1.0 (MinGW), and MSVC VS 19.39.33521 To view detailed results, visit: https://lab.dpdk.org/results/dashboard/patchsets/33553/ UNH-IOL DPDK Community Lab To manage your email subscriptions, visit: https://lab.dpdk.org/results/dashboard/preferences/subscriptions/