From mboxrd@z Thu Jan 1 00:00:00 1970 Return-Path: Received: from mails.dpdk.org (mails.dpdk.org [217.70.189.124]) by inbox.dpdk.org (Postfix) with ESMTP id 78E9B46AD9 for ; Wed, 2 Jul 2025 00:03:39 +0200 (CEST) Received: from mails.dpdk.org (localhost [127.0.0.1]) by mails.dpdk.org (Postfix) with ESMTP id 73CF540298; Wed, 2 Jul 2025 00:03:39 +0200 (CEST) Received: from mail-pl1-f227.google.com (mail-pl1-f227.google.com [209.85.214.227]) by mails.dpdk.org (Postfix) with ESMTP id 7DFB940298 for ; Wed, 2 Jul 2025 00:03:38 +0200 (CEST) Received: by mail-pl1-f227.google.com with SMTP id d9443c01a7336-236377f00a1so62801115ad.3 for ; Tue, 01 Jul 2025 15:03:38 -0700 (PDT) DKIM-Signature: v=1; a=rsa-sha256; c=relaxed/relaxed; d=iol.unh.edu; s=unh-iol; t=1751407418; x=1752012218; darn=dpdk.org; h=references:in-reply-to:cc:to:from:subject:message-id:date:from:to :cc:subject:date:message-id:reply-to; bh=HC4vXtpM8+ZXIKwwl90B9GaUKHoafIdLJ6+Q6bGdpyg=; b=DLFv7JVvHFT1elACFWIboFsHRPmtZQvWoxX6HtLkci/bmQvdUg29ePBQEbqd+drbgd kOtsiKSnx2vbccn/A0TEoAf8/CVxD8N8OsCnFaS+vj0C5alYkGx9GbPtGJ9KUTBUKR5L GB7nDRRGNCSGTzNdJTgpSA7I4ViZh7xL3oqEc= X-Google-DKIM-Signature: v=1; a=rsa-sha256; c=relaxed/relaxed; d=1e100.net; s=20230601; t=1751407418; x=1752012218; h=references:in-reply-to:cc:to:from:subject:message-id:date :x-gm-message-state:from:to:cc:subject:date:message-id:reply-to; bh=HC4vXtpM8+ZXIKwwl90B9GaUKHoafIdLJ6+Q6bGdpyg=; b=sr978aJLtnBzkDQm+In080KciZ2+Nf1/9w2lA73VAnnkZlYyZ1QXiMJ+oulQYQTqmT uCsaisD2SWxofi3cj4S3x/RS4c5q9tdNviLmgh3TjxcoWRI39B2u0mWYnFB7b6y7CEaB 0yO3Am8o7vR0qbZZZNwKLovrLE7oMnkCZtDSzaFljB6upd5mZX3HV9qBpJxMjaDmgR+A X02CQn1Qa6uB/6dNznDJG6ugKSQKJRZt7+8KFbrDckpsWvQAi2diw7KSlVeWohFqwqwh bP3yTfyH5F52lwYAuDpsHaz/mL2OvNqVjw3gqm2yAmYbdiJKRlLyvsqda2li/kTDAjp/ YteA== X-Gm-Message-State: AOJu0YzG3+uggkB78patSS50njD9fuQANOaqkFaffkGIzMc7fDOXI64Y jhg19oMMwF/RnlKlX26rbXbNJr9GI5P3Gbi5Xcj8xsVT9shXWS/Bb3E1aXeeF1ZImmuqyJ7Nqj4 39oUTlqM90wTRlFF8DsBD7Be7nnh12IHt3f3w4IhI9bes X-Gm-Gg: ASbGncuKQRakY8yqsg5a7TcvGTOTZKGQsfQ2sS9eyFm5g8R7r/G4bYDGYNpf4l2s55y yeZ9M1Bh5FfTeLxCXEpMO6NgujPIWbDFUa6FTM86LwzDcUjX9OLvG9s3vDFeE62iW0M9QP4Uul8 8Llp5oOjkclZHZ9FNQyg+2/DrbAyEB/jEUFes1T+ykogi/KkU170TzvKSLqghYNwnz7PvS9bTXL 10BVYXqPAgMYydUlaz8BeCUkgms5JfMNLk7jtXTgGz0bpKcPJ7Ag4XMpJ5XDbjajg2aJaprJo1b EGmHwDIIB2B5xUqX3DQFLrXCPsdnFJQPfnQhcZq/VrUlOyRQHTGvxnd23yDLijiVTmi6XA== X-Google-Smtp-Source: AGHT+IGnDUsPws3duo/r9yzuRx7ujEepJrVmP2GTkTKU0RWS4aUpYT+YnJ9BJZp4i3/0ofpdU8zWBjiU5+Ux X-Received: by 2002:a17:903:294d:b0:235:f4f7:a62b with SMTP id d9443c01a7336-23c6e5b6811mr2998885ad.41.1751407417651; Tue, 01 Jul 2025 15:03:37 -0700 (PDT) Received: from postal.iol.unh.edu (postal.iol.unh.edu. [132.177.123.84]) by smtp-relay.gmail.com with ESMTPS id d9443c01a7336-23acb2e1a46sm6128565ad.4.2025.07.01.15.03.37 (version=TLS1_2 cipher=ECDHE-ECDSA-AES128-GCM-SHA256 bits=128/128); Tue, 01 Jul 2025 15:03:37 -0700 (PDT) X-Relaying-Domain: iol.unh.edu Date: Tue, 01 Jul 2025 15:03:37 -0700 (PDT) Message-ID: <68645b39.170a0220.37bc7c.168cSMTPIN_ADDED_MISSING@mx.google.com> Received: from [172.21.0.8] (unknown [172.18.0.240]) by postal.iol.unh.edu (Postfix) with ESMTP id 27AA96051830; Tue, 1 Jul 2025 18:03:37 -0400 (EDT) Subject: |SUCCESS| pw154889-154890 [PATCH] [v2,6/6] net/hns3: VF support mult From: dpdklab@iol.unh.edu To: Test Report Cc: dpdk-test-reports@iol.unh.edu In-Reply-To: <20250701064512.3868175-7-huangdengdui@huawei.com> References: <20250701064512.3868175-7-huangdengdui@huawei.com> Content-Type: text/plain X-BeenThere: test-report@dpdk.org X-Mailman-Version: 2.1.29 Precedence: list List-Id: automatic DPDK test reports List-Unsubscribe: , List-Archive: List-Post: List-Help: List-Subscribe: , Errors-To: test-report-bounces@dpdk.org Test-Label: iol-abi-testing Test-Status: SUCCESS http://dpdk.org/patch/154890 _Testing PASS_ Submitter: Dengdui Huang Date: Tuesday, July 01 2025 06:45:12 DPDK git baseline: Repo:dpdk Branch: master CommitID:77864da82f25a9e1e43c14b2cba68c2049a3ee3e 154889-154890 --> testing pass Upstream job id: Generic-DPDK-Compile-ABI#132583 Test environment and result as below: +-------------------------------+----------+ | Environment | abi_test | +===============================+==========+ | CentOS Stream 9 | PASS | +-------------------------------+----------+ | CentOS Stream 10 | PASS | +-------------------------------+----------+ | Fedora Linux 40 | PASS | +-------------------------------+----------+ | Debian GNU/Linux 12 | PASS | +-------------------------------+----------+ | Fedora Linux 41 | PASS | +-------------------------------+----------+ | openSUSE Leap 15.6 | PASS | +-------------------------------+----------+ | Red Hat Enterprise Linux 8.10 | PASS | +-------------------------------+----------+ | Red Hat Enterprise Linux 9.5 | PASS | +-------------------------------+----------+ | Ubuntu 22.04 | PASS | +-------------------------------+----------+ | Ubuntu 24.04 | PASS | +-------------------------------+----------+ CentOS Stream 9 Kernel: 5.15 Compiler: gcc gcc (GCC) 11.5.0 20240719 (Red Hat 11.5.0-7) CentOS Stream 10 Kernel: 5.15 Compiler: gcc gcc (GCC) 14.2.1 20250110 (Red Hat 14.2.1-8) Fedora Linux 40 Kernel: 5.15 Compiler: clang gcc (GCC) 14.2.1 20240912 (Red Hat 14.2.1-3) Debian GNU/Linux 12 Kernel: 5.15 Compiler: gcc gcc (Debian 12.2.0-14+deb12u1) 12.2.0 Fedora Linux 41 Kernel: 5.15 Compiler: clang gcc (GCC) 14.3.1 20250523 (Red Hat 14.3.1-1) openSUSE Leap 15.6 Kernel: 5.15 Compiler: gcc gcc (SUSE Linux) 7.5.0 Red Hat Enterprise Linux 8.10 Kernel: 5.15 Compiler: gcc gcc (GCC) 8.5.0 20210514 (Red Hat 8.5.0-22) Red Hat Enterprise Linux 9.5 Kernel: 5.15 Compiler: gcc gcc (GCC) 11.5.0 20240719 (Red Hat 11.5.0-2) Ubuntu 22.04 Kernel: 5.15 Compiler: gcc gcc (Ubuntu 11.4.0-1ubuntu1~22.04) 11.4.0 Ubuntu 24.04 Kernel: 5.15 Compiler: gcc gcc (Ubuntu 13.3.0-6ubuntu2~24.04) 13.3.0 To view detailed results, visit: https://lab.dpdk.org/results/dashboard/patchsets/33550/ UNH-IOL DPDK Community Lab To manage your email subscriptions, visit: https://lab.dpdk.org/results/dashboard/preferences/subscriptions/