From mboxrd@z Thu Jan 1 00:00:00 1970 Return-Path: Received: from mails.dpdk.org (mails.dpdk.org [217.70.189.124]) by inbox.dpdk.org (Postfix) with ESMTP id 9A37346AD9 for ; Wed, 2 Jul 2025 00:04:55 +0200 (CEST) Received: from mails.dpdk.org (localhost [127.0.0.1]) by mails.dpdk.org (Postfix) with ESMTP id 934DA40298; Wed, 2 Jul 2025 00:04:55 +0200 (CEST) Received: from mail-qv1-f97.google.com (mail-qv1-f97.google.com [209.85.219.97]) by mails.dpdk.org (Postfix) with ESMTP id 2C5F240298 for ; Wed, 2 Jul 2025 00:04:54 +0200 (CEST) Received: by mail-qv1-f97.google.com with SMTP id 6a1803df08f44-70109af5f70so17782386d6.0 for ; Tue, 01 Jul 2025 15:04:54 -0700 (PDT) DKIM-Signature: v=1; a=rsa-sha256; c=relaxed/relaxed; d=iol.unh.edu; s=unh-iol; t=1751407493; x=1752012293; darn=dpdk.org; h=references:in-reply-to:cc:to:from:subject:message-id:date:from:to :cc:subject:date:message-id:reply-to; bh=ZD4ivWof2TS7xsdhvDCrbzBt4uYT7KatcNfQGowlIEw=; b=JU/sJjIscEM0hvmx364N2Qk2ZHE/DrM8kqD0TQ/4tw2hCAdCi6GnGa/sREzp0QQqz6 6nhtbu/Gkdv6aS+TbrfksEabTKTCTypvL7T46AX4GikMd7KMmkjZ/A16J0dj41jJoFOh G/C8yV59ZQsrodlD43eUaZPwQO6W7Jf8vY51w= X-Google-DKIM-Signature: v=1; a=rsa-sha256; c=relaxed/relaxed; d=1e100.net; s=20230601; t=1751407493; x=1752012293; h=references:in-reply-to:cc:to:from:subject:message-id:date :x-gm-message-state:from:to:cc:subject:date:message-id:reply-to; bh=ZD4ivWof2TS7xsdhvDCrbzBt4uYT7KatcNfQGowlIEw=; b=nRq/QraYwyqQvBefUjP0DvKSTzc440h+C53Bbp5cB4BlRa6Ih4Tt+nUDDKcGt5m2Wy 0cx5MZ07SqaV3tIRB8HescwqmhDDb/jfZDnoMid6xxsEclmiC1ijk6GZ6JYcXezPsCdp 8gMZdBO8VeiRroUZASZ/NSxOB/U6RliHtiUce0vzeQ3LN9cG797C4WDAeKsRVvsC3FxN 0TG5gBj0T/FeGlWcheUXk3qZEclUVcXxzU7KIMOoS3Rfsji1bivJhxUpH+zjEppVgCd4 R3aPAB8SjWDpsiFPXRnu4xUtn8cyTzekPB7E/BFIcgs0gG761J4bd7AhXkwq6rzWb9zp mYMQ== X-Gm-Message-State: AOJu0YzOwzeww2pjh/8avi1fBf5Yz3p1AVXFDNE/cIK5cuWmwZdWtapd p2L4ekTZpDteCMd6BpBtgdC34XnGYa1fhMLZLs4mPmEv5TApzvfHvphkM1P65Zjhd7oOIHT0zuc N2TGvFZLIv6O25qhdQKU8BS27cjiiUMGpn5UfZVjeblLr X-Gm-Gg: ASbGncu2jWt9P3J10zPaY29w8wKGOa7oDoF/dEGKBhAMUuoRT+wZa/kXRElx9LFnKHp BYNFvCRwjbqfxVgLTiNytNz62plZRvsgZDazDK3uR2YOdmpAeRrsXakIwe/M0FeUN3u4HVDxY/F OKNPzpcTCWlJVCQgJ5Zane3bOXRv0QgUYFNSKAZ8KJ8mDzSGEqlSRd7JDYlibfrYzYnDYr389aq FaaiEMgjBBsaDoAFohkDeiIhxv/FAOgZjN4FVdjKwn2ttjOoQkgeTMhNwzanAj4fd/jP0X86Zpx VJZmi0+soy3c/LLCZmGlZJAX2FPF8yYM9vgo3UI7MVUMU9FMtsGO6tARGc7RvRTlcwX40Q== X-Google-Smtp-Source: AGHT+IGXSgWvxZ8AlIxCHxndhaj4KrbW9OW+Jy8hmKSmQltieFQZGgpeAwa9Eo4KA0i2ZP5znxVGrMh+/DML X-Received: by 2002:a05:6214:21a5:b0:6fa:c81a:6202 with SMTP id 6a1803df08f44-702b1b6cf75mr3448776d6.29.1751407493511; Tue, 01 Jul 2025 15:04:53 -0700 (PDT) Received: from postal.iol.unh.edu (postal.iol.unh.edu. [132.177.123.84]) by smtp-relay.gmail.com with ESMTPS id 6a1803df08f44-6fd77292668sm6635106d6.47.2025.07.01.15.04.53 (version=TLS1_2 cipher=ECDHE-ECDSA-AES128-GCM-SHA256 bits=128/128); Tue, 01 Jul 2025 15:04:53 -0700 (PDT) X-Relaying-Domain: iol.unh.edu Date: Tue, 01 Jul 2025 15:04:53 -0700 (PDT) Message-ID: <68645b85.050a0220.3a04fd.2dcfSMTPIN_ADDED_MISSING@mx.google.com> Received: from [172.21.0.6] (unknown [172.18.0.240]) by postal.iol.unh.edu (Postfix) with ESMTP id 36EC16051830; Tue, 1 Jul 2025 18:04:53 -0400 (EDT) Subject: |WARNING| pw154902 [PATCH] net/mlx5: fix masked indirect age action From: dpdklab@iol.unh.edu To: Test Report Cc: dpdk-test-reports@iol.unh.edu In-Reply-To: <20250701103253.318225-1-dsosnowski@nvidia.com> References: <20250701103253.318225-1-dsosnowski@nvidia.com> Content-Type: text/plain X-BeenThere: test-report@dpdk.org X-Mailman-Version: 2.1.29 Precedence: list List-Id: automatic DPDK test reports List-Unsubscribe: , List-Archive: List-Post: List-Help: List-Subscribe: , Errors-To: test-report-bounces@dpdk.org Test-Label: iol-compile-amd64-testing Test-Status: WARNING http://dpdk.org/patch/154902 _Testing issues_ Submitter: Dariusz Sosnowski Date: Tuesday, July 01 2025 10:32:53 DPDK git baseline: Repo:dpdk Branch: master CommitID:5c0c1a13c34aa57c6e18f9ba852a9b5807c58b72 154902 --> testing issues Upstream job id: Generic-DPDK-Compile-Meson#404231 Test environment and result as below: +-------------------------------+--------------------+-------------------+------------------+-------------------+-------------------------+----------------------+ | Environment | dpdk_meson_compile | dpdk_compile_spdk | dpdk_compile_ovs | dpdk_msvc_compile | dpdk_llvm_clang_compile | dpdk_mingw64_compile | +===============================+====================+===================+==================+===================+=========================+======================+ | CentOS Stream 9 | PASS | PASS | SKIPPED | SKIPPED | SKIPPED | SKIPPED | +-------------------------------+--------------------+-------------------+------------------+-------------------+-------------------------+----------------------+ | CentOS Stream 10 | PASS | SKIPPED | SKIPPED | SKIPPED | SKIPPED | SKIPPED | +-------------------------------+--------------------+-------------------+------------------+-------------------+-------------------------+----------------------+ | Debian GNU/Linux 12 | PASS | PASS | SKIPPED | SKIPPED | SKIPPED | SKIPPED | +-------------------------------+--------------------+-------------------+------------------+-------------------+-------------------------+----------------------+ | Fedora Linux 40 | PASS | PASS | SKIPPED | SKIPPED | SKIPPED | SKIPPED | +-------------------------------+--------------------+-------------------+------------------+-------------------+-------------------------+----------------------+ | Fedora Linux 41 | PASS | PASS | PASS | SKIPPED | SKIPPED | SKIPPED | +-------------------------------+--------------------+-------------------+------------------+-------------------+-------------------------+----------------------+ | openSUSE Leap 15.6 | PASS | SKIPPED | SKIPPED | SKIPPED | SKIPPED | SKIPPED | +-------------------------------+--------------------+-------------------+------------------+-------------------+-------------------------+----------------------+ | Red Hat Enterprise Linux 8.10 | PASS | SKIPPED | SKIPPED | SKIPPED | SKIPPED | SKIPPED | +-------------------------------+--------------------+-------------------+------------------+-------------------+-------------------------+----------------------+ | Ubuntu 20.04 | PASS | SKIPPED | SKIPPED | SKIPPED | SKIPPED | SKIPPED | +-------------------------------+--------------------+-------------------+------------------+-------------------+-------------------------+----------------------+ | Ubuntu 22.04 | PASS | PASS | SKIPPED | SKIPPED | SKIPPED | SKIPPED | +-------------------------------+--------------------+-------------------+------------------+-------------------+-------------------------+----------------------+ | Ubuntu 24.04 | PASS | PASS | PASS | SKIPPED | SKIPPED | SKIPPED | +-------------------------------+--------------------+-------------------+------------------+-------------------+-------------------------+----------------------+ | Alpine Linux 3.22.0 | PASS | SKIPPED | SKIPPED | SKIPPED | SKIPPED | SKIPPED | +-------------------------------+--------------------+-------------------+------------------+-------------------+-------------------------+----------------------+ | FreeBSD 14.2 | PASS | SKIPPED | SKIPPED | SKIPPED | SKIPPED | SKIPPED | +-------------------------------+--------------------+-------------------+------------------+-------------------+-------------------------+----------------------+ | Red Hat Enterprise Linux 9.5 | PASS | SKIPPED | SKIPPED | SKIPPED | SKIPPED | SKIPPED | +-------------------------------+--------------------+-------------------+------------------+-------------------+-------------------------+----------------------+ | Windows Server 2022 | SKIPPED | SKIPPED | SKIPPED | PASS | PASS | PASS | +-------------------------------+--------------------+-------------------+------------------+-------------------+-------------------------+----------------------+ CentOS Stream 9 Kernel: 5.15 Compiler: gcc gcc (GCC) 11.5.0 20240719 (Red Hat 11.5.0-7) CentOS Stream 10 Kernel: 5.15 Compiler: gcc gcc (GCC) 14.2.1 20250110 (Red Hat 14.2.1-8) Debian GNU/Linux 12 Kernel: 5.15 Compiler: gcc gcc (Debian 12.2.0-14+deb12u1) 12.2.0 Fedora Linux 40 Kernel: 5.15 Compiler: clang gcc (GCC) 14.2.1 20240912 (Red Hat 14.2.1-3) Fedora Linux 41 Kernel: 5.15 Compiler: clang gcc (GCC) 14.3.1 20250523 (Red Hat 14.3.1-1) openSUSE Leap 15.6 Kernel: 5.15 Compiler: gcc gcc (SUSE Linux) 7.5.0 Red Hat Enterprise Linux 8.10 Kernel: 5.15 Compiler: gcc gcc (GCC) 8.5.0 20210514 (Red Hat 8.5.0-22) Ubuntu 20.04 Kernel: 5.15 Compiler: gcc gcc (Ubuntu 9.4.0-1ubuntu1~20.04.2) 9.4.0 Ubuntu 22.04 Kernel: 5.15 Compiler: gcc gcc (Ubuntu 11.4.0-1ubuntu1~22.04) 11.4.0 Ubuntu 24.04 Kernel: 5.15 Compiler: gcc gcc (Ubuntu 13.3.0-6ubuntu2~24.04) 13.3.0 Alpine Linux 3.22.0 Kernel: 5.15 Compiler: gcc gcc (Alpine 14.2.0) 14.2.0 FreeBSD 14.2 Kernel: 14.2-RELEASE Compiler: clang 18.1.6 Red Hat Enterprise Linux 9.5 Kernel: 5.15 Compiler: gcc gcc (GCC) 11.5.0 20240719 (Red Hat 11.5.0-2) Windows Server 2022 Kernel: 10.0.20348.2031 Compiler: clang 15.0.7, gcc 14.1.0 (MinGW), and MSVC VS 19.39.33521 To view detailed results, visit: https://lab.dpdk.org/results/dashboard/patchsets/33553/ UNH-IOL DPDK Community Lab To manage your email subscriptions, visit: https://lab.dpdk.org/results/dashboard/preferences/subscriptions/