From mboxrd@z Thu Jan 1 00:00:00 1970 Return-Path: Received: from mails.dpdk.org (mails.dpdk.org [217.70.189.124]) by inbox.dpdk.org (Postfix) with ESMTP id B02AF46AD9 for ; Wed, 2 Jul 2025 00:05:04 +0200 (CEST) Received: from mails.dpdk.org (localhost [127.0.0.1]) by mails.dpdk.org (Postfix) with ESMTP id ABA4940298; Wed, 2 Jul 2025 00:05:04 +0200 (CEST) Received: from mail-qt1-f226.google.com (mail-qt1-f226.google.com [209.85.160.226]) by mails.dpdk.org (Postfix) with ESMTP id 74EFC40298 for ; Wed, 2 Jul 2025 00:05:03 +0200 (CEST) Received: by mail-qt1-f226.google.com with SMTP id d75a77b69052e-4a58ba6c945so56933951cf.2 for ; Tue, 01 Jul 2025 15:05:03 -0700 (PDT) DKIM-Signature: v=1; a=rsa-sha256; c=relaxed/relaxed; d=iol.unh.edu; s=unh-iol; t=1751407503; x=1752012303; darn=dpdk.org; h=references:in-reply-to:cc:to:from:subject:message-id:date:from:to :cc:subject:date:message-id:reply-to; bh=KCoxkg78HQis8jFAAFY6XAXsk3+YZROTSdFtZrjBtnY=; b=HpHJJizgo4rBTRzqhNekQxkwOxhqdZ3roBlZDl+JJrS85GFX21qN5tXykxqOjUhZhU L/o/RZLBCb4s82bdg832BRUZCN448Np9LK6ArY153ucxlamJlNQLROA8JPEn5AZB+1GF sYJGlev1BRCzkTlsaTGGiUY1XQcoBzVrvYPxY= X-Google-DKIM-Signature: v=1; a=rsa-sha256; c=relaxed/relaxed; d=1e100.net; s=20230601; t=1751407503; x=1752012303; h=references:in-reply-to:cc:to:from:subject:message-id:date :x-gm-message-state:from:to:cc:subject:date:message-id:reply-to; bh=KCoxkg78HQis8jFAAFY6XAXsk3+YZROTSdFtZrjBtnY=; b=huO/agsvGIfQ4Hv4d3XSi9MJxx2m58bKry2wcSx5ME/8yiM67QfuAhvlrKzosTgfo7 tFCDauNV2WSNHK9kOG/M1GOIOX9KjqdkAp3w1y6EcZjZ58QUfrgeTct6Ryhxhv9rWkB9 lMCOYJ0lVe3MkIKixdx3eEP66V7KNr7J22iEw8i/ycUnP5C8RW3dz632uNbuZYMB+V3S 1znZHRycrXJtfgg2V7MYlhdhDzmurls7jO8j1qcBeurPmBvP6wFoEcrU7YGSnEugxKIC PhA0Z5sGSfuYhimjEE8GTTPnFlHRbsMX3dBjzy+N0Q8V/OiHzI8WjeKz8RbsLxSNT9Mk HXRQ== X-Gm-Message-State: AOJu0YykTTuFlaQpmbTKGDQgMrsdoW/Q3xwCZfwnpt+U5uBQllyRmO5S +/IlphjPg191UEEuQhCtG/re41A+n8aGggfmye0lw89IGEYWh1BuJg4spXGcLlqpBUyzisUPM84 6t0O4t422hpa0etnrlbYALZ0uqMCQ/2DJvo4ozmUaC78o X-Gm-Gg: ASbGnct1nc3xdUjqOA84hpf+HuRZu83PaYtFwWtTaHLQ5sFvCtCpBot8wyXxmaXH0Y6 BHacNiAo5qm7iZ7Zxcft7TgaQ9Cy9oDKAFUozmFqcmz+UyPcIEdtj5PrTGR1MqQ7rcLSxy1TpkJ zRV7xbNzIDnutaxH1fmLg8r7/z3094r6gcYTuGyP2tvjTO00SzFI440N2v62gmUUBppMr6sXVQw dPytO185/YvUoiZwo2lHnxUvOnbZhk3FvtZp0zNPjy0WBR8GJDmJFqCP9Fkcv2b0TOSYdNmFUa5 IDot6n6fx4/zFqoUbiEtX8B3fUVAcVgGg4gw7nllV84O4WisNFbFu9leCQfHFUgbzLKrtQ== X-Google-Smtp-Source: AGHT+IHXu3WMlz21Of/8FOYgRVDnpF6hGVQu/VlFjOcVOhfBtA5i67xFiLF2DjyvyP94xHLqy/Zfxr02jLnU X-Received: by 2002:ac8:59c5:0:b0:4a7:146b:d762 with SMTP id d75a77b69052e-4a9769237a7mr14958541cf.13.1751407502693; Tue, 01 Jul 2025 15:05:02 -0700 (PDT) Received: from postal.iol.unh.edu (postal.iol.unh.edu. [132.177.123.84]) by smtp-relay.gmail.com with ESMTPS id d75a77b69052e-4a7fc1e1d76sm3738971cf.16.2025.07.01.15.05.02 (version=TLS1_2 cipher=ECDHE-ECDSA-AES128-GCM-SHA256 bits=128/128); Tue, 01 Jul 2025 15:05:02 -0700 (PDT) X-Relaying-Domain: iol.unh.edu Date: Tue, 01 Jul 2025 15:05:02 -0700 (PDT) Message-ID: <68645b8e.050a0220.1b5ed7.3b10SMTPIN_ADDED_MISSING@mx.google.com> Received: from [172.21.0.5] (unknown [172.18.0.240]) by postal.iol.unh.edu (Postfix) with ESMTP id 659786051830; Tue, 1 Jul 2025 18:05:02 -0400 (EDT) Subject: |WARNING| pw154902 [PATCH] net/mlx5: fix masked indirect age action From: dpdklab@iol.unh.edu To: Test Report Cc: dpdk-test-reports@iol.unh.edu In-Reply-To: <20250701103253.318225-1-dsosnowski@nvidia.com> References: <20250701103253.318225-1-dsosnowski@nvidia.com> Content-Type: text/plain X-BeenThere: test-report@dpdk.org X-Mailman-Version: 2.1.29 Precedence: list List-Id: automatic DPDK test reports List-Unsubscribe: , List-Archive: List-Post: List-Help: List-Subscribe: , Errors-To: test-report-bounces@dpdk.org Test-Label: iol-compile-amd64-testing Test-Status: WARNING http://dpdk.org/patch/154902 _Testing issues_ Submitter: Dariusz Sosnowski Date: Tuesday, July 01 2025 10:32:53 DPDK git baseline: Repo:dpdk Branch: master CommitID:5c0c1a13c34aa57c6e18f9ba852a9b5807c58b72 154902 --> testing issues Upstream job id: Generic-DPDK-Compile-Meson#404233 Test environment and result as below: +-------------------------------+--------------------+-------------------+------------------+-------------------+-------------------------+----------------------+ | Environment | dpdk_meson_compile | dpdk_compile_spdk | dpdk_compile_ovs | dpdk_msvc_compile | dpdk_llvm_clang_compile | dpdk_mingw64_compile | +===============================+====================+===================+==================+===================+=========================+======================+ | CentOS Stream 9 | PASS | PASS | SKIPPED | SKIPPED | SKIPPED | SKIPPED | +-------------------------------+--------------------+-------------------+------------------+-------------------+-------------------------+----------------------+ | CentOS Stream 10 | PASS | SKIPPED | SKIPPED | SKIPPED | SKIPPED | SKIPPED | +-------------------------------+--------------------+-------------------+------------------+-------------------+-------------------------+----------------------+ | Debian GNU/Linux 12 | PASS | PASS | SKIPPED | SKIPPED | SKIPPED | SKIPPED | +-------------------------------+--------------------+-------------------+------------------+-------------------+-------------------------+----------------------+ | Fedora Linux 40 | PASS | PASS | SKIPPED | SKIPPED | SKIPPED | SKIPPED | +-------------------------------+--------------------+-------------------+------------------+-------------------+-------------------------+----------------------+ | Fedora Linux 41 | PASS | PASS | PASS | SKIPPED | SKIPPED | SKIPPED | +-------------------------------+--------------------+-------------------+------------------+-------------------+-------------------------+----------------------+ | openSUSE Leap 15.6 | PASS | SKIPPED | SKIPPED | SKIPPED | SKIPPED | SKIPPED | +-------------------------------+--------------------+-------------------+------------------+-------------------+-------------------------+----------------------+ | Red Hat Enterprise Linux 8.10 | PASS | SKIPPED | SKIPPED | SKIPPED | SKIPPED | SKIPPED | +-------------------------------+--------------------+-------------------+------------------+-------------------+-------------------------+----------------------+ | Ubuntu 20.04 | PASS | SKIPPED | SKIPPED | SKIPPED | SKIPPED | SKIPPED | +-------------------------------+--------------------+-------------------+------------------+-------------------+-------------------------+----------------------+ | Ubuntu 22.04 | PASS | PASS | SKIPPED | SKIPPED | SKIPPED | SKIPPED | +-------------------------------+--------------------+-------------------+------------------+-------------------+-------------------------+----------------------+ | Ubuntu 24.04 | PASS | PASS | PASS | SKIPPED | SKIPPED | SKIPPED | +-------------------------------+--------------------+-------------------+------------------+-------------------+-------------------------+----------------------+ | Alpine Linux 3.22.0 | PASS | SKIPPED | SKIPPED | SKIPPED | SKIPPED | SKIPPED | +-------------------------------+--------------------+-------------------+------------------+-------------------+-------------------------+----------------------+ | FreeBSD 14.2 | PASS | SKIPPED | SKIPPED | SKIPPED | SKIPPED | SKIPPED | +-------------------------------+--------------------+-------------------+------------------+-------------------+-------------------------+----------------------+ | Red Hat Enterprise Linux 9.5 | PASS | SKIPPED | SKIPPED | SKIPPED | SKIPPED | SKIPPED | +-------------------------------+--------------------+-------------------+------------------+-------------------+-------------------------+----------------------+ | Windows Server 2022 | SKIPPED | SKIPPED | SKIPPED | PASS | PASS | PASS | +-------------------------------+--------------------+-------------------+------------------+-------------------+-------------------------+----------------------+ CentOS Stream 9 Kernel: 5.15 Compiler: gcc gcc (GCC) 11.5.0 20240719 (Red Hat 11.5.0-7) CentOS Stream 10 Kernel: 5.15 Compiler: gcc gcc (GCC) 14.2.1 20250110 (Red Hat 14.2.1-8) Debian GNU/Linux 12 Kernel: 5.15 Compiler: gcc gcc (Debian 12.2.0-14+deb12u1) 12.2.0 Fedora Linux 40 Kernel: 5.15 Compiler: clang gcc (GCC) 14.2.1 20240912 (Red Hat 14.2.1-3) Fedora Linux 41 Kernel: 5.15 Compiler: clang gcc (GCC) 14.3.1 20250523 (Red Hat 14.3.1-1) openSUSE Leap 15.6 Kernel: 5.15 Compiler: gcc gcc (SUSE Linux) 7.5.0 Red Hat Enterprise Linux 8.10 Kernel: 5.15 Compiler: gcc gcc (GCC) 8.5.0 20210514 (Red Hat 8.5.0-22) Ubuntu 20.04 Kernel: 5.15 Compiler: gcc gcc (Ubuntu 9.4.0-1ubuntu1~20.04.2) 9.4.0 Ubuntu 22.04 Kernel: 5.15 Compiler: gcc gcc (Ubuntu 11.4.0-1ubuntu1~22.04) 11.4.0 Ubuntu 24.04 Kernel: 5.15 Compiler: gcc gcc (Ubuntu 13.3.0-6ubuntu2~24.04) 13.3.0 Alpine Linux 3.22.0 Kernel: 5.15 Compiler: gcc gcc (Alpine 14.2.0) 14.2.0 FreeBSD 14.2 Kernel: 14.2-RELEASE Compiler: clang 18.1.6 Red Hat Enterprise Linux 9.5 Kernel: 5.15 Compiler: gcc gcc (GCC) 11.5.0 20240719 (Red Hat 11.5.0-2) Windows Server 2022 Kernel: 10.0.20348.2031 Compiler: clang 15.0.7, gcc 14.1.0 (MinGW), and MSVC VS 19.39.33521 To view detailed results, visit: https://lab.dpdk.org/results/dashboard/patchsets/33553/ UNH-IOL DPDK Community Lab To manage your email subscriptions, visit: https://lab.dpdk.org/results/dashboard/preferences/subscriptions/