From mboxrd@z Thu Jan 1 00:00:00 1970 Return-Path: Received: from mails.dpdk.org (mails.dpdk.org [217.70.189.124]) by inbox.dpdk.org (Postfix) with ESMTP id 37DD946AD9 for ; Wed, 2 Jul 2025 00:09:12 +0200 (CEST) Received: from mails.dpdk.org (localhost [127.0.0.1]) by mails.dpdk.org (Postfix) with ESMTP id 1EE8440298; Wed, 2 Jul 2025 00:09:12 +0200 (CEST) Received: from mail-io1-f97.google.com (mail-io1-f97.google.com [209.85.166.97]) by mails.dpdk.org (Postfix) with ESMTP id 3C57340298 for ; Wed, 2 Jul 2025 00:09:11 +0200 (CEST) Received: by mail-io1-f97.google.com with SMTP id ca18e2360f4ac-86d00ae076dso239646439f.0 for ; Tue, 01 Jul 2025 15:09:11 -0700 (PDT) DKIM-Signature: v=1; a=rsa-sha256; c=relaxed/relaxed; d=iol.unh.edu; s=unh-iol; t=1751407750; x=1752012550; darn=dpdk.org; h=references:in-reply-to:cc:to:from:subject:message-id:date:from:to :cc:subject:date:message-id:reply-to; bh=278/dIYiglUoU5Mm4nSoW1JfI8LyhKXzLDpxEmMdqis=; b=DNCFmYPvuUv9JAJRrGxvme5lrKAaU49NqKpxRjfYEVGUs3gw9Vg3wBUW8uhUROVrl4 08c0KAH5KvOAtHds1iuamC7x5EQ2/IUHqjm8QMHXn+XKU0lmmSlv2pQ7hm2Iwc+n/Kwl tYg0hWX36XTpoSaKLp03+Sg8zxYMgTqjW6dF4= X-Google-DKIM-Signature: v=1; a=rsa-sha256; c=relaxed/relaxed; d=1e100.net; s=20230601; t=1751407750; x=1752012550; h=references:in-reply-to:cc:to:from:subject:message-id:date :x-gm-message-state:from:to:cc:subject:date:message-id:reply-to; bh=278/dIYiglUoU5Mm4nSoW1JfI8LyhKXzLDpxEmMdqis=; b=OAAbl7juBkO+bsbjvB2id0slUMQQWxqqj52GME+5IsJV0EFBvwxI/w2WpxvP2FMwXv WPaf7IEplH1rWTmkEeGXBeU1de7PI0xmSn8eoj1KFjODNOIEacJ4hIunhill77TSLhFZ LKLThC8vyBeBaemB54P7NR6QNYkY5KbX5ETQ4JXT/fAtmPtHhxKGdYrzsqVxRkvIxAm3 7pWgjQwQ+/JGqpuLuE9q/bVG8tAOxeCLnni9Qt+cRopCbeiFh4oPaiO5/BHv4z+/FRFf IvEHGhjXV10b07VNWXhcwprIY3hfGGlpexkUJP0AZ+waPJ7yNsabzhXzY778U4aTcYRN bjdQ== X-Gm-Message-State: AOJu0YzwMSqBmGMCTfBpT8osVMJUqFvioO5+PdT1YrMb/lqtmhQ9wdCC eE6TJm3U2OeV4SG9wvx4h8DzY5jgS6PG7GQj9xNjldwxdwdJBlDYUR/006NKD4Q9pSPc/gs3Bok 3CkR6KKlvuTITYC+XfJYmH28SmPBNfWY6DjSZ4yP8Hqmp X-Gm-Gg: ASbGncuE/ocJUWWaWhr4lTXVNWf3MtY9vcIo0ql79gcfKesNkOJnXAwu0J3t5H0z3NX s3zuX9+r/Wwi0bOc3SeJznwr4C+E0hvayo9YyAI2m7HQbOKVXA0v4xwlZ2rrCdIM0ATxobUUw6t rjU5jebKFizPjVRhRzUVk9waTnEhq0BXla2Or310HC/Cicv2mRnWW/dsIj6zkTozAhpXfrpjiLp Ccg+49XMrlOpg9WM72vcnTHJsjSq1/RB5z7wwAsAE9Go6m9EYNzkUeBR+7X904EqS2z56lS6fIh xUIpmvrMGuMm5A6tEPtKPOqSQ8QBzW/QCQOyoSKAAc+Lt10o9kxDpNHE65f8gRJxusxHCQ== X-Google-Smtp-Source: AGHT+IGxDm4kE0ghHWtR/y3GP4YXq7l4cPDvOQpH3tHRxGOvj6WczO7XUfRqTSeVrrBajUBDSNgrBeQuX28U X-Received: by 2002:a05:6e02:d:b0:3dd:bb7e:ca89 with SMTP id e9e14a558f8ab-3e0552d5508mr3323115ab.10.1751407750445; Tue, 01 Jul 2025 15:09:10 -0700 (PDT) Received: from postal.iol.unh.edu (postal.iol.unh.edu. [132.177.123.84]) by smtp-relay.gmail.com with ESMTPS id e9e14a558f8ab-3df4a026108sm6601415ab.22.2025.07.01.15.09.10 (version=TLS1_2 cipher=ECDHE-ECDSA-AES128-GCM-SHA256 bits=128/128); Tue, 01 Jul 2025 15:09:10 -0700 (PDT) X-Relaying-Domain: iol.unh.edu Date: Tue, 01 Jul 2025 15:09:10 -0700 (PDT) Message-ID: <68645c86.050a0220.2dd1f.3bceSMTPIN_ADDED_MISSING@mx.google.com> Received: from [172.21.0.8] (unknown [172.18.0.240]) by postal.iol.unh.edu (Postfix) with ESMTP id E2A276051830; Tue, 1 Jul 2025 18:09:09 -0400 (EDT) Subject: |SUCCESS| pw154913 [PATCH] test/event: disable vector adapter test From: dpdklab@iol.unh.edu To: Test Report Cc: dpdk-test-reports@iol.unh.edu In-Reply-To: <20250701131524.2493132-1-thomas@monjalon.net> References: <20250701131524.2493132-1-thomas@monjalon.net> Content-Type: text/plain X-BeenThere: test-report@dpdk.org X-Mailman-Version: 2.1.29 Precedence: list List-Id: automatic DPDK test reports List-Unsubscribe: , List-Archive: List-Post: List-Help: List-Subscribe: , Errors-To: test-report-bounces@dpdk.org Test-Label: iol-unit-arm64-testing Test-Status: SUCCESS http://dpdk.org/patch/154913 _Testing PASS_ Submitter: Thomas Monjalon Date: Tuesday, July 01 2025 13:15:24 DPDK git baseline: Repo:dpdk Branch: master CommitID:20460dcffd08a4680f881c39916ae783ee830374 154913 --> testing pass Upstream job id: Generic-Unit-Test-DPDK#351596 Test environment and result as below: +------------------------------+------------------------------+----------------+--------------+---------------------------+ | Environment | cryptodev_sw_snow3g_autotest | dpdk_unit_test | lpm_autotest | cryptodev_sw_zuc_autotest | +==============================+==============================+================+==============+===========================+ | Debian 12 (arm) | PASS | SKIPPED | SKIPPED | PASS | +------------------------------+------------------------------+----------------+--------------+---------------------------+ | CentOS Stream 9 | SKIPPED | PASS | SKIPPED | SKIPPED | +------------------------------+------------------------------+----------------+--------------+---------------------------+ | Debian GNU/Linux 12 | SKIPPED | PASS | SKIPPED | SKIPPED | +------------------------------+------------------------------+----------------+--------------+---------------------------+ | CentOS Stream 10 | SKIPPED | PASS | SKIPPED | SKIPPED | +------------------------------+------------------------------+----------------+--------------+---------------------------+ | Fedora Linux 41 | SKIPPED | PASS | SKIPPED | SKIPPED | +------------------------------+------------------------------+----------------+--------------+---------------------------+ | Fedora Linux 40 | SKIPPED | PASS | SKIPPED | SKIPPED | +------------------------------+------------------------------+----------------+--------------+---------------------------+ | Red Hat Enterprise Linux 9.5 | SKIPPED | PASS | SKIPPED | SKIPPED | +------------------------------+------------------------------+----------------+--------------+---------------------------+ | Ubuntu 22.04 | SKIPPED | PASS | SKIPPED | SKIPPED | +------------------------------+------------------------------+----------------+--------------+---------------------------+ | Ubuntu 20.04 | SKIPPED | PASS | PASS | SKIPPED | +------------------------------+------------------------------+----------------+--------------+---------------------------+ | Ubuntu 24.04 | SKIPPED | PASS | SKIPPED | SKIPPED | +------------------------------+------------------------------+----------------+--------------+---------------------------+ Debian 12 (arm) Kernel: Depends on container host Compiler: gcc (Debian 12.2.0-14) 12.2.0 CentOS Stream 9 Kernel: 5.4 Compiler: gcc gcc (GCC) 11.5.0 20240719 (Red Hat 11.5.0-7) Debian GNU/Linux 12 Kernel: 5.4 Compiler: gcc gcc (Debian 12.2.0-14+deb12u1) 12.2.0 CentOS Stream 10 Kernel: 5.4 Compiler: gcc gcc (GCC) 14.2.1 20250110 (Red Hat 14.2.1-8) Fedora Linux 41 Kernel: 5.4 Compiler: gcc gcc (GCC) 14.3.1 20250523 (Red Hat 14.3.1-1) Fedora Linux 40 Kernel: 5.4 Compiler: clang gcc (GCC) 14.2.1 20240912 (Red Hat 14.2.1-3) Red Hat Enterprise Linux 9.5 Kernel: 5.4 Compiler: gcc gcc (GCC) 11.5.0 20240719 (Red Hat 11.5.0-2) Ubuntu 22.04 Kernel: 5.4 Compiler: gcc gcc (Ubuntu 11.4.0-1ubuntu1~22.04) 11.4.0 Ubuntu 20.04 Kernel: 5.4 Compiler: gcc gcc (Ubuntu 9.4.0-1ubuntu1~20.04.2) 9.4.0 Ubuntu 24.04 Kernel: 5.4 Compiler: gcc gcc (Ubuntu 13.3.0-6ubuntu2~24.04) 13.3.0 To view detailed results, visit: https://lab.dpdk.org/results/dashboard/patchsets/33556/ UNH-IOL DPDK Community Lab To manage your email subscriptions, visit: https://lab.dpdk.org/results/dashboard/preferences/subscriptions/