From mboxrd@z Thu Jan 1 00:00:00 1970 Return-Path: Received: from mails.dpdk.org (mails.dpdk.org [217.70.189.124]) by inbox.dpdk.org (Postfix) with ESMTP id B3C1946AD9 for ; Wed, 2 Jul 2025 00:10:58 +0200 (CEST) Received: from mails.dpdk.org (localhost [127.0.0.1]) by mails.dpdk.org (Postfix) with ESMTP id 4FFE240298; Wed, 2 Jul 2025 00:10:58 +0200 (CEST) Received: from mail-qv1-f98.google.com (mail-qv1-f98.google.com [209.85.219.98]) by mails.dpdk.org (Postfix) with ESMTP id 05F9740298 for ; Wed, 2 Jul 2025 00:10:56 +0200 (CEST) Received: by mail-qv1-f98.google.com with SMTP id 6a1803df08f44-6faf66905baso45714856d6.2 for ; Tue, 01 Jul 2025 15:10:56 -0700 (PDT) DKIM-Signature: v=1; a=rsa-sha256; c=relaxed/relaxed; d=iol.unh.edu; s=unh-iol; t=1751407856; x=1752012656; darn=dpdk.org; h=references:in-reply-to:cc:to:from:subject:message-id:date:from:to :cc:subject:date:message-id:reply-to; bh=AJ46WxQ4UdKOxxty7EMGBHf68YyuhJm3eOA5jzXAwcg=; b=eZkYJqMLqUvD/zzTlMsKFxgZB0U8FXzL1i4K1H2eHrm4mP7ZS7UIuPK8iIEMP+L0IX 5cOE7NMNRJ06mmho+rd+yMkMLkQBA5aI3m1Intsi40RvlX5WtwM7UcUOP4xi4hc9TfNV xc1gUx8C+IbJhVb9KcCQigFzFhE0aBdrnrMwk= X-Google-DKIM-Signature: v=1; a=rsa-sha256; c=relaxed/relaxed; d=1e100.net; s=20230601; t=1751407856; x=1752012656; h=references:in-reply-to:cc:to:from:subject:message-id:date :x-gm-message-state:from:to:cc:subject:date:message-id:reply-to; bh=AJ46WxQ4UdKOxxty7EMGBHf68YyuhJm3eOA5jzXAwcg=; b=cfbkS0xPur4ma3skNZQQlZ3pLfc8jkvOiJs1SNaOZ8GANlH8uAd71SuHKGyaXhXBqy u0hyZ6ni+JvgskCYP1vbnlxupikpS3538g0nN9lqxIvTPaouaOCdzuoQO18GdwnAEvDu V5bblXYn8bWLIaxB5ve++p9HSFnbk/a26a5Uhlw+eIAdM3AbO72HP/2fHSgApv0KyzJX YMV5dPm5p+RyYTcCQ1IZi3bu7aV5Yn2Im6NT5HDW7PNd/r7+xrYRx7Fy3VETZF+IWgqu hOQJfzxygpgKVdxbxGFZwPmGoLbbzvSSAyXi6uCyICC0kol1g85wVXdk3wgOzaA8Nduc /j1g== X-Gm-Message-State: AOJu0Yx9BI8jrGTmG6ltY2HtRpQxiSf6euKLtTXbO/OKmSQZYeFi2j/i NK60PnxvigNwyVmzeZX8vzfKUxR4SZzPHTgzUl8xYfoBiJlsYQjxWDgMN+SsqQyhD6Xf/vqqt5H LqEVpK17k6hDs8oNldkEhgR/DfqjtzGqeyfykZNWVFLXK X-Gm-Gg: ASbGncujkT67HUN1ZWXUfo7v0RxtSvuX3gagt1pRCHcUA2Ok/kllVzzFG3whtdB0VYd V8YQjT6ev8+AqZRfxJLYgxYIjOhSFPHO4Y0DUDObm5D/jQgyYMqJd32bwCNf5LUALrH7/xvqKCD AIJtKmmCb1STi1t71+7ZNLfgjyxwZzL8Hp+MNZjIB/zAS9cIsEI7iEquML3SPdR4IqwI8yo9KXD zoayRP2rpmUi6eAL263c+u5+KR+fxG6pYFgavuET/z/5J3AAAl1wXRSUAAKGTqWcdYIfQfgNXec tAjGRFdoHBtPu6+Cr4BWpH2JNher3RHPZT7KFReIxNjCto+WKumTjn+Z8BGWxtb1576bTA== X-Google-Smtp-Source: AGHT+IGLYXBwlXlDcRM3/wG8MBPNF/Mro8BEcyyCZLF2RJo1Q0zg5/K6JLNlt/eO5Lgoi4OumLkTSCkcgaGL X-Received: by 2002:a05:6214:2a8b:b0:6fd:24:b0e0 with SMTP id 6a1803df08f44-702b1a40252mr3618756d6.6.1751407856272; Tue, 01 Jul 2025 15:10:56 -0700 (PDT) Received: from postal.iol.unh.edu (postal.iol.unh.edu. [132.177.123.84]) by smtp-relay.gmail.com with ESMTPS id 6a1803df08f44-6fd771a6ef6sm7163726d6.18.2025.07.01.15.10.56 (version=TLS1_2 cipher=ECDHE-ECDSA-AES128-GCM-SHA256 bits=128/128); Tue, 01 Jul 2025 15:10:56 -0700 (PDT) X-Relaying-Domain: iol.unh.edu Date: Tue, 01 Jul 2025 15:10:56 -0700 (PDT) Message-ID: <68645cf0.050a0220.1a1830.6e19SMTPIN_ADDED_MISSING@mx.google.com> Received: from [172.21.0.6] (unknown [172.18.0.240]) by postal.iol.unh.edu (Postfix) with ESMTP id F211B6051830; Tue, 1 Jul 2025 18:10:55 -0400 (EDT) Subject: |SUCCESS| pw154913 [PATCH] test/event: disable vector adapter test From: dpdklab@iol.unh.edu To: Test Report Cc: dpdk-test-reports@iol.unh.edu In-Reply-To: <20250701131524.2493132-1-thomas@monjalon.net> References: <20250701131524.2493132-1-thomas@monjalon.net> Content-Type: text/plain X-BeenThere: test-report@dpdk.org X-Mailman-Version: 2.1.29 Precedence: list List-Id: automatic DPDK test reports List-Unsubscribe: , List-Archive: List-Post: List-Help: List-Subscribe: , Errors-To: test-report-bounces@dpdk.org Test-Label: iol-unit-amd64-testing Test-Status: SUCCESS http://dpdk.org/patch/154913 _Testing PASS_ Submitter: Thomas Monjalon Date: Tuesday, July 01 2025 13:15:24 DPDK git baseline: Repo:dpdk Branch: master CommitID:20460dcffd08a4680f881c39916ae783ee830374 154913 --> testing pass Upstream job id: Generic-VM-Unit-Test-DPDK#29636 Test environment and result as below: +-------------------------------+----------------+ | Environment | dpdk_unit_test | +===============================+================+ | CentOS Stream 10 | PASS | +-------------------------------+----------------+ | CentOS Stream 9 | PASS | +-------------------------------+----------------+ | Debian GNU/Linux 12 | PASS | +-------------------------------+----------------+ | Fedora Linux 40 | PASS | +-------------------------------+----------------+ | Fedora Linux 41 | PASS | +-------------------------------+----------------+ | Red Hat Enterprise Linux 9.5 | PASS | +-------------------------------+----------------+ | Ubuntu 24.04 | PASS | +-------------------------------+----------------+ | Red Hat Enterprise Linux 8.10 | PASS | +-------------------------------+----------------+ | Ubuntu 20.04 | PASS | +-------------------------------+----------------+ | Ubuntu 22.04 | PASS | +-------------------------------+----------------+ | Windows Server 2022 | PASS | +-------------------------------+----------------+ CentOS Stream 10 Kernel: 5.15 Compiler: gcc gcc (GCC) 14.2.1 20250110 (Red Hat 14.2.1-8) CentOS Stream 9 Kernel: 5.15 Compiler: gcc gcc (GCC) 11.5.0 20240719 (Red Hat 11.5.0-7) Debian GNU/Linux 12 Kernel: 5.15 Compiler: gcc gcc (Debian 12.2.0-14+deb12u1) 12.2.0 Fedora Linux 40 Kernel: 5.15 Compiler: gcc gcc (GCC) 14.2.1 20240912 (Red Hat 14.2.1-3) Fedora Linux 41 Kernel: 5.15 Compiler: gcc gcc (GCC) 14.3.1 20250523 (Red Hat 14.3.1-1) Red Hat Enterprise Linux 9.5 Kernel: 5.15 Compiler: gcc gcc (GCC) 11.5.0 20240719 (Red Hat 11.5.0-2) Ubuntu 24.04 Kernel: 5.15 Compiler: gcc gcc (Ubuntu 13.3.0-6ubuntu2~24.04) 13.3.0 Red Hat Enterprise Linux 8.10 Kernel: 5.15 Compiler: gcc gcc (GCC) 8.5.0 20210514 (Red Hat 8.5.0-22) Ubuntu 20.04 Kernel: 5.15 Compiler: gcc gcc (Ubuntu 9.4.0-1ubuntu1~20.04.2) 9.4.0 Ubuntu 22.04 Kernel: 5.15 Compiler: gcc gcc (Ubuntu 11.4.0-1ubuntu1~22.04) 11.4.0 Windows Server 2022 Kernel: 10.0.20348.2031 Compiler: clang 15.0.7, gcc 14.1.0 (MinGW), and MSVC VS 19.39.33521 To view detailed results, visit: https://lab.dpdk.org/results/dashboard/patchsets/33556/ UNH-IOL DPDK Community Lab To manage your email subscriptions, visit: https://lab.dpdk.org/results/dashboard/preferences/subscriptions/