From mboxrd@z Thu Jan 1 00:00:00 1970 Return-Path: Received: from mails.dpdk.org (mails.dpdk.org [217.70.189.124]) by inbox.dpdk.org (Postfix) with ESMTP id A224B46ADB for ; Wed, 2 Jul 2025 00:31:10 +0200 (CEST) Received: from mails.dpdk.org (localhost [127.0.0.1]) by mails.dpdk.org (Postfix) with ESMTP id 7245A40298; Wed, 2 Jul 2025 00:31:10 +0200 (CEST) Received: from mail-vk1-f226.google.com (mail-vk1-f226.google.com [209.85.221.226]) by mails.dpdk.org (Postfix) with ESMTP id 2025F40298 for ; Wed, 2 Jul 2025 00:31:10 +0200 (CEST) Received: by mail-vk1-f226.google.com with SMTP id 71dfb90a1353d-5290be1aedcso4604485e0c.1 for ; Tue, 01 Jul 2025 15:31:10 -0700 (PDT) DKIM-Signature: v=1; a=rsa-sha256; c=relaxed/relaxed; d=iol.unh.edu; s=unh-iol; t=1751409069; x=1752013869; darn=dpdk.org; h=references:in-reply-to:cc:to:from:subject:message-id:date:from:to :cc:subject:date:message-id:reply-to; bh=pLGP/dDlsPwRXdLY8TBTsU+VcKD8UDLUgzX4aov9svA=; b=Y2aGe7Wg95z++WOfbjzBZhnZik+O+U20W/kSN2L4hn9eexVKrEAqgZNOF7X8Nu/3NI 5enLis4vH4GC6dbzjvW4IBY5kMnxFoafziX4sgdNKDZ+SmBAcfEAjC/AkLpTf6UHJ7xr Fd6qoIfnajcPprg+eo9YRUU6vUeyxVqDN1I2g= X-Google-DKIM-Signature: v=1; a=rsa-sha256; c=relaxed/relaxed; d=1e100.net; s=20230601; t=1751409069; x=1752013869; h=references:in-reply-to:cc:to:from:subject:message-id:date :x-gm-message-state:from:to:cc:subject:date:message-id:reply-to; bh=pLGP/dDlsPwRXdLY8TBTsU+VcKD8UDLUgzX4aov9svA=; b=KhmOlaJFO1V1bn94UlE4K42+Rm6ikjI3hft7yHn5nEZkhcl5DNXwzOmXm0NnBV25hZ MvX08pOGv/gnPEsMNhbh3O2mtKryp6mAFu9KS/c/9XWWdgXsdgsTSN4zsMEVOIMoinmH XVDD1gTXfwGIkpLue0sBy6Sh8K0vkP/2SWp2OgWHZxYWFSQAkIm+YnrDAVHPEorMlG1i i0gRmx/EGK45JqcBLXAvQy6Yp84Wi9so0L8oAenut0h8s45UxFz11Ar4opA05p3+EBcJ EhbKBTYFXB5ZgXSXnXFE9rYnWyfntU1r+YgYFhWW3OsR0FUQLQDVr3PwUp2q6FYO80uM 5PBA== X-Gm-Message-State: AOJu0YwNF1cbxezuORH2ILvFMLsKdmcQQ37/XhtSrGkBG1bDH5jRMCD4 0nLSyVubO1EhY/qqKervQgZXPg1V7qcC+6M4/6cI+rbkl5zfOxs2qJpN8gY6bDUT4aZhV96vomV WFvs5cCGfxk9ieOv6E2rxihtyTmdPankO+pHf9O+uuBaPWPuGIbncx55LY/al X-Gm-Gg: ASbGnct3AY/jqbkS/6PeXxCxCfRzNaWy+ddcetkF361rqJrT2+QPQPRz0RxdjMs7Qc7 1QWxNLxhv3y+J4iAtTlmNR1NnoA+FRazsg5lsMppANw9r5jT4RMVXwluFtNpYPIcHz3kSDbArAI QsgaG6LupFOniJS7HtU7JuDH+Fht00/CFmetX2x/bDvsqD7TPbuiZk3gWby3oS9HbXrgfeTY3zm OB8xLHJtz6NPCPKLS6nKrEnRRQdofrSMDbR2QiMmTjVtZMHB8gnsPITHyLz5GDvFG+z0KCYxKDU NZSvJsiRut0gIWgShS3KhobQ2FItVuRrHUeyE8Db9yH89Js= X-Google-Smtp-Source: AGHT+IFi4GpzYnN4tVOe4a4BKugkp+1OFIM1vk8fkjg+nVNHY7B5e7SMy9YcjiT8oVK8Gr0U+pt69JkTvqhx X-Received: by 2002:a05:6122:1790:b0:531:19ee:93e9 with SMTP id 71dfb90a1353d-5345a0431e5mr297062e0c.2.1751409069433; Tue, 01 Jul 2025 15:31:09 -0700 (PDT) Received: from postal.iol.unh.edu (postal.iol.unh.edu. [2606:4100:3880:1234::84]) by smtp-relay.gmail.com with ESMTPS id 71dfb90a1353d-533091e1ef8sm727473e0c.9.2025.07.01.15.31.09 (version=TLS1_2 cipher=ECDHE-ECDSA-AES128-GCM-SHA256 bits=128/128); Tue, 01 Jul 2025 15:31:09 -0700 (PDT) X-Relaying-Domain: iol.unh.edu Date: Tue, 01 Jul 2025 15:31:09 -0700 (PDT) Message-ID: <686461ad.050a0220.39fbd2.7accSMTPIN_ADDED_MISSING@mx.google.com> Received: from [172.21.0.5] (unknown [172.18.0.240]) by postal.iol.unh.edu (Postfix) with ESMTP id 23B9B6051830; Tue, 1 Jul 2025 18:31:09 -0400 (EDT) Subject: |SUCCESS| pw154915-154919 [PATCH] [5/5] riscv: override machine_args From: dpdklab@iol.unh.edu To: Test Report Cc: dpdk-test-reports@iol.unh.edu In-Reply-To: References: Content-Type: text/plain X-BeenThere: test-report@dpdk.org X-Mailman-Version: 2.1.29 Precedence: list List-Id: automatic DPDK test reports List-Unsubscribe: , List-Archive: List-Post: List-Help: List-Subscribe: , Errors-To: test-report-bounces@dpdk.org Test-Label: iol-unit-amd64-testing Test-Status: SUCCESS http://dpdk.org/patch/154919 _Testing PASS_ Submitter: None Date: Tuesday, July 01 2025 16:13:42 DPDK git baseline: Repo:dpdk Branch: master CommitID:0eb86b4533d40bcd703972421b9a201c02f37f8a 154915-154919 --> testing pass Upstream job id: Generic-Unit-Test-DPDK#351618 Test environment and result as below: +-------------------------------+----------------+ | Environment | dpdk_unit_test | +===============================+================+ | CentOS Stream 10 | PASS | +-------------------------------+----------------+ | CentOS Stream 9 | PASS | +-------------------------------+----------------+ | Debian GNU/Linux 12 | PASS | +-------------------------------+----------------+ | Fedora Linux 40 | PASS | +-------------------------------+----------------+ | Fedora Linux 41 | PASS | +-------------------------------+----------------+ | Red Hat Enterprise Linux 8.10 | PASS | +-------------------------------+----------------+ | Red Hat Enterprise Linux 9.5 | PASS | +-------------------------------+----------------+ | Ubuntu 22.04 | PASS | +-------------------------------+----------------+ | Ubuntu 20.04 | PASS | +-------------------------------+----------------+ | Ubuntu 24.04 | PASS | +-------------------------------+----------------+ | Windows Server 2022 | PASS | +-------------------------------+----------------+ CentOS Stream 10 Kernel: 5.15 Compiler: gcc gcc (GCC) 14.2.1 20250110 (Red Hat 14.2.1-8) CentOS Stream 9 Kernel: 5.15 Compiler: gcc gcc (GCC) 11.5.0 20240719 (Red Hat 11.5.0-7) Debian GNU/Linux 12 Kernel: 5.15 Compiler: gcc gcc (Debian 12.2.0-14+deb12u1) 12.2.0 Fedora Linux 40 Kernel: 5.15 Compiler: gcc gcc (GCC) 14.2.1 20240912 (Red Hat 14.2.1-3) Fedora Linux 41 Kernel: 5.15 Compiler: gcc gcc (GCC) 14.3.1 20250523 (Red Hat 14.3.1-1) Red Hat Enterprise Linux 8.10 Kernel: 5.15 Compiler: gcc gcc (GCC) 8.5.0 20210514 (Red Hat 8.5.0-22) Red Hat Enterprise Linux 9.5 Kernel: 5.15 Compiler: gcc gcc (GCC) 11.5.0 20240719 (Red Hat 11.5.0-2) Ubuntu 22.04 Kernel: 5.15 Compiler: gcc gcc (Ubuntu 11.4.0-1ubuntu1~22.04) 11.4.0 Ubuntu 20.04 Kernel: 5.15 Compiler: gcc gcc (Ubuntu 9.4.0-1ubuntu1~20.04.2) 9.4.0 Ubuntu 24.04 Kernel: 5.15 Compiler: gcc gcc (Ubuntu 13.3.0-6ubuntu2~24.04) 13.3.0 Windows Server 2022 Kernel: 10.0.20348.2031 Compiler: clang 15.0.7, gcc 14.1.0 (MinGW), and MSVC VS 19.39.33521 To view detailed results, visit: https://lab.dpdk.org/results/dashboard/patchsets/33558/ UNH-IOL DPDK Community Lab To manage your email subscriptions, visit: https://lab.dpdk.org/results/dashboard/preferences/subscriptions/