From mboxrd@z Thu Jan 1 00:00:00 1970 Return-Path: Received: from mails.dpdk.org (mails.dpdk.org [217.70.189.124]) by inbox.dpdk.org (Postfix) with ESMTP id 14A1346ADB for ; Wed, 2 Jul 2025 00:34:51 +0200 (CEST) Received: from mails.dpdk.org (localhost [127.0.0.1]) by mails.dpdk.org (Postfix) with ESMTP id EE9B440298; Wed, 2 Jul 2025 00:34:50 +0200 (CEST) Received: from mail-yb1-f227.google.com (mail-yb1-f227.google.com [209.85.219.227]) by mails.dpdk.org (Postfix) with ESMTP id C22B240298 for ; Wed, 2 Jul 2025 00:34:49 +0200 (CEST) Received: by mail-yb1-f227.google.com with SMTP id 3f1490d57ef6-e812c817de0so3190912276.0 for ; Tue, 01 Jul 2025 15:34:49 -0700 (PDT) DKIM-Signature: v=1; a=rsa-sha256; c=relaxed/relaxed; d=iol.unh.edu; s=unh-iol; t=1751409289; x=1752014089; darn=dpdk.org; h=references:in-reply-to:cc:to:from:subject:message-id:date:from:to :cc:subject:date:message-id:reply-to; bh=h3/ak94OHw+ry89tL6QZL9bh+4piwOmfCfwMbFiLZtM=; b=aqYSyacJLVH3eb2ZIQ93ZVnmO/5mFEay1TWpfzMySEykumaJBc0aIuo1tfcWNLpdUn Gcp1gn/YQ9jIyYM0vEDeI7IjeDocyLeZjVhDoSqaSeH0MrzBFrkG6iTUVNX86B0edG6t is6kd2xDvxgb0oc6zEcHIf2CpZyT7FW5ACiSY= X-Google-DKIM-Signature: v=1; a=rsa-sha256; c=relaxed/relaxed; d=1e100.net; s=20230601; t=1751409289; x=1752014089; h=references:in-reply-to:cc:to:from:subject:message-id:date :x-gm-message-state:from:to:cc:subject:date:message-id:reply-to; bh=h3/ak94OHw+ry89tL6QZL9bh+4piwOmfCfwMbFiLZtM=; b=UtPJw8XyOd8mYJLX4eKRQ3eStb6rpx+Ypu1peR77Ma/FkcAmuzpueUHlL96iprVyZ8 kUzITqAs7/vCdPnu27HG1A/bAfgdHB2TSBdRj+GkMPAuPWeF2j0zX0Rh17ZD/Lqf77xJ vjHc4KAHjpAoRoc8ntxG8AlV0w5vZ2o+IXGS5CmFBEfZVzg/3fZe5me67CU+pCTBwdh/ Ic0JlEHC2vyOyzeEHP/rsLQiPC1dRrjxTLMKYnBvZbrl3XN084g9+sVIZ5BbiA6SGe81 2fYghFt8ClWkqgCQgVyh1Eh/D/JohB7rRx6+vOXV5EG7sViwfI3CUtSqlpWi5VLBRkj7 VXoA== X-Gm-Message-State: AOJu0YwbS8wqTJ4XJ1AupQPMFb2GYNbcasjZKXN36Qlr3O+9JhdkBHWY IiVSGdmtjuy1vLsJRghLotrhQTrb24RKQ9TRz6OKhos+Jer1N2z1CYNAZKJ8Fg7RdPGncTzQy08 JqMmbyXU57gwyzRPjtU/BAwGtUfq9sq2fXRFfsJeZ7bHXokDZgzXsrQ3TRd1O X-Gm-Gg: ASbGncssKSZncxdodq1ncWB3lLMapceoIQCrK/kEf82IqiFXo2F4fJhv7DKhGcqTYEn X8/W3ZfXkRBitEiHd4oPMGu/bpNX+QX2HDsKUNILmpjRJMBorPIAsp8Ol7iZ7Wk4JM9++TXEP0I VGG6iQ0u+v/ZicZG+zC8y102wp9LY3zHMR82tUv69hTv5QTDqxmUV9sbussztWVziPEr1/SRWso XvYolqEf854u7AvSy75KYfZE13iGPvSThkFq6RrOUCSMH0dHey/MR/sde9i73c5OQ/ATol6BLGG 7oPEVWj4blM3IThoCcf8ELt2dHDPPyoFzYQ5YSEtyIbbvlU= X-Google-Smtp-Source: AGHT+IHHIF7rpLeKxSPDjHd95M51VCT6CoagFLt13V9eIFq22m1p1prP3GdzFfCRWEG8ZYHQo6NCtAGXOTR1 X-Received: by 2002:a05:690c:6513:b0:70d:f47a:7e40 with SMTP id 00721157ae682-7164d2ca150mr7915027b3.16.1751409289124; Tue, 01 Jul 2025 15:34:49 -0700 (PDT) Received: from postal.iol.unh.edu (postal.iol.unh.edu. [2606:4100:3880:1234::84]) by smtp-relay.gmail.com with ESMTPS id 00721157ae682-71515cd2363sm3467667b3.55.2025.07.01.15.34.49 (version=TLS1_2 cipher=ECDHE-ECDSA-AES128-GCM-SHA256 bits=128/128); Tue, 01 Jul 2025 15:34:49 -0700 (PDT) X-Relaying-Domain: iol.unh.edu Date: Tue, 01 Jul 2025 15:34:49 -0700 (PDT) Message-ID: <68646289.050a0220.23717.1e85SMTPIN_ADDED_MISSING@mx.google.com> Received: from [172.21.0.5] (unknown [172.18.0.240]) by postal.iol.unh.edu (Postfix) with ESMTP id C1FE26051830; Tue, 1 Jul 2025 18:34:48 -0400 (EDT) Subject: |SUCCESS| pw154913 [PATCH] test/event: disable vector adapter test From: dpdklab@iol.unh.edu To: Test Report Cc: dpdk-test-reports@iol.unh.edu In-Reply-To: <20250701131524.2493132-1-thomas@monjalon.net> References: <20250701131524.2493132-1-thomas@monjalon.net> Content-Type: text/plain X-BeenThere: test-report@dpdk.org X-Mailman-Version: 2.1.29 Precedence: list List-Id: automatic DPDK test reports List-Unsubscribe: , List-Archive: List-Post: List-Help: List-Subscribe: , Errors-To: test-report-bounces@dpdk.org Test-Label: iol-abi-testing Test-Status: SUCCESS http://dpdk.org/patch/154913 _Testing PASS_ Submitter: Thomas Monjalon Date: Tuesday, July 01 2025 13:15:24 DPDK git baseline: Repo:dpdk Branch: master CommitID:20460dcffd08a4680f881c39916ae783ee830374 154913 --> testing pass Upstream job id: Generic-DPDK-Compile-ABI#132617 Test environment and result as below: +-------------------------------+----------+ | Environment | abi_test | +===============================+==========+ | CentOS Stream 9 | PASS | +-------------------------------+----------+ | CentOS Stream 10 | PASS | +-------------------------------+----------+ | Debian GNU/Linux 12 | PASS | +-------------------------------+----------+ | Fedora Linux 40 | PASS | +-------------------------------+----------+ | openSUSE Leap 15.6 | PASS | +-------------------------------+----------+ | Red Hat Enterprise Linux 8.10 | PASS | +-------------------------------+----------+ | Fedora Linux 41 | PASS | +-------------------------------+----------+ | Red Hat Enterprise Linux 9.5 | PASS | +-------------------------------+----------+ | Ubuntu 24.04 | PASS | +-------------------------------+----------+ | Ubuntu 22.04 | PASS | +-------------------------------+----------+ CentOS Stream 9 Kernel: 5.15 Compiler: gcc gcc (GCC) 11.5.0 20240719 (Red Hat 11.5.0-7) CentOS Stream 10 Kernel: 5.15 Compiler: gcc gcc (GCC) 14.2.1 20250110 (Red Hat 14.2.1-8) Debian GNU/Linux 12 Kernel: 5.15 Compiler: gcc gcc (Debian 12.2.0-14+deb12u1) 12.2.0 Fedora Linux 40 Kernel: 5.15 Compiler: clang gcc (GCC) 14.2.1 20240912 (Red Hat 14.2.1-3) openSUSE Leap 15.6 Kernel: 5.15 Compiler: gcc gcc (SUSE Linux) 7.5.0 Red Hat Enterprise Linux 8.10 Kernel: 5.15 Compiler: gcc gcc (GCC) 8.5.0 20210514 (Red Hat 8.5.0-22) Fedora Linux 41 Kernel: 5.15 Compiler: clang gcc (GCC) 14.3.1 20250523 (Red Hat 14.3.1-1) Red Hat Enterprise Linux 9.5 Kernel: 5.15 Compiler: gcc gcc (GCC) 11.5.0 20240719 (Red Hat 11.5.0-2) Ubuntu 24.04 Kernel: 5.15 Compiler: gcc gcc (Ubuntu 13.3.0-6ubuntu2~24.04) 13.3.0 Ubuntu 22.04 Kernel: 5.15 Compiler: gcc gcc (Ubuntu 11.4.0-1ubuntu1~22.04) 11.4.0 To view detailed results, visit: https://lab.dpdk.org/results/dashboard/patchsets/33556/ UNH-IOL DPDK Community Lab To manage your email subscriptions, visit: https://lab.dpdk.org/results/dashboard/preferences/subscriptions/