From mboxrd@z Thu Jan 1 00:00:00 1970 Return-Path: Received: from mails.dpdk.org (mails.dpdk.org [217.70.189.124]) by inbox.dpdk.org (Postfix) with ESMTP id 304A146ADB for ; Wed, 2 Jul 2025 00:35:35 +0200 (CEST) Received: from mails.dpdk.org (localhost [127.0.0.1]) by mails.dpdk.org (Postfix) with ESMTP id 2209340298; Wed, 2 Jul 2025 00:35:35 +0200 (CEST) Received: from mail-oa1-f98.google.com (mail-oa1-f98.google.com [209.85.160.98]) by mails.dpdk.org (Postfix) with ESMTP id 1364340298 for ; Wed, 2 Jul 2025 00:35:34 +0200 (CEST) Received: by mail-oa1-f98.google.com with SMTP id 586e51a60fabf-2f39532bd11so717968fac.0 for ; Tue, 01 Jul 2025 15:35:34 -0700 (PDT) DKIM-Signature: v=1; a=rsa-sha256; c=relaxed/relaxed; d=iol.unh.edu; s=unh-iol; t=1751409333; x=1752014133; darn=dpdk.org; h=references:in-reply-to:cc:to:from:subject:message-id:date:from:to :cc:subject:date:message-id:reply-to; bh=K3L2BGH0gP6ZYBYhNTV8SjFNe9JL9CiC/gMBsxLr1us=; b=Xa46JlYsUJsWvQxLrLVjBpmOO/52tqFGZAybL5s+zpfJrKD7+Zb/7KQ5A7aLbTS9Cl zuBfWbRCJUnmcE3Fnex0qp1Js0TlcmlrTyUt32bDQVPpxS4utBugtZK9CQo+NobckIlN Lk5PPFgvK2/dgTtcHn40LWuX6CYz8CRDT4dk0= X-Google-DKIM-Signature: v=1; a=rsa-sha256; c=relaxed/relaxed; d=1e100.net; s=20230601; t=1751409333; x=1752014133; h=references:in-reply-to:cc:to:from:subject:message-id:date :x-gm-message-state:from:to:cc:subject:date:message-id:reply-to; bh=K3L2BGH0gP6ZYBYhNTV8SjFNe9JL9CiC/gMBsxLr1us=; b=MW972QkineTuAqIG1+ipEeiU+2S58SwFn+5xoMq57I0veG3z6TSEGv7ePEj4yewxD6 WwwD+YFZk7KqbFPFH+ae8VrYPu/W14dXHx9IhUc9/noRtMTxffHklZd/BEIhxLGuzRKe 5LIXs7kD7kpjzR649uAyMJ1qyoE4AMdR2+jncAM5P19OYphHVy+8wwB/5WI+bsnwTbDj nkHIjgkdMp7ZrMXztMLsn/6HeST8RFBn4WyTg2RK/WIvYxLLjl3VKTS0933TD4bIiYh9 OSqau1QcL5eMuD1sbk9o+2sIqbSGwB5k0BJVTsJpkwqdPbD4wn/BvbV0X4iij1cpUcwH +Cow== X-Gm-Message-State: AOJu0YxFCGwkrLuDxlzKf5Yz9R6v+jTFQ4wo/+yict/awEz2C3WRgosT HQi3FMiyTnbeXYy0+qLcz3uw0pF6elcjyB4IDlB30DzEu4CV4OEwaOcdZZTeXrKmHgv7ir5EYIN dANp9a0qmVjBdtGtciJD+kmRJXM8wAMUSkFppBTU3ZKGl X-Gm-Gg: ASbGncv820/tX/PtgeKSnCJInecSwE8FRjJLpEmkZUe8A3RQMT1W+ZKdqxQ/KOdH7T3 rneMspmYvCGCA9gwmlEY/vJWSoa1mtPXGyxU8i9UYIp3/jqyUinb5HQKEbB0Yl6PsyeM5NRPHA5 CppyJu4N7lpwPwfnMgSdz8oDRe3RHAYVCly6TAdc8NsRc5+37wxoyEpJ0X/JEYtwLLFNVk2KR36 VNbeHQC2CycIMZazKWtasjlrwyQBAwVmTj3EBnqpMJ21YXepyxA1JOWSsCxaOJ92duC1F3mS67H UyPmc8NoKw7ACfB2RfseU69X5etBRLRvSb0y+2Teup2dSEgpJXCJ3kZ5Qzm2sR5aWN9EMA== X-Google-Smtp-Source: AGHT+IG1B34bLMse3xvKuTWN3lyKeB05TyttDYI+LiS5HmtY04x4+0T/clazm2ifACtAecFODUKUr6VEnulu X-Received: by 2002:a05:6870:f71e:b0:2c6:72d3:fc93 with SMTP id 586e51a60fabf-2f5a8a490d0mr472433fac.12.1751409333243; Tue, 01 Jul 2025 15:35:33 -0700 (PDT) Received: from postal.iol.unh.edu (postal.iol.unh.edu. [132.177.123.84]) by smtp-relay.gmail.com with ESMTPS id 586e51a60fabf-2efd4d9316fsm740856fac.7.2025.07.01.15.35.33 (version=TLS1_2 cipher=ECDHE-ECDSA-AES128-GCM-SHA256 bits=128/128); Tue, 01 Jul 2025 15:35:33 -0700 (PDT) X-Relaying-Domain: iol.unh.edu Date: Tue, 01 Jul 2025 15:35:33 -0700 (PDT) Message-ID: <686462b5.050a0220.3652a3.8d39SMTPIN_ADDED_MISSING@mx.google.com> Received: from [172.21.0.5] (unknown [172.18.0.240]) by postal.iol.unh.edu (Postfix) with ESMTP id BF78D6051830; Tue, 1 Jul 2025 18:35:32 -0400 (EDT) Subject: |SUCCESS| pw154913 [PATCH] test/event: disable vector adapter test From: dpdklab@iol.unh.edu To: Test Report Cc: dpdk-test-reports@iol.unh.edu In-Reply-To: <20250701131524.2493132-1-thomas@monjalon.net> References: <20250701131524.2493132-1-thomas@monjalon.net> Content-Type: text/plain X-BeenThere: test-report@dpdk.org X-Mailman-Version: 2.1.29 Precedence: list List-Id: automatic DPDK test reports List-Unsubscribe: , List-Archive: List-Post: List-Help: List-Subscribe: , Errors-To: test-report-bounces@dpdk.org Test-Label: iol-abi-testing Test-Status: SUCCESS http://dpdk.org/patch/154913 _Testing PASS_ Submitter: Thomas Monjalon Date: Tuesday, July 01 2025 13:15:24 DPDK git baseline: Repo:dpdk Branch: master CommitID:20460dcffd08a4680f881c39916ae783ee830374 154913 --> testing pass Upstream job id: Generic-DPDK-Compile-ABI#132608 Test environment and result as below: +-------------------------------+----------+ | Environment | abi_test | +===============================+==========+ | CentOS Stream 9 | PASS | +-------------------------------+----------+ | CentOS Stream 10 | PASS | +-------------------------------+----------+ | Debian GNU/Linux 12 | PASS | +-------------------------------+----------+ | Fedora Linux 40 | PASS | +-------------------------------+----------+ | openSUSE Leap 15.6 | PASS | +-------------------------------+----------+ | Red Hat Enterprise Linux 8.10 | PASS | +-------------------------------+----------+ | Fedora Linux 41 | PASS | +-------------------------------+----------+ | Red Hat Enterprise Linux 9.5 | PASS | +-------------------------------+----------+ | Ubuntu 24.04 | PASS | +-------------------------------+----------+ | Ubuntu 22.04 | PASS | +-------------------------------+----------+ CentOS Stream 9 Kernel: 5.15 Compiler: gcc gcc (GCC) 11.5.0 20240719 (Red Hat 11.5.0-7) CentOS Stream 10 Kernel: 5.15 Compiler: gcc gcc (GCC) 14.2.1 20250110 (Red Hat 14.2.1-8) Debian GNU/Linux 12 Kernel: 5.15 Compiler: gcc gcc (Debian 12.2.0-14+deb12u1) 12.2.0 Fedora Linux 40 Kernel: 5.15 Compiler: clang gcc (GCC) 14.2.1 20240912 (Red Hat 14.2.1-3) openSUSE Leap 15.6 Kernel: 5.15 Compiler: gcc gcc (SUSE Linux) 7.5.0 Red Hat Enterprise Linux 8.10 Kernel: 5.15 Compiler: gcc gcc (GCC) 8.5.0 20210514 (Red Hat 8.5.0-22) Fedora Linux 41 Kernel: 5.15 Compiler: clang gcc (GCC) 14.3.1 20250523 (Red Hat 14.3.1-1) Red Hat Enterprise Linux 9.5 Kernel: 5.15 Compiler: gcc gcc (GCC) 11.5.0 20240719 (Red Hat 11.5.0-2) Ubuntu 24.04 Kernel: 5.15 Compiler: gcc gcc (Ubuntu 13.3.0-6ubuntu2~24.04) 13.3.0 Ubuntu 22.04 Kernel: 5.15 Compiler: gcc gcc (Ubuntu 11.4.0-1ubuntu1~22.04) 11.4.0 To view detailed results, visit: https://lab.dpdk.org/results/dashboard/patchsets/33556/ UNH-IOL DPDK Community Lab To manage your email subscriptions, visit: https://lab.dpdk.org/results/dashboard/preferences/subscriptions/