From mboxrd@z Thu Jan 1 00:00:00 1970 Return-Path: Received: from mails.dpdk.org (mails.dpdk.org [217.70.189.124]) by inbox.dpdk.org (Postfix) with ESMTP id 4293D46ADB for ; Wed, 2 Jul 2025 00:36:00 +0200 (CEST) Received: from mails.dpdk.org (localhost [127.0.0.1]) by mails.dpdk.org (Postfix) with ESMTP id 3C24040298; Wed, 2 Jul 2025 00:36:00 +0200 (CEST) Received: from mail-il1-f225.google.com (mail-il1-f225.google.com [209.85.166.225]) by mails.dpdk.org (Postfix) with ESMTP id E508F40298 for ; Wed, 2 Jul 2025 00:35:58 +0200 (CEST) Received: by mail-il1-f225.google.com with SMTP id e9e14a558f8ab-3da73df6b6bso13333545ab.3 for ; Tue, 01 Jul 2025 15:35:58 -0700 (PDT) DKIM-Signature: v=1; a=rsa-sha256; c=relaxed/relaxed; d=iol.unh.edu; s=unh-iol; t=1751409358; x=1752014158; darn=dpdk.org; h=references:in-reply-to:cc:to:from:subject:message-id:date:from:to :cc:subject:date:message-id:reply-to; bh=tc/JMevbmkJP9gLjYOhd3lu4ez2rwAZKSU7qJKKqI5o=; b=O/+xM0gsuVNNN2uhvhl61hsFdTWs+ppjQIX+mBNCpzWi/dOVTHdmsVy+x7bbvBHQ30 BLg0dK9qGqcFRDa7ns4uAPUj6zrR0eFJbKMplrBzGwI/KleFlk3z/LNAp6a2NQ1no4wu sL1RinyreWht7PANhUo8/JuSiDePezETqGwAM= X-Google-DKIM-Signature: v=1; a=rsa-sha256; c=relaxed/relaxed; d=1e100.net; s=20230601; t=1751409358; x=1752014158; h=references:in-reply-to:cc:to:from:subject:message-id:date :x-gm-message-state:from:to:cc:subject:date:message-id:reply-to; bh=tc/JMevbmkJP9gLjYOhd3lu4ez2rwAZKSU7qJKKqI5o=; b=kllYZ9xOIvApE2R48dbDX6ko/yLiZ2y/VDwyyA67IF7lxIfLhHkG9sJVEVvlUsm2Y8 kzvaldhbwPPY1lAm2Ft97CbxYXZTJ9Ax+pSRoBdJvjn6Y2JSvGkjwYQMxB/Aul1Vd2zt 6TTBBnfNaHcxnwaioo1OO4zmzGUXOpFvV6o8dN7QbHQFmYZrnPUe7JxI/d6b6TMdnXiB joN5sMthy6PYGfnBINiuILAajvAPzI+oc5iRDzue9G9DrREVOsv9zP1f6XKhdfp1UnIJ fzrzCLmdDZbHrC94FChuwPTGfqRzhq1+oEzkSaJN0eIoSXyPQwwjpd9Gq0up8dcRJgsf EigA== X-Gm-Message-State: AOJu0YzuwHWm/J7d4k7OmYxaty76wEq5lR3AcM/rBKId5z0NOQK0cytm fnv2nJ7GxSNfwRcTQyd9bmrkHR0dRYcndGubpyhzXjxEygw/iwHzypcgHzA8+uVUdQXmJ3c8SIs d9U2HczBZb/7lL380XAt2hGFLgz0d1CmP+andofqpbWus X-Gm-Gg: ASbGncuRmoQhSiaL8Q0mjk8/EGCIBSR1bqhQvsTI16fyPzcRwKjfb4CbagHIbLM3HaP zxmdRlbZnZ007z4U9w/rhrU9ctuJBcy4YN6Iv7GATKsMALmxuYEH2PSY/RWVvU7vAzQPkMuiZGR i7Xt6qCPjpzFTq2pqeHUAuOsY9GHV8g020MavA+cWEUSFxce0yt+Imm5aqx/woRIOSgi24mPc8U Woqcb7tL/Y1u5U7HvWZ9nttlYO8Ys+JateoEG4GVhI3dndafYXKyMWd8baRmRr8iN1piz6nyoYi X+DVtrLzM/d0rl19ccgKRWokFsVIKXNCCghXITZ711zY3l44jBZk0lp+UuDdA8xumEVUjQ== X-Google-Smtp-Source: AGHT+IFpuqEYeACyHMTqD+NwtDD/Mn9o/qFpDc/+nwtRB/9tEOSBDuVRcTHbtWAGzuMI0d5nZeW6wLF7R8DY X-Received: by 2002:a05:6e02:1a63:b0:3dd:bb7e:f1af with SMTP id e9e14a558f8ab-3e054a02279mr10921655ab.20.1751409358193; Tue, 01 Jul 2025 15:35:58 -0700 (PDT) Received: from postal.iol.unh.edu (postal.iol.unh.edu. [132.177.123.84]) by smtp-relay.gmail.com with ESMTPS id 8926c6da1cb9f-50204895c13sm410448173.20.2025.07.01.15.35.58 (version=TLS1_2 cipher=ECDHE-ECDSA-AES128-GCM-SHA256 bits=128/128); Tue, 01 Jul 2025 15:35:58 -0700 (PDT) X-Relaying-Domain: iol.unh.edu Date: Tue, 01 Jul 2025 15:35:58 -0700 (PDT) Message-ID: <686462ce.050a0220.1ddccd.59e2SMTPIN_ADDED_MISSING@mx.google.com> Received: from [172.21.0.5] (unknown [172.18.0.240]) by postal.iol.unh.edu (Postfix) with ESMTP id B2E3A6051830; Tue, 1 Jul 2025 18:35:57 -0400 (EDT) Subject: |SUCCESS| pw154903 [PATCH] ci: check C++ headers with clang From: dpdklab@iol.unh.edu To: Test Report Cc: dpdk-test-reports@iol.unh.edu In-Reply-To: <20250701113146.1268492-1-david.marchand@redhat.com> References: <20250701113146.1268492-1-david.marchand@redhat.com> Content-Type: text/plain X-BeenThere: test-report@dpdk.org X-Mailman-Version: 2.1.29 Precedence: list List-Id: automatic DPDK test reports List-Unsubscribe: , List-Archive: List-Post: List-Help: List-Subscribe: , Errors-To: test-report-bounces@dpdk.org Test-Label: iol-abi-testing Test-Status: SUCCESS http://dpdk.org/patch/154903 _Testing PASS_ Submitter: David Marchand Date: Tuesday, July 01 2025 11:31:46 DPDK git baseline: Repo:dpdk Branch: master CommitID:20460dcffd08a4680f881c39916ae783ee830374 154903 --> testing pass Upstream job id: Generic-DPDK-Compile-ABI#132598 Test environment and result as below: +-------------------------------+----------+ | Environment | abi_test | +===============================+==========+ | CentOS Stream 9 | PASS | +-------------------------------+----------+ | CentOS Stream 10 | PASS | +-------------------------------+----------+ | Fedora Linux 40 | PASS | +-------------------------------+----------+ | Fedora Linux 41 | PASS | +-------------------------------+----------+ | openSUSE Leap 15.6 | PASS | +-------------------------------+----------+ | Red Hat Enterprise Linux 9.5 | PASS | +-------------------------------+----------+ | Ubuntu 24.04 | PASS | +-------------------------------+----------+ | Red Hat Enterprise Linux 8.10 | PASS | +-------------------------------+----------+ | Ubuntu 22.04 | PASS | +-------------------------------+----------+ | Debian GNU/Linux 12 | PASS | +-------------------------------+----------+ CentOS Stream 9 Kernel: 5.15 Compiler: gcc gcc (GCC) 11.5.0 20240719 (Red Hat 11.5.0-7) CentOS Stream 10 Kernel: 5.15 Compiler: gcc gcc (GCC) 14.2.1 20250110 (Red Hat 14.2.1-8) Fedora Linux 40 Kernel: 5.15 Compiler: clang gcc (GCC) 14.2.1 20240912 (Red Hat 14.2.1-3) Fedora Linux 41 Kernel: 5.15 Compiler: gcc gcc (GCC) 14.3.1 20250523 (Red Hat 14.3.1-1) openSUSE Leap 15.6 Kernel: 5.15 Compiler: gcc gcc (SUSE Linux) 7.5.0 Red Hat Enterprise Linux 9.5 Kernel: 5.15 Compiler: gcc gcc (GCC) 11.5.0 20240719 (Red Hat 11.5.0-2) Ubuntu 24.04 Kernel: 5.15 Compiler: gcc gcc (Ubuntu 13.3.0-6ubuntu2~24.04) 13.3.0 Red Hat Enterprise Linux 8.10 Kernel: 5.15 Compiler: gcc gcc (GCC) 8.5.0 20210514 (Red Hat 8.5.0-22) Ubuntu 22.04 Kernel: 5.15 Compiler: gcc gcc (Ubuntu 11.4.0-1ubuntu1~22.04) 11.4.0 Debian GNU/Linux 12 Kernel: 5.15 Compiler: gcc gcc (Debian 12.2.0-14+deb12u1) 12.2.0 To view detailed results, visit: https://lab.dpdk.org/results/dashboard/patchsets/33554/ UNH-IOL DPDK Community Lab To manage your email subscriptions, visit: https://lab.dpdk.org/results/dashboard/preferences/subscriptions/