From mboxrd@z Thu Jan 1 00:00:00 1970 Return-Path: Received: from mails.dpdk.org (mails.dpdk.org [217.70.189.124]) by inbox.dpdk.org (Postfix) with ESMTP id 6043246ADB for ; Wed, 2 Jul 2025 00:36:44 +0200 (CEST) Received: from mails.dpdk.org (localhost [127.0.0.1]) by mails.dpdk.org (Postfix) with ESMTP id 5ACA840298; Wed, 2 Jul 2025 00:36:44 +0200 (CEST) Received: from mail-pl1-f226.google.com (mail-pl1-f226.google.com [209.85.214.226]) by mails.dpdk.org (Postfix) with ESMTP id DAE0840298 for ; Wed, 2 Jul 2025 00:36:42 +0200 (CEST) Received: by mail-pl1-f226.google.com with SMTP id d9443c01a7336-234f17910d8so60274125ad.3 for ; Tue, 01 Jul 2025 15:36:42 -0700 (PDT) DKIM-Signature: v=1; a=rsa-sha256; c=relaxed/relaxed; d=iol.unh.edu; s=unh-iol; t=1751409402; x=1752014202; darn=dpdk.org; h=references:in-reply-to:cc:to:from:subject:message-id:date:from:to :cc:subject:date:message-id:reply-to; bh=pHCNfFOoiM2BsoUMJhV8+yPpsKeFkYjkhcCUWnsw15U=; b=KoVYqLTCXanAwZxc6unXes/xCDEOYGkiBIk2LwZWqlx6qcub2w7vLll5XAygYd9r3a PugpAN6OYuIlidVYMPh674xE+Prh9/RFMGCceJcWvz3aRKLnxvvoy0CA6Y51q2K+0CwD D8LfmvB2KftKvPWQrPrCq7N7EQ14rDTqYTKR4= X-Google-DKIM-Signature: v=1; a=rsa-sha256; c=relaxed/relaxed; d=1e100.net; s=20230601; t=1751409402; x=1752014202; h=references:in-reply-to:cc:to:from:subject:message-id:date :x-gm-message-state:from:to:cc:subject:date:message-id:reply-to; bh=pHCNfFOoiM2BsoUMJhV8+yPpsKeFkYjkhcCUWnsw15U=; b=TvKlMDSJ0U5F4y0EP9jGeDCIjU8t2d7+wV/2qITqB6N554nCqAW8mv6jqQi95fpGuj izQphQ6j0pEGbisj9ZvmAgHi+7OvYwvHUmLhZeu9Ar/ei9PqCBXQ1dU+7bnXGw7NrgL1 ojUhDANZiunKCqoIl7I043FFDHs6nN/BMaXm48qsbZm+5ENMjVLOPkxPMpxxXdiI9IXU CeLt9nx+sO9TeQBcJ79GU2E4vZjQJrn32tDX52gqvDFM9P0csTl5/WQpCGoi12izG6LS PzNswcCUVAFgS1uJ3Wr1RhZNEzF+nHOwR8gtS1sHCuI0qFeRH0V031K+4kHKHaZVcUVk hYFg== X-Gm-Message-State: AOJu0YwFl1LqLS1jGCutVAhXmXXf9dVp5ek9Luw4hgnDajG5d/gfPrxZ mzZyRRgcO2bQfdH9yXMtKgIzbpiIi+qHjKbHWE13z4NRxYQswsttyCUocnEP+8lK1yKmYC1BHAx UAh4uPJATs1uyzi3URm1a7SOQeKjJs4XzsZi8tjAEs8NkHIgkqXycZEOtlvIp X-Gm-Gg: ASbGnctq+etwzSwsYieRx4dAolTzClfBmlAbd1nGN+iuuFCevliPyDfvUqlevuxw9FC kFjLoplzmDE7ZJPa0+/18oXpEgOLysdd/t3WVFGwJboYt9J/xmRsQSW14d6a/avajWEHttgPK4R mPU9AvRMkm1BAHH/Bw+kLDH8hr4BXLLNEyJBYgjW3/Azbm2f4u6/4Fz152114jV6tRL/Ojk68dD SqKM5zzRf76L9ztwF6TkmNpfO3efFbmxU2CM5+OTfK3lFk8RVO0Ei7nKnrMcV01skhLosfDDnnX /a/QSOPB1C7t1zGME7zbASVzylopks84jkIsSQKnHwf9D8o= X-Google-Smtp-Source: AGHT+IGJR86QQbpaxk41cW59Soan1KYsJZsfxeCintQV2E1+d9BbQ4zC3lS6dXVm3iUezlgE2axeakc/Q+Od X-Received: by 2002:a17:902:e786:b0:234:c549:d9dd with SMTP id d9443c01a7336-23c6e6312d6mr5748035ad.48.1751409401916; Tue, 01 Jul 2025 15:36:41 -0700 (PDT) Received: from postal.iol.unh.edu (postal.iol.unh.edu. [2606:4100:3880:1234::84]) by smtp-relay.gmail.com with ESMTPS id d9443c01a7336-23acb34efffsm6177225ad.76.2025.07.01.15.36.41 (version=TLS1_2 cipher=ECDHE-ECDSA-AES128-GCM-SHA256 bits=128/128); Tue, 01 Jul 2025 15:36:41 -0700 (PDT) X-Relaying-Domain: iol.unh.edu Date: Tue, 01 Jul 2025 15:36:41 -0700 (PDT) Message-ID: <686462f9.170a0220.cf00f.3e81SMTPIN_ADDED_MISSING@mx.google.com> Received: from [172.21.0.5] (unknown [172.18.0.240]) by postal.iol.unh.edu (Postfix) with ESMTP id 2846F6051830; Tue, 1 Jul 2025 18:36:41 -0400 (EDT) Subject: |SUCCESS| pw154913 [PATCH] test/event: disable vector adapter test From: dpdklab@iol.unh.edu To: Test Report Cc: dpdk-test-reports@iol.unh.edu In-Reply-To: <20250701131524.2493132-1-thomas@monjalon.net> References: <20250701131524.2493132-1-thomas@monjalon.net> Content-Type: text/plain X-BeenThere: test-report@dpdk.org X-Mailman-Version: 2.1.29 Precedence: list List-Id: automatic DPDK test reports List-Unsubscribe: , List-Archive: List-Post: List-Help: List-Subscribe: , Errors-To: test-report-bounces@dpdk.org Test-Label: iol-abi-testing Test-Status: SUCCESS http://dpdk.org/patch/154913 _Testing PASS_ Submitter: Thomas Monjalon Date: Tuesday, July 01 2025 13:15:24 DPDK git baseline: Repo:dpdk Branch: master CommitID:20460dcffd08a4680f881c39916ae783ee830374 154913 --> testing pass Upstream job id: Generic-DPDK-Compile-ABI#132619 Test environment and result as below: +-------------------------------+----------+ | Environment | abi_test | +===============================+==========+ | CentOS Stream 9 | PASS | +-------------------------------+----------+ | CentOS Stream 10 | PASS | +-------------------------------+----------+ | Debian GNU/Linux 12 | PASS | +-------------------------------+----------+ | Fedora Linux 40 | PASS | +-------------------------------+----------+ | openSUSE Leap 15.6 | PASS | +-------------------------------+----------+ | Red Hat Enterprise Linux 8.10 | PASS | +-------------------------------+----------+ | Fedora Linux 41 | PASS | +-------------------------------+----------+ | Red Hat Enterprise Linux 9.5 | PASS | +-------------------------------+----------+ | Ubuntu 24.04 | PASS | +-------------------------------+----------+ | Ubuntu 22.04 | PASS | +-------------------------------+----------+ CentOS Stream 9 Kernel: 5.15 Compiler: gcc gcc (GCC) 11.5.0 20240719 (Red Hat 11.5.0-7) CentOS Stream 10 Kernel: 5.15 Compiler: gcc gcc (GCC) 14.2.1 20250110 (Red Hat 14.2.1-8) Debian GNU/Linux 12 Kernel: 5.15 Compiler: gcc gcc (Debian 12.2.0-14+deb12u1) 12.2.0 Fedora Linux 40 Kernel: 5.15 Compiler: clang gcc (GCC) 14.2.1 20240912 (Red Hat 14.2.1-3) openSUSE Leap 15.6 Kernel: 5.15 Compiler: gcc gcc (SUSE Linux) 7.5.0 Red Hat Enterprise Linux 8.10 Kernel: 5.15 Compiler: gcc gcc (GCC) 8.5.0 20210514 (Red Hat 8.5.0-22) Fedora Linux 41 Kernel: 5.15 Compiler: clang gcc (GCC) 14.3.1 20250523 (Red Hat 14.3.1-1) Red Hat Enterprise Linux 9.5 Kernel: 5.15 Compiler: gcc gcc (GCC) 11.5.0 20240719 (Red Hat 11.5.0-2) Ubuntu 24.04 Kernel: 5.15 Compiler: gcc gcc (Ubuntu 13.3.0-6ubuntu2~24.04) 13.3.0 Ubuntu 22.04 Kernel: 5.15 Compiler: gcc gcc (Ubuntu 11.4.0-1ubuntu1~22.04) 11.4.0 To view detailed results, visit: https://lab.dpdk.org/results/dashboard/patchsets/33556/ UNH-IOL DPDK Community Lab To manage your email subscriptions, visit: https://lab.dpdk.org/results/dashboard/preferences/subscriptions/