From mboxrd@z Thu Jan 1 00:00:00 1970 Return-Path: Received: from mails.dpdk.org (mails.dpdk.org [217.70.189.124]) by inbox.dpdk.org (Postfix) with ESMTP id 7305746ADB for ; Wed, 2 Jul 2025 00:37:06 +0200 (CEST) Received: from mails.dpdk.org (localhost [127.0.0.1]) by mails.dpdk.org (Postfix) with ESMTP id 6CBF040298; Wed, 2 Jul 2025 00:37:06 +0200 (CEST) Received: from mail-yb1-f228.google.com (mail-yb1-f228.google.com [209.85.219.228]) by mails.dpdk.org (Postfix) with ESMTP id D4A8B40298 for ; Wed, 2 Jul 2025 00:37:04 +0200 (CEST) Received: by mail-yb1-f228.google.com with SMTP id 3f1490d57ef6-e82314f9a51so4074860276.0 for ; Tue, 01 Jul 2025 15:37:04 -0700 (PDT) DKIM-Signature: v=1; a=rsa-sha256; c=relaxed/relaxed; d=iol.unh.edu; s=unh-iol; t=1751409424; x=1752014224; darn=dpdk.org; h=references:in-reply-to:cc:to:from:subject:message-id:date:from:to :cc:subject:date:message-id:reply-to; bh=AxlxbVEN98NFZH6AGKDZkZ8J0SLspfaqg/XVNGS0Quo=; b=Ksxmvz4h8ryweF9Gdgr3Gy0nX6fCpyE5SaQORHAGpn6qN6LIi2y+pbacRDlk4/hpe/ NssVfifoA+ALcp2Qj0cQGD6ku5ofMGiA48ImmYqWFOwRF082ECYGhlVOE0Dw6xKtHmOf fWuJNMp9VGUGzJMzt91m8k7RaPKXmB6okfZaU= X-Google-DKIM-Signature: v=1; a=rsa-sha256; c=relaxed/relaxed; d=1e100.net; s=20230601; t=1751409424; x=1752014224; h=references:in-reply-to:cc:to:from:subject:message-id:date :x-gm-message-state:from:to:cc:subject:date:message-id:reply-to; bh=AxlxbVEN98NFZH6AGKDZkZ8J0SLspfaqg/XVNGS0Quo=; b=v2K4kvrZZjin4KaVrpErcxW9NfHEo4OlImKR36rJXNPJB298rQ9aNdIZfHi0hJi14J eoYzJM+77yHyXa4amYnaKxjLZPMVob/WURj7LPvW5nu4gjnbQiFT5fu7ulBloo/iwQSh oPXpewT4VOfzQ3I/A4mxhocRTwYEv+kXjpELbXNdQWhxqfPHNRU12q8BieWse9SBW0Tf L5ZS1kI3cT1T1H9gmuGO1mIMkgTCPgkC0VrFweFLnci02zaQ1PcqXu3SzNYcO0pR3eGS F+QKax5fG8MjAgF5hT6h1QRLrbHERbzcpBUYsP2DqaPipjv3yVxKM8vGirqohumzt0Rm PPTw== X-Gm-Message-State: AOJu0Yxmp/ZQt9qOCwc2fXGdObdKrIZf6J8yJ9h5sX97ZgBZ/xMcFqyx /m8R1uu5Ixh4bSeadBXIiD1EmLyGVbmi6XcIDKntfKbz1TRqLoaghtTgkIaa19f6uWKn+fwF0M+ gQ2v4eqGywUIf9uorxO2kCfLB5snLLVFvijOR5H17jWuBmyi8IuUiyFNrySSf X-Gm-Gg: ASbGncsCtS+xex1XNbEl3PYHav+1UEn0nrK81imxWOYuX45hwmFc57REnPRGHtP3fUy CB0XS7J2VSPyDW0dEKC5hBwoQgS5CG/zO5od9HBZM8cm/mjJyzsI2d5zNwIXvkfYSphRDxbaDPp wtXWcJZgzxKSuy/ZCsgDsDc4YcK47morb+bjpbfr7aUGCRv+PBHr+vTkfMkufgDMzXGIECN78sz oQS+K/ySyxGY6n77vfWAyT/Co83/96A/gsvRyRU54+ua6iPmWDtAuUZAKg/gGEr2UaZBHI3sJpp K2w7N81sjWUpOlKM1jLqi04Dr7sYbQQXkk+ptQRjsEGLQwA= X-Google-Smtp-Source: AGHT+IHW3nZSzT1aT+l8iTavPtBXVQrO3P9D2ft7+qbKcPK7l7m+AYLKhiwV0H5MJzks66rywUH8XSq6HaKD X-Received: by 2002:a05:690c:10d:b0:70f:83ef:ddeb with SMTP id 00721157ae682-7164d572bf3mr6594417b3.34.1751409424105; Tue, 01 Jul 2025 15:37:04 -0700 (PDT) Received: from postal.iol.unh.edu (postal.iol.unh.edu. [2606:4100:3880:1234::84]) by smtp-relay.gmail.com with ESMTPS id 00721157ae682-71515be157csm3965767b3.11.2025.07.01.15.37.04 (version=TLS1_2 cipher=ECDHE-ECDSA-AES128-GCM-SHA256 bits=128/128); Tue, 01 Jul 2025 15:37:04 -0700 (PDT) X-Relaying-Domain: iol.unh.edu Date: Tue, 01 Jul 2025 15:37:04 -0700 (PDT) Message-ID: <68646310.050a0220.a2328.595cSMTPIN_ADDED_MISSING@mx.google.com> Received: from [172.21.0.5] (unknown [172.18.0.240]) by postal.iol.unh.edu (Postfix) with ESMTP id 7FBC26051830; Tue, 1 Jul 2025 18:37:03 -0400 (EDT) Subject: |SUCCESS| pw154913 [PATCH] test/event: disable vector adapter test From: dpdklab@iol.unh.edu To: Test Report Cc: dpdk-test-reports@iol.unh.edu In-Reply-To: <20250701131524.2493132-1-thomas@monjalon.net> References: <20250701131524.2493132-1-thomas@monjalon.net> Content-Type: text/plain X-BeenThere: test-report@dpdk.org X-Mailman-Version: 2.1.29 Precedence: list List-Id: automatic DPDK test reports List-Unsubscribe: , List-Archive: List-Post: List-Help: List-Subscribe: , Errors-To: test-report-bounces@dpdk.org Test-Label: iol-abi-testing Test-Status: SUCCESS http://dpdk.org/patch/154913 _Testing PASS_ Submitter: Thomas Monjalon Date: Tuesday, July 01 2025 13:15:24 DPDK git baseline: Repo:dpdk Branch: master CommitID:20460dcffd08a4680f881c39916ae783ee830374 154913 --> testing pass Upstream job id: Generic-DPDK-Compile-ABI#132613 Test environment and result as below: +-------------------------------+----------+ | Environment | abi_test | +===============================+==========+ | CentOS Stream 9 | PASS | +-------------------------------+----------+ | CentOS Stream 10 | PASS | +-------------------------------+----------+ | Debian GNU/Linux 12 | PASS | +-------------------------------+----------+ | Fedora Linux 40 | PASS | +-------------------------------+----------+ | openSUSE Leap 15.6 | PASS | +-------------------------------+----------+ | Red Hat Enterprise Linux 8.10 | PASS | +-------------------------------+----------+ | Fedora Linux 41 | PASS | +-------------------------------+----------+ | Red Hat Enterprise Linux 9.5 | PASS | +-------------------------------+----------+ | Ubuntu 24.04 | PASS | +-------------------------------+----------+ | Ubuntu 22.04 | PASS | +-------------------------------+----------+ CentOS Stream 9 Kernel: 5.15 Compiler: gcc gcc (GCC) 11.5.0 20240719 (Red Hat 11.5.0-7) CentOS Stream 10 Kernel: 5.15 Compiler: gcc gcc (GCC) 14.2.1 20250110 (Red Hat 14.2.1-8) Debian GNU/Linux 12 Kernel: 5.15 Compiler: gcc gcc (Debian 12.2.0-14+deb12u1) 12.2.0 Fedora Linux 40 Kernel: 5.15 Compiler: clang gcc (GCC) 14.2.1 20240912 (Red Hat 14.2.1-3) openSUSE Leap 15.6 Kernel: 5.15 Compiler: gcc gcc (SUSE Linux) 7.5.0 Red Hat Enterprise Linux 8.10 Kernel: 5.15 Compiler: gcc gcc (GCC) 8.5.0 20210514 (Red Hat 8.5.0-22) Fedora Linux 41 Kernel: 5.15 Compiler: clang gcc (GCC) 14.3.1 20250523 (Red Hat 14.3.1-1) Red Hat Enterprise Linux 9.5 Kernel: 5.15 Compiler: gcc gcc (GCC) 11.5.0 20240719 (Red Hat 11.5.0-2) Ubuntu 24.04 Kernel: 5.15 Compiler: gcc gcc (Ubuntu 13.3.0-6ubuntu2~24.04) 13.3.0 Ubuntu 22.04 Kernel: 5.15 Compiler: gcc gcc (Ubuntu 11.4.0-1ubuntu1~22.04) 11.4.0 To view detailed results, visit: https://lab.dpdk.org/results/dashboard/patchsets/33556/ UNH-IOL DPDK Community Lab To manage your email subscriptions, visit: https://lab.dpdk.org/results/dashboard/preferences/subscriptions/